BEGIN:VCALENDAR
VERSION:2.0
PRODID:-//Calendrier des brocantes - ECPv6.15.20//NONSGML v1.0//EN
CALSCALE:GREGORIAN
METHOD:PUBLISH
X-ORIGINAL-URL:https://www.calendrierdesbrocantes.fr
X-WR-CALDESC:Évènements pour Calendrier des brocantes
REFRESH-INTERVAL;VALUE=DURATION:PT1H
X-Robots-Tag:noindex
X-PUBLISHED-TTL:PT1H
BEGIN:VTIMEZONE
TZID:Europe/Paris
BEGIN:DAYLIGHT
TZOFFSETFROM:+0100
TZOFFSETTO:+0200
TZNAME:CEST
DTSTART:20250330T010000
END:DAYLIGHT
BEGIN:STANDARD
TZOFFSETFROM:+0200
TZOFFSETTO:+0100
TZNAME:CET
DTSTART:20251026T010000
END:STANDARD
BEGIN:DAYLIGHT
TZOFFSETFROM:+0100
TZOFFSETTO:+0200
TZNAME:CEST
DTSTART:20260329T010000
END:DAYLIGHT
BEGIN:STANDARD
TZOFFSETFROM:+0200
TZOFFSETTO:+0100
TZNAME:CET
DTSTART:20261025T010000
END:STANDARD
BEGIN:DAYLIGHT
TZOFFSETFROM:+0100
TZOFFSETTO:+0200
TZNAME:CEST
DTSTART:20270328T010000
END:DAYLIGHT
BEGIN:STANDARD
TZOFFSETFROM:+0200
TZOFFSETTO:+0100
TZNAME:CET
DTSTART:20271031T010000
END:STANDARD
BEGIN:DAYLIGHT
TZOFFSETFROM:+0100
TZOFFSETTO:+0200
TZNAME:CEST
DTSTART:20280326T010000
END:DAYLIGHT
BEGIN:STANDARD
TZOFFSETFROM:+0200
TZOFFSETTO:+0100
TZNAME:CET
DTSTART:20281029T010000
END:STANDARD
END:VTIMEZONE
BEGIN:VEVENT
DTSTART;TZID=Europe/Paris:20260503T050000
DTEND;TZID=Europe/Paris:20260503T130000
DTSTAMP:20260420T113152
CREATED:20260419T211514Z
LAST-MODIFIED:20260419T211514Z
UID:10026019-1777784400-1777813200@www.calendrierdesbrocantes.fr
SUMMARY:Vide greniers de Saint Péray
DESCRIPTION:Bienvenue sur calendrier des brocantes.\n  \nLe site est actuellement en phase de modernisation\, donc en reconstruction.\n\n  \n\nMerci de patienter quelques jours le temps pour nous de le construire et de vous apporter le meilleur avec des nouvelles pages plus conviviale.
URL:https://www.calendrierdesbrocantes.fr/event/vide-greniers-de-saint-peray-2/2026-05-03/
LOCATION:Saint-Peray\, Saint-Peray\, 07130\, France
CATEGORIES:Vide-greniers
GEO:44.944816;4.841903
END:VEVENT
BEGIN:VEVENT
DTSTART;TZID=Europe/Paris:20260607T050000
DTEND;TZID=Europe/Paris:20260607T130000
DTSTAMP:20260420T113152
CREATED:20260419T211514Z
LAST-MODIFIED:20260419T211514Z
UID:10026020-1780808400-1780837200@www.calendrierdesbrocantes.fr
SUMMARY:Vide greniers de Saint Péray
DESCRIPTION:Bienvenue sur calendrier des brocantes.\n  \nLe site est actuellement en phase de modernisation\, donc en reconstruction.\n\n  \n\nMerci de patienter quelques jours le temps pour nous de le construire et de vous apporter le meilleur avec des nouvelles pages plus conviviale.
URL:https://www.calendrierdesbrocantes.fr/event/vide-greniers-de-saint-peray-2/2026-06-07/
LOCATION:Saint-Peray\, Saint-Peray\, 07130\, France
CATEGORIES:Vide-greniers
GEO:44.944816;4.841903
END:VEVENT
BEGIN:VEVENT
DTSTART;TZID=Europe/Paris:20260705T050000
DTEND;TZID=Europe/Paris:20260705T130000
DTSTAMP:20260420T113152
CREATED:20260419T211514Z
LAST-MODIFIED:20260419T211514Z
UID:10026021-1783227600-1783256400@www.calendrierdesbrocantes.fr
SUMMARY:Vide greniers de Saint Péray
DESCRIPTION:Bienvenue sur calendrier des brocantes.\n  \nLe site est actuellement en phase de modernisation\, donc en reconstruction.\n\n  \n\nMerci de patienter quelques jours le temps pour nous de le construire et de vous apporter le meilleur avec des nouvelles pages plus conviviale.
URL:https://www.calendrierdesbrocantes.fr/event/vide-greniers-de-saint-peray-2/2026-07-05/
LOCATION:Saint-Peray\, Saint-Peray\, 07130\, France
CATEGORIES:Vide-greniers
GEO:44.944816;4.841903
END:VEVENT
BEGIN:VEVENT
DTSTART;TZID=Europe/Paris:20260802T050000
DTEND;TZID=Europe/Paris:20260802T130000
DTSTAMP:20260420T113152
CREATED:20260419T211514Z
LAST-MODIFIED:20260419T211514Z
UID:10026022-1785646800-1785675600@www.calendrierdesbrocantes.fr
SUMMARY:Vide greniers de Saint Péray
DESCRIPTION:Bienvenue sur calendrier des brocantes.\n  \nLe site est actuellement en phase de modernisation\, donc en reconstruction.\n\n  \n\nMerci de patienter quelques jours le temps pour nous de le construire et de vous apporter le meilleur avec des nouvelles pages plus conviviale.
URL:https://www.calendrierdesbrocantes.fr/event/vide-greniers-de-saint-peray-2/2026-08-02/
LOCATION:Saint-Peray\, Saint-Peray\, 07130\, France
CATEGORIES:Vide-greniers
GEO:44.944816;4.841903
END:VEVENT
BEGIN:VEVENT
DTSTART;TZID=Europe/Paris:20260906T050000
DTEND;TZID=Europe/Paris:20260906T130000
DTSTAMP:20260420T113152
CREATED:20260419T211514Z
LAST-MODIFIED:20260419T211514Z
UID:10026023-1788670800-1788699600@www.calendrierdesbrocantes.fr
SUMMARY:Vide greniers de Saint Péray
DESCRIPTION:Bienvenue sur calendrier des brocantes.\n  \nLe site est actuellement en phase de modernisation\, donc en reconstruction.\n\n  \n\nMerci de patienter quelques jours le temps pour nous de le construire et de vous apporter le meilleur avec des nouvelles pages plus conviviale.
URL:https://www.calendrierdesbrocantes.fr/event/vide-greniers-de-saint-peray-2/2026-09-06/
LOCATION:Saint-Peray\, Saint-Peray\, 07130\, France
CATEGORIES:Vide-greniers
GEO:44.944816;4.841903
END:VEVENT
BEGIN:VEVENT
DTSTART;TZID=Europe/Paris:20261004T050000
DTEND;TZID=Europe/Paris:20261004T130000
DTSTAMP:20260420T113152
CREATED:20260419T211514Z
LAST-MODIFIED:20260419T211514Z
UID:10026024-1791090000-1791118800@www.calendrierdesbrocantes.fr
SUMMARY:Vide greniers de Saint Péray
DESCRIPTION:Bienvenue sur calendrier des brocantes.\n  \nLe site est actuellement en phase de modernisation\, donc en reconstruction.\n\n  \n\nMerci de patienter quelques jours le temps pour nous de le construire et de vous apporter le meilleur avec des nouvelles pages plus conviviale.
URL:https://www.calendrierdesbrocantes.fr/event/vide-greniers-de-saint-peray-2/2026-10-04/
LOCATION:Saint-Peray\, Saint-Peray\, 07130\, France
CATEGORIES:Vide-greniers
GEO:44.944816;4.841903
END:VEVENT
BEGIN:VEVENT
DTSTART;TZID=Europe/Paris:20261101T050000
DTEND;TZID=Europe/Paris:20261101T130000
DTSTAMP:20260420T113152
CREATED:20260419T211514Z
LAST-MODIFIED:20260419T211514Z
UID:10026025-1793509200-1793538000@www.calendrierdesbrocantes.fr
SUMMARY:Vide greniers de Saint Péray
DESCRIPTION:Bienvenue sur calendrier des brocantes.\n  \nLe site est actuellement en phase de modernisation\, donc en reconstruction.\n\n  \n\nMerci de patienter quelques jours le temps pour nous de le construire et de vous apporter le meilleur avec des nouvelles pages plus conviviale.
URL:https://www.calendrierdesbrocantes.fr/event/vide-greniers-de-saint-peray-2/2026-11-01/
LOCATION:Saint-Peray\, Saint-Peray\, 07130\, France
CATEGORIES:Vide-greniers
GEO:44.944816;4.841903
END:VEVENT
BEGIN:VEVENT
DTSTART;TZID=Europe/Paris:20261206T050000
DTEND;TZID=Europe/Paris:20261206T130000
DTSTAMP:20260420T113152
CREATED:20260419T211514Z
LAST-MODIFIED:20260419T211514Z
UID:10026026-1796533200-1796562000@www.calendrierdesbrocantes.fr
SUMMARY:Vide greniers de Saint Péray
DESCRIPTION:Bienvenue sur calendrier des brocantes.\n  \nLe site est actuellement en phase de modernisation\, donc en reconstruction.\n\n  \n\nMerci de patienter quelques jours le temps pour nous de le construire et de vous apporter le meilleur avec des nouvelles pages plus conviviale.
URL:https://www.calendrierdesbrocantes.fr/event/vide-greniers-de-saint-peray-2/2026-12-06/
LOCATION:Saint-Peray\, Saint-Peray\, 07130\, France
CATEGORIES:Vide-greniers
GEO:44.944816;4.841903
END:VEVENT
BEGIN:VEVENT
DTSTART;TZID=Europe/Paris:20270103T050000
DTEND;TZID=Europe/Paris:20270103T130000
DTSTAMP:20260420T113152
CREATED:20260419T211514Z
LAST-MODIFIED:20260419T211514Z
UID:10026027-1798952400-1798981200@www.calendrierdesbrocantes.fr
SUMMARY:Vide greniers de Saint Péray
DESCRIPTION:Bienvenue sur calendrier des brocantes.\n  \nLe site est actuellement en phase de modernisation\, donc en reconstruction.\n\n  \n\nMerci de patienter quelques jours le temps pour nous de le construire et de vous apporter le meilleur avec des nouvelles pages plus conviviale.
URL:https://www.calendrierdesbrocantes.fr/event/vide-greniers-de-saint-peray-2/2027-01-03/
LOCATION:Saint-Peray\, Saint-Peray\, 07130\, France
CATEGORIES:Vide-greniers
GEO:44.944816;4.841903
END:VEVENT
BEGIN:VEVENT
DTSTART;TZID=Europe/Paris:20270207T050000
DTEND;TZID=Europe/Paris:20270207T130000
DTSTAMP:20260420T113152
CREATED:20260419T211514Z
LAST-MODIFIED:20260419T211514Z
UID:10026028-1801976400-1802005200@www.calendrierdesbrocantes.fr
SUMMARY:Vide greniers de Saint Péray
DESCRIPTION:Bienvenue sur calendrier des brocantes.\n  \nLe site est actuellement en phase de modernisation\, donc en reconstruction.\n\n  \n\nMerci de patienter quelques jours le temps pour nous de le construire et de vous apporter le meilleur avec des nouvelles pages plus conviviale.
URL:https://www.calendrierdesbrocantes.fr/event/vide-greniers-de-saint-peray-2/2027-02-07/
LOCATION:Saint-Peray\, Saint-Peray\, 07130\, France
CATEGORIES:Vide-greniers
GEO:44.944816;4.841903
END:VEVENT
BEGIN:VEVENT
DTSTART;TZID=Europe/Paris:20270307T050000
DTEND;TZID=Europe/Paris:20270307T130000
DTSTAMP:20260420T113152
CREATED:20260419T211514Z
LAST-MODIFIED:20260419T211514Z
UID:10026029-1804395600-1804424400@www.calendrierdesbrocantes.fr
SUMMARY:Vide greniers de Saint Péray
DESCRIPTION:Bienvenue sur calendrier des brocantes.\n  \nLe site est actuellement en phase de modernisation\, donc en reconstruction.\n\n  \n\nMerci de patienter quelques jours le temps pour nous de le construire et de vous apporter le meilleur avec des nouvelles pages plus conviviale.
URL:https://www.calendrierdesbrocantes.fr/event/vide-greniers-de-saint-peray-2/2027-03-07/
LOCATION:Saint-Peray\, Saint-Peray\, 07130\, France
CATEGORIES:Vide-greniers
GEO:44.944816;4.841903
END:VEVENT
BEGIN:VEVENT
DTSTART;TZID=Europe/Paris:20270404T050000
DTEND;TZID=Europe/Paris:20270404T130000
DTSTAMP:20260420T113152
CREATED:20260419T211514Z
LAST-MODIFIED:20260419T211514Z
UID:10026030-1806814800-1806843600@www.calendrierdesbrocantes.fr
SUMMARY:Vide greniers de Saint Péray
DESCRIPTION:Bienvenue sur calendrier des brocantes.\n  \nLe site est actuellement en phase de modernisation\, donc en reconstruction.\n\n  \n\nMerci de patienter quelques jours le temps pour nous de le construire et de vous apporter le meilleur avec des nouvelles pages plus conviviale.
URL:https://www.calendrierdesbrocantes.fr/event/vide-greniers-de-saint-peray-2/2027-04-04/
LOCATION:Saint-Peray\, Saint-Peray\, 07130\, France
CATEGORIES:Vide-greniers
GEO:44.944816;4.841903
END:VEVENT
BEGIN:VEVENT
DTSTART;TZID=Europe/Paris:20270502T050000
DTEND;TZID=Europe/Paris:20270502T130000
DTSTAMP:20260420T113152
CREATED:20260419T211514Z
LAST-MODIFIED:20260419T211514Z
UID:10026031-1809234000-1809262800@www.calendrierdesbrocantes.fr
SUMMARY:Vide greniers de Saint Péray
DESCRIPTION:Bienvenue sur calendrier des brocantes.\n  \nLe site est actuellement en phase de modernisation\, donc en reconstruction.\n\n  \n\nMerci de patienter quelques jours le temps pour nous de le construire et de vous apporter le meilleur avec des nouvelles pages plus conviviale.
URL:https://www.calendrierdesbrocantes.fr/event/vide-greniers-de-saint-peray-2/2027-05-02/
LOCATION:Saint-Peray\, Saint-Peray\, 07130\, France
CATEGORIES:Vide-greniers
GEO:44.944816;4.841903
END:VEVENT
BEGIN:VEVENT
DTSTART;TZID=Europe/Paris:20270606T050000
DTEND;TZID=Europe/Paris:20270606T130000
DTSTAMP:20260420T113152
CREATED:20260419T211514Z
LAST-MODIFIED:20260419T211514Z
UID:10026032-1812258000-1812286800@www.calendrierdesbrocantes.fr
SUMMARY:Vide greniers de Saint Péray
DESCRIPTION:Bienvenue sur calendrier des brocantes.\n  \nLe site est actuellement en phase de modernisation\, donc en reconstruction.\n\n  \n\nMerci de patienter quelques jours le temps pour nous de le construire et de vous apporter le meilleur avec des nouvelles pages plus conviviale.
URL:https://www.calendrierdesbrocantes.fr/event/vide-greniers-de-saint-peray-2/2027-06-06/
LOCATION:Saint-Peray\, Saint-Peray\, 07130\, France
CATEGORIES:Vide-greniers
GEO:44.944816;4.841903
END:VEVENT
BEGIN:VEVENT
DTSTART;TZID=Europe/Paris:20270704T050000
DTEND;TZID=Europe/Paris:20270704T130000
DTSTAMP:20260420T113152
CREATED:20260419T211514Z
LAST-MODIFIED:20260419T211514Z
UID:10026033-1814677200-1814706000@www.calendrierdesbrocantes.fr
SUMMARY:Vide greniers de Saint Péray
DESCRIPTION:Bienvenue sur calendrier des brocantes.\n  \nLe site est actuellement en phase de modernisation\, donc en reconstruction.\n\n  \n\nMerci de patienter quelques jours le temps pour nous de le construire et de vous apporter le meilleur avec des nouvelles pages plus conviviale.
URL:https://www.calendrierdesbrocantes.fr/event/vide-greniers-de-saint-peray-2/2027-07-04/
LOCATION:Saint-Peray\, Saint-Peray\, 07130\, France
CATEGORIES:Vide-greniers
GEO:44.944816;4.841903
END:VEVENT
BEGIN:VEVENT
DTSTART;TZID=Europe/Paris:20270801T050000
DTEND;TZID=Europe/Paris:20270801T130000
DTSTAMP:20260420T113153
CREATED:20260419T211514Z
LAST-MODIFIED:20260419T211514Z
UID:10026034-1817096400-1817125200@www.calendrierdesbrocantes.fr
SUMMARY:Vide greniers de Saint Péray
DESCRIPTION:Bienvenue sur calendrier des brocantes.\n  \nLe site est actuellement en phase de modernisation\, donc en reconstruction.\n\n  \n\nMerci de patienter quelques jours le temps pour nous de le construire et de vous apporter le meilleur avec des nouvelles pages plus conviviale.
URL:https://www.calendrierdesbrocantes.fr/event/vide-greniers-de-saint-peray-2/2027-08-01/
LOCATION:Saint-Peray\, Saint-Peray\, 07130\, France
CATEGORIES:Vide-greniers
GEO:44.944816;4.841903
END:VEVENT
BEGIN:VEVENT
DTSTART;TZID=Europe/Paris:20270905T050000
DTEND;TZID=Europe/Paris:20270905T130000
DTSTAMP:20260420T113153
CREATED:20260419T211514Z
LAST-MODIFIED:20260419T211514Z
UID:10026035-1820120400-1820149200@www.calendrierdesbrocantes.fr
SUMMARY:Vide greniers de Saint Péray
DESCRIPTION:Bienvenue sur calendrier des brocantes.\n  \nLe site est actuellement en phase de modernisation\, donc en reconstruction.\n\n  \n\nMerci de patienter quelques jours le temps pour nous de le construire et de vous apporter le meilleur avec des nouvelles pages plus conviviale.
URL:https://www.calendrierdesbrocantes.fr/event/vide-greniers-de-saint-peray-2/2027-09-05/
LOCATION:Saint-Peray\, Saint-Peray\, 07130\, France
CATEGORIES:Vide-greniers
GEO:44.944816;4.841903
END:VEVENT
BEGIN:VEVENT
DTSTART;TZID=Europe/Paris:20271003T050000
DTEND;TZID=Europe/Paris:20271003T130000
DTSTAMP:20260420T113153
CREATED:20260419T211514Z
LAST-MODIFIED:20260419T211514Z
UID:10026036-1822539600-1822568400@www.calendrierdesbrocantes.fr
SUMMARY:Vide greniers de Saint Péray
DESCRIPTION:Bienvenue sur calendrier des brocantes.\n  \nLe site est actuellement en phase de modernisation\, donc en reconstruction.\n\n  \n\nMerci de patienter quelques jours le temps pour nous de le construire et de vous apporter le meilleur avec des nouvelles pages plus conviviale.
URL:https://www.calendrierdesbrocantes.fr/event/vide-greniers-de-saint-peray-2/2027-10-03/
LOCATION:Saint-Peray\, Saint-Peray\, 07130\, France
CATEGORIES:Vide-greniers
GEO:44.944816;4.841903
END:VEVENT
BEGIN:VEVENT
DTSTART;TZID=Europe/Paris:20271107T050000
DTEND;TZID=Europe/Paris:20271107T130000
DTSTAMP:20260420T113153
CREATED:20260419T211514Z
LAST-MODIFIED:20260419T211514Z
UID:10026037-1825563600-1825592400@www.calendrierdesbrocantes.fr
SUMMARY:Vide greniers de Saint Péray
DESCRIPTION:Bienvenue sur calendrier des brocantes.\n  \nLe site est actuellement en phase de modernisation\, donc en reconstruction.\n\n  \n\nMerci de patienter quelques jours le temps pour nous de le construire et de vous apporter le meilleur avec des nouvelles pages plus conviviale.
URL:https://www.calendrierdesbrocantes.fr/event/vide-greniers-de-saint-peray-2/2027-11-07/
LOCATION:Saint-Peray\, Saint-Peray\, 07130\, France
CATEGORIES:Vide-greniers
GEO:44.944816;4.841903
END:VEVENT
END:VCALENDAR