BEGIN:VCALENDAR
VERSION:2.0
PRODID:-//Calendrier des brocantes - ECPv6.15.20//NONSGML v1.0//EN
CALSCALE:GREGORIAN
METHOD:PUBLISH
X-ORIGINAL-URL:https://www.calendrierdesbrocantes.fr
X-WR-CALDESC:Évènements pour Calendrier des brocantes
REFRESH-INTERVAL;VALUE=DURATION:PT1H
X-Robots-Tag:noindex
X-PUBLISHED-TTL:PT1H
BEGIN:VTIMEZONE
TZID:Europe/Paris
BEGIN:DAYLIGHT
TZOFFSETFROM:+0100
TZOFFSETTO:+0200
TZNAME:CEST
DTSTART:20260329T010000
END:DAYLIGHT
BEGIN:STANDARD
TZOFFSETFROM:+0200
TZOFFSETTO:+0100
TZNAME:CET
DTSTART:20261025T010000
END:STANDARD
BEGIN:DAYLIGHT
TZOFFSETFROM:+0100
TZOFFSETTO:+0200
TZNAME:CEST
DTSTART:20270328T010000
END:DAYLIGHT
BEGIN:STANDARD
TZOFFSETFROM:+0200
TZOFFSETTO:+0100
TZNAME:CET
DTSTART:20271031T010000
END:STANDARD
BEGIN:DAYLIGHT
TZOFFSETFROM:+0100
TZOFFSETTO:+0200
TZNAME:CEST
DTSTART:20280326T010000
END:DAYLIGHT
BEGIN:STANDARD
TZOFFSETFROM:+0200
TZOFFSETTO:+0100
TZNAME:CET
DTSTART:20281029T010000
END:STANDARD
END:VTIMEZONE
BEGIN:VEVENT
DTSTART;TZID=Europe/Paris:20271012T080000
DTEND;TZID=Europe/Paris:20271012T180000
DTSTAMP:20260419T203623
CREATED:20260414T221750Z
LAST-MODIFIED:20260414T221750Z
UID:10021902-1823328000-1823364000@www.calendrierdesbrocantes.fr
SUMMARY:Brocante de la Rochelle
DESCRIPTION:Brocante de la Rochelle \n\n\n\n\na lieu tous les mardi \,jeudi \, samedi des brocanteurs professionnels exposent \, belle brocante \, petits meubles \, tableaux \, divers objets décoratifs \, objets de vitrines anciens \, objets de collections \, bric a brac\, bouquinistes…
URL:https://www.calendrierdesbrocantes.fr/event/brocante-de-la-rochelle-3/2027-10-12/
LOCATION:La Rochelle\, Place du Commandant de la Motte Rouge\, La rochelle\, 17000\, France
CATEGORIES:Brocante
GEO:46.1556876;-1.1491288
X-APPLE-STRUCTURED-LOCATION;VALUE=URI;X-ADDRESS=La Rochelle Place du Commandant de la Motte Rouge La rochelle 17000 France;X-APPLE-RADIUS=500;X-TITLE=Place du Commandant de la Motte Rouge:geo:-1.1491288,46.1556876
END:VEVENT
BEGIN:VEVENT
DTSTART;TZID=Europe/Paris:20271012T080000
DTEND;TZID=Europe/Paris:20271012T183000
DTSTAMP:20260419T203623
CREATED:20260325T181816Z
LAST-MODIFIED:20260325T182621Z
UID:10015700-1823328000-1823365800@www.calendrierdesbrocantes.fr
SUMMARY:Brocante de Chauvigny
DESCRIPTION:Brocante de Chauvigny\nPlace du marché\, centre ville\nEntrée gratuite\nBrocante centre-ville de professionnels – particuliers proposant de la brocante.
URL:https://www.calendrierdesbrocantes.fr/event/brocante-de-chauvigny/2027-10-12/
LOCATION:Chauvigny\, Place de la Mairie\, Chauvigny\, 86300\, France
CATEGORIES:Brocante
GEO:46.507334;0.77553
X-APPLE-STRUCTURED-LOCATION;VALUE=URI;X-ADDRESS=Chauvigny Place de la Mairie Chauvigny 86300 France;X-APPLE-RADIUS=500;X-TITLE=Place de la Mairie:geo:0.77553,46.507334
END:VEVENT
END:VCALENDAR