BEGIN:VCALENDAR
VERSION:2.0
PRODID:-//Calendrier des brocantes - ECPv6.15.20//NONSGML v1.0//EN
CALSCALE:GREGORIAN
METHOD:PUBLISH
X-ORIGINAL-URL:https://www.calendrierdesbrocantes.fr
X-WR-CALDESC:Évènements pour Calendrier des brocantes
REFRESH-INTERVAL;VALUE=DURATION:PT1H
X-Robots-Tag:noindex
X-PUBLISHED-TTL:PT1H
BEGIN:VTIMEZONE
TZID:Europe/Paris
BEGIN:DAYLIGHT
TZOFFSETFROM:+0100
TZOFFSETTO:+0200
TZNAME:CEST
DTSTART:20270328T010000
END:DAYLIGHT
BEGIN:STANDARD
TZOFFSETFROM:+0200
TZOFFSETTO:+0100
TZNAME:CET
DTSTART:20271031T010000
END:STANDARD
BEGIN:DAYLIGHT
TZOFFSETFROM:+0100
TZOFFSETTO:+0200
TZNAME:CEST
DTSTART:20280326T010000
END:DAYLIGHT
BEGIN:STANDARD
TZOFFSETFROM:+0200
TZOFFSETTO:+0100
TZNAME:CET
DTSTART:20281029T010000
END:STANDARD
BEGIN:DAYLIGHT
TZOFFSETFROM:+0100
TZOFFSETTO:+0200
TZNAME:CEST
DTSTART:20290325T010000
END:DAYLIGHT
BEGIN:STANDARD
TZOFFSETFROM:+0200
TZOFFSETTO:+0100
TZNAME:CET
DTSTART:20291028T010000
END:STANDARD
END:VTIMEZONE
BEGIN:VEVENT
DTSTART;TZID=Europe/Paris:20280612T080000
DTEND;TZID=Europe/Paris:20280612T183000
DTSTAMP:20260420T092412
CREATED:20260325T181816Z
LAST-MODIFIED:20260325T182621Z
UID:10015704-1844409600-1844447400@www.calendrierdesbrocantes.fr
SUMMARY:Brocante de Chauvigny
DESCRIPTION:Brocante de Chauvigny\nPlace du marché\, centre ville\nEntrée gratuite\nBrocante centre-ville de professionnels – particuliers proposant de la brocante.
URL:https://www.calendrierdesbrocantes.fr/event/brocante-de-chauvigny/2028-06-12/
LOCATION:Chauvigny\, Place de la Mairie\, Chauvigny\, 86300\, France
CATEGORIES:Brocante
GEO:46.507334;0.77553
X-APPLE-STRUCTURED-LOCATION;VALUE=URI;X-ADDRESS=Chauvigny Place de la Mairie Chauvigny 86300 France;X-APPLE-RADIUS=500;X-TITLE=Place de la Mairie:geo:0.77553,46.507334
END:VEVENT
END:VCALENDAR