BEGIN:VCALENDAR
VERSION:2.0
PRODID:-//Calendrier des brocantes - ECPv6.15.20//NONSGML v1.0//EN
CALSCALE:GREGORIAN
METHOD:PUBLISH
X-ORIGINAL-URL:https://www.calendrierdesbrocantes.fr
X-WR-CALDESC:Évènements pour Calendrier des brocantes
REFRESH-INTERVAL;VALUE=DURATION:PT1H
X-Robots-Tag:noindex
X-PUBLISHED-TTL:PT1H
BEGIN:VTIMEZONE
TZID:Europe/Paris
BEGIN:DAYLIGHT
TZOFFSETFROM:+0100
TZOFFSETTO:+0200
TZNAME:CEST
DTSTART:20250330T010000
END:DAYLIGHT
BEGIN:STANDARD
TZOFFSETFROM:+0200
TZOFFSETTO:+0100
TZNAME:CET
DTSTART:20251026T010000
END:STANDARD
BEGIN:DAYLIGHT
TZOFFSETFROM:+0100
TZOFFSETTO:+0200
TZNAME:CEST
DTSTART:20260329T010000
END:DAYLIGHT
BEGIN:STANDARD
TZOFFSETFROM:+0200
TZOFFSETTO:+0100
TZNAME:CET
DTSTART:20261025T010000
END:STANDARD
BEGIN:DAYLIGHT
TZOFFSETFROM:+0100
TZOFFSETTO:+0200
TZNAME:CEST
DTSTART:20270328T010000
END:DAYLIGHT
BEGIN:STANDARD
TZOFFSETFROM:+0200
TZOFFSETTO:+0100
TZNAME:CET
DTSTART:20271031T010000
END:STANDARD
END:VTIMEZONE
BEGIN:VEVENT
DTSTART;TZID=Europe/Paris:20261204T080000
DTEND;TZID=Europe/Paris:20261204T160000
DTSTAMP:20260421T113440
CREATED:20260418T221044Z
LAST-MODIFIED:20260418T221044Z
UID:10025576-1796371200-1796400000@www.calendrierdesbrocantes.fr
SUMMARY:Brocante de Menton (professionnel)
DESCRIPTION:Brocante de Menton (professionnel) \nBrocante réservée aux professionnels. Tirage 7 H 30 \nPromenade du Soleil
URL:https://www.calendrierdesbrocantes.fr/event/brocante-de-menton-professionnel/2026-12-04/
LOCATION:France
ATTACH;FMTTYPE=:
END:VEVENT
BEGIN:VEVENT
DTSTART;TZID=Europe/Paris:20261204T080000
DTEND;TZID=Europe/Paris:20261204T160000
DTSTAMP:20260421T113440
CREATED:20260418T221044Z
LAST-MODIFIED:20260418T221044Z
UID:10025576-1796371200-1796400000@www.calendrierdesbrocantes.fr
SUMMARY:Brocante de Menton (professionnel)
DESCRIPTION:Brocante de Menton (professionnel) \nBrocante réservée aux professionnels. Tirage 7 H 30 \nPromenade du Soleil
URL:https://www.calendrierdesbrocantes.fr/event/brocante-de-menton-professionnel/2026-12-04/
LOCATION:France
ATTACH;FMTTYPE=:
END:VEVENT
BEGIN:VEVENT
DTSTART;TZID=Europe/Paris:20261204T080000
DTEND;TZID=Europe/Paris:20261204T160000
DTSTAMP:20260421T113440
CREATED:20260418T221044Z
LAST-MODIFIED:20260418T221044Z
UID:10025576-1796371200-1796400000@www.calendrierdesbrocantes.fr
SUMMARY:Brocante de Menton (professionnel)
DESCRIPTION:Brocante de Menton (professionnel) \nBrocante réservée aux professionnels. Tirage 7 H 30 \nPromenade du Soleil
URL:https://www.calendrierdesbrocantes.fr/event/brocante-de-menton-professionnel/2026-12-04/
LOCATION:France
ATTACH;FMTTYPE=:
END:VEVENT
BEGIN:VEVENT
DTSTART;TZID=Europe/Paris:20261204T080000
DTEND;TZID=Europe/Paris:20261204T160000
DTSTAMP:20260421T113440
CREATED:20260418T221044Z
LAST-MODIFIED:20260418T221044Z
UID:10025576-1796371200-1796400000@www.calendrierdesbrocantes.fr
SUMMARY:Brocante de Menton (professionnel)
DESCRIPTION:Brocante de Menton (professionnel) \nBrocante réservée aux professionnels. Tirage 7 H 30 \nPromenade du Soleil
URL:https://www.calendrierdesbrocantes.fr/event/brocante-de-menton-professionnel/2026-12-04/
LOCATION:France
ATTACH;FMTTYPE=:
END:VEVENT
BEGIN:VEVENT
DTSTART;TZID=Europe/Paris:20261204T080000
DTEND;TZID=Europe/Paris:20261204T160000
DTSTAMP:20260421T113440
CREATED:20260418T221044Z
LAST-MODIFIED:20260418T221044Z
UID:10025576-1796371200-1796400000@www.calendrierdesbrocantes.fr
SUMMARY:Brocante de Menton (professionnel)
DESCRIPTION:Brocante de Menton (professionnel) \nBrocante réservée aux professionnels. Tirage 7 H 30 \nPromenade du Soleil
URL:https://www.calendrierdesbrocantes.fr/event/brocante-de-menton-professionnel/2026-12-04/
LOCATION:France
ATTACH;FMTTYPE=:
END:VEVENT
BEGIN:VEVENT
DTSTART;TZID=Europe/Paris:20261204T080000
DTEND;TZID=Europe/Paris:20261204T160000
DTSTAMP:20260421T113440
CREATED:20260418T221044Z
LAST-MODIFIED:20260418T221044Z
UID:10025576-1796371200-1796400000@www.calendrierdesbrocantes.fr
SUMMARY:Brocante de Menton (professionnel)
DESCRIPTION:Brocante de Menton (professionnel) \nBrocante réservée aux professionnels. Tirage 7 H 30 \nPromenade du Soleil
URL:https://www.calendrierdesbrocantes.fr/event/brocante-de-menton-professionnel/2026-12-04/
LOCATION:France
ATTACH;FMTTYPE=:
END:VEVENT
BEGIN:VEVENT
DTSTART;TZID=Europe/Paris:20261204T080000
DTEND;TZID=Europe/Paris:20261204T160000
DTSTAMP:20260421T113440
CREATED:20260418T221044Z
LAST-MODIFIED:20260418T221044Z
UID:10025576-1796371200-1796400000@www.calendrierdesbrocantes.fr
SUMMARY:Brocante de Menton (professionnel)
DESCRIPTION:Brocante de Menton (professionnel) \nBrocante réservée aux professionnels. Tirage 7 H 30 \nPromenade du Soleil
URL:https://www.calendrierdesbrocantes.fr/event/brocante-de-menton-professionnel/2026-12-04/
LOCATION:France
ATTACH;FMTTYPE=:
END:VEVENT
BEGIN:VEVENT
DTSTART;TZID=Europe/Paris:20261204T080000
DTEND;TZID=Europe/Paris:20261204T160000
DTSTAMP:20260421T113440
CREATED:20260418T221044Z
LAST-MODIFIED:20260418T221044Z
UID:10025576-1796371200-1796400000@www.calendrierdesbrocantes.fr
SUMMARY:Brocante de Menton (professionnel)
DESCRIPTION:Brocante de Menton (professionnel) \nBrocante réservée aux professionnels. Tirage 7 H 30 \nPromenade du Soleil
URL:https://www.calendrierdesbrocantes.fr/event/brocante-de-menton-professionnel/2026-12-04/
LOCATION:France
ATTACH;FMTTYPE=:
END:VEVENT
BEGIN:VEVENT
DTSTART;TZID=Europe/Paris:20261204T080000
DTEND;TZID=Europe/Paris:20261204T160000
DTSTAMP:20260421T113440
CREATED:20260418T221044Z
LAST-MODIFIED:20260418T221044Z
UID:10025576-1796371200-1796400000@www.calendrierdesbrocantes.fr
SUMMARY:Brocante de Menton (professionnel)
DESCRIPTION:Brocante de Menton (professionnel) \nBrocante réservée aux professionnels. Tirage 7 H 30 \nPromenade du Soleil
URL:https://www.calendrierdesbrocantes.fr/event/brocante-de-menton-professionnel/2026-12-04/
LOCATION:France
ATTACH;FMTTYPE=:
END:VEVENT
BEGIN:VEVENT
DTSTART;TZID=Europe/Paris:20261204T080000
DTEND;TZID=Europe/Paris:20261204T160000
DTSTAMP:20260421T113440
CREATED:20260418T221044Z
LAST-MODIFIED:20260418T221044Z
UID:10025576-1796371200-1796400000@www.calendrierdesbrocantes.fr
SUMMARY:Brocante de Menton (professionnel)
DESCRIPTION:Brocante de Menton (professionnel) \nBrocante réservée aux professionnels. Tirage 7 H 30 \nPromenade du Soleil
URL:https://www.calendrierdesbrocantes.fr/event/brocante-de-menton-professionnel/2026-12-04/
LOCATION:France
ATTACH;FMTTYPE=:
END:VEVENT
BEGIN:VEVENT
DTSTART;TZID=Europe/Paris:20261204T080000
DTEND;TZID=Europe/Paris:20261204T160000
DTSTAMP:20260421T113440
CREATED:20260418T221044Z
LAST-MODIFIED:20260418T221044Z
UID:10025576-1796371200-1796400000@www.calendrierdesbrocantes.fr
SUMMARY:Brocante de Menton (professionnel)
DESCRIPTION:Brocante de Menton (professionnel) \nBrocante réservée aux professionnels. Tirage 7 H 30 \nPromenade du Soleil
URL:https://www.calendrierdesbrocantes.fr/event/brocante-de-menton-professionnel/2026-12-04/
LOCATION:France
ATTACH;FMTTYPE=:
END:VEVENT
BEGIN:VEVENT
DTSTART;TZID=Europe/Paris:20261204T080000
DTEND;TZID=Europe/Paris:20261204T160000
DTSTAMP:20260421T113440
CREATED:20260418T221044Z
LAST-MODIFIED:20260418T221044Z
UID:10025576-1796371200-1796400000@www.calendrierdesbrocantes.fr
SUMMARY:Brocante de Menton (professionnel)
DESCRIPTION:Brocante de Menton (professionnel) \nBrocante réservée aux professionnels. Tirage 7 H 30 \nPromenade du Soleil
URL:https://www.calendrierdesbrocantes.fr/event/brocante-de-menton-professionnel/2026-12-04/
LOCATION:France
ATTACH;FMTTYPE=:
END:VEVENT
BEGIN:VEVENT
DTSTART;TZID=Europe/Paris:20261204T080000
DTEND;TZID=Europe/Paris:20261204T160000
DTSTAMP:20260421T113440
CREATED:20260418T221044Z
LAST-MODIFIED:20260418T221044Z
UID:10025576-1796371200-1796400000@www.calendrierdesbrocantes.fr
SUMMARY:Brocante de Menton (professionnel)
DESCRIPTION:Brocante de Menton (professionnel) \nBrocante réservée aux professionnels. Tirage 7 H 30 \nPromenade du Soleil
URL:https://www.calendrierdesbrocantes.fr/event/brocante-de-menton-professionnel/2026-12-04/
LOCATION:France
ATTACH;FMTTYPE=:
END:VEVENT
BEGIN:VEVENT
DTSTART;TZID=Europe/Paris:20261204T080000
DTEND;TZID=Europe/Paris:20261204T160000
DTSTAMP:20260421T113440
CREATED:20260418T221044Z
LAST-MODIFIED:20260418T221044Z
UID:10025576-1796371200-1796400000@www.calendrierdesbrocantes.fr
SUMMARY:Brocante de Menton (professionnel)
DESCRIPTION:Brocante de Menton (professionnel) \nBrocante réservée aux professionnels. Tirage 7 H 30 \nPromenade du Soleil
URL:https://www.calendrierdesbrocantes.fr/event/brocante-de-menton-professionnel/2026-12-04/
LOCATION:France
ATTACH;FMTTYPE=:
END:VEVENT
BEGIN:VEVENT
DTSTART;TZID=Europe/Paris:20261204T080000
DTEND;TZID=Europe/Paris:20261204T160000
DTSTAMP:20260421T113440
CREATED:20260418T221044Z
LAST-MODIFIED:20260418T221044Z
UID:10025576-1796371200-1796400000@www.calendrierdesbrocantes.fr
SUMMARY:Brocante de Menton (professionnel)
DESCRIPTION:Brocante de Menton (professionnel) \nBrocante réservée aux professionnels. Tirage 7 H 30 \nPromenade du Soleil
URL:https://www.calendrierdesbrocantes.fr/event/brocante-de-menton-professionnel/2026-12-04/
LOCATION:France
ATTACH;FMTTYPE=:
END:VEVENT
BEGIN:VEVENT
DTSTART;TZID=Europe/Paris:20261204T080000
DTEND;TZID=Europe/Paris:20261204T160000
DTSTAMP:20260421T113440
CREATED:20260418T221044Z
LAST-MODIFIED:20260418T221044Z
UID:10025576-1796371200-1796400000@www.calendrierdesbrocantes.fr
SUMMARY:Brocante de Menton (professionnel)
DESCRIPTION:Brocante de Menton (professionnel) \nBrocante réservée aux professionnels. Tirage 7 H 30 \nPromenade du Soleil
URL:https://www.calendrierdesbrocantes.fr/event/brocante-de-menton-professionnel/2026-12-04/
LOCATION:France
ATTACH;FMTTYPE=:
END:VEVENT
BEGIN:VEVENT
DTSTART;TZID=Europe/Paris:20261204T080000
DTEND;TZID=Europe/Paris:20261204T160000
DTSTAMP:20260421T113440
CREATED:20260418T221044Z
LAST-MODIFIED:20260418T221044Z
UID:10025576-1796371200-1796400000@www.calendrierdesbrocantes.fr
SUMMARY:Brocante de Menton (professionnel)
DESCRIPTION:Brocante de Menton (professionnel) \nBrocante réservée aux professionnels. Tirage 7 H 30 \nPromenade du Soleil
URL:https://www.calendrierdesbrocantes.fr/event/brocante-de-menton-professionnel/2026-12-04/
LOCATION:France
ATTACH;FMTTYPE=:
END:VEVENT
BEGIN:VEVENT
DTSTART;TZID=Europe/Paris:20261204T080000
DTEND;TZID=Europe/Paris:20261204T160000
DTSTAMP:20260421T113440
CREATED:20260418T221044Z
LAST-MODIFIED:20260418T221044Z
UID:10025576-1796371200-1796400000@www.calendrierdesbrocantes.fr
SUMMARY:Brocante de Menton (professionnel)
DESCRIPTION:Brocante de Menton (professionnel) \nBrocante réservée aux professionnels. Tirage 7 H 30 \nPromenade du Soleil
URL:https://www.calendrierdesbrocantes.fr/event/brocante-de-menton-professionnel/2026-12-04/
LOCATION:France
ATTACH;FMTTYPE=:
END:VEVENT
BEGIN:VEVENT
DTSTART;TZID=Europe/Paris:20261204T080000
DTEND;TZID=Europe/Paris:20261204T160000
DTSTAMP:20260421T113440
CREATED:20260418T221044Z
LAST-MODIFIED:20260418T221044Z
UID:10025576-1796371200-1796400000@www.calendrierdesbrocantes.fr
SUMMARY:Brocante de Menton (professionnel)
DESCRIPTION:Brocante de Menton (professionnel) \nBrocante réservée aux professionnels. Tirage 7 H 30 \nPromenade du Soleil
URL:https://www.calendrierdesbrocantes.fr/event/brocante-de-menton-professionnel/2026-12-04/
LOCATION:France
ATTACH;FMTTYPE=:
END:VEVENT
BEGIN:VEVENT
DTSTART;TZID=Europe/Paris:20261204T080000
DTEND;TZID=Europe/Paris:20261204T160000
DTSTAMP:20260421T113440
CREATED:20260418T221044Z
LAST-MODIFIED:20260418T221044Z
UID:10025576-1796371200-1796400000@www.calendrierdesbrocantes.fr
SUMMARY:Brocante de Menton (professionnel)
DESCRIPTION:Brocante de Menton (professionnel) \nBrocante réservée aux professionnels. Tirage 7 H 30 \nPromenade du Soleil
URL:https://www.calendrierdesbrocantes.fr/event/brocante-de-menton-professionnel/2026-12-04/
LOCATION:France
ATTACH;FMTTYPE=:
END:VEVENT
BEGIN:VEVENT
DTSTART;TZID=Europe/Paris:20261204T080000
DTEND;TZID=Europe/Paris:20261204T160000
DTSTAMP:20260421T113440
CREATED:20260418T221044Z
LAST-MODIFIED:20260418T221044Z
UID:10025576-1796371200-1796400000@www.calendrierdesbrocantes.fr
SUMMARY:Brocante de Menton (professionnel)
DESCRIPTION:Brocante de Menton (professionnel) \nBrocante réservée aux professionnels. Tirage 7 H 30 \nPromenade du Soleil
URL:https://www.calendrierdesbrocantes.fr/event/brocante-de-menton-professionnel/2026-12-04/
LOCATION:France
ATTACH;FMTTYPE=:
END:VEVENT
BEGIN:VEVENT
DTSTART;TZID=Europe/Paris:20261204T080000
DTEND;TZID=Europe/Paris:20261204T160000
DTSTAMP:20260421T113440
CREATED:20260418T221044Z
LAST-MODIFIED:20260418T221044Z
UID:10025576-1796371200-1796400000@www.calendrierdesbrocantes.fr
SUMMARY:Brocante de Menton (professionnel)
DESCRIPTION:Brocante de Menton (professionnel) \nBrocante réservée aux professionnels. Tirage 7 H 30 \nPromenade du Soleil
URL:https://www.calendrierdesbrocantes.fr/event/brocante-de-menton-professionnel/2026-12-04/
LOCATION:France
ATTACH;FMTTYPE=:
END:VEVENT
BEGIN:VEVENT
DTSTART;TZID=Europe/Paris:20261204T080000
DTEND;TZID=Europe/Paris:20261204T160000
DTSTAMP:20260421T113440
CREATED:20260418T221044Z
LAST-MODIFIED:20260418T221044Z
UID:10025576-1796371200-1796400000@www.calendrierdesbrocantes.fr
SUMMARY:Brocante de Menton (professionnel)
DESCRIPTION:Brocante de Menton (professionnel) \nBrocante réservée aux professionnels. Tirage 7 H 30 \nPromenade du Soleil
URL:https://www.calendrierdesbrocantes.fr/event/brocante-de-menton-professionnel/2026-12-04/
LOCATION:France
ATTACH;FMTTYPE=:
END:VEVENT
BEGIN:VEVENT
DTSTART;TZID=Europe/Paris:20261204T080000
DTEND;TZID=Europe/Paris:20261204T160000
DTSTAMP:20260421T113440
CREATED:20260418T221044Z
LAST-MODIFIED:20260418T221044Z
UID:10025576-1796371200-1796400000@www.calendrierdesbrocantes.fr
SUMMARY:Brocante de Menton (professionnel)
DESCRIPTION:Brocante de Menton (professionnel) \nBrocante réservée aux professionnels. Tirage 7 H 30 \nPromenade du Soleil
URL:https://www.calendrierdesbrocantes.fr/event/brocante-de-menton-professionnel/2026-12-04/
LOCATION:France
ATTACH;FMTTYPE=:
END:VEVENT
BEGIN:VEVENT
DTSTART;TZID=Europe/Paris:20261204T080000
DTEND;TZID=Europe/Paris:20261204T160000
DTSTAMP:20260421T113440
CREATED:20260418T221044Z
LAST-MODIFIED:20260418T221044Z
UID:10025576-1796371200-1796400000@www.calendrierdesbrocantes.fr
SUMMARY:Brocante de Menton (professionnel)
DESCRIPTION:Brocante de Menton (professionnel) \nBrocante réservée aux professionnels. Tirage 7 H 30 \nPromenade du Soleil
URL:https://www.calendrierdesbrocantes.fr/event/brocante-de-menton-professionnel/2026-12-04/
LOCATION:France
ATTACH;FMTTYPE=:
END:VEVENT
BEGIN:VEVENT
DTSTART;TZID=Europe/Paris:20261204T080000
DTEND;TZID=Europe/Paris:20261204T160000
DTSTAMP:20260421T113440
CREATED:20260418T221044Z
LAST-MODIFIED:20260418T221044Z
UID:10025576-1796371200-1796400000@www.calendrierdesbrocantes.fr
SUMMARY:Brocante de Menton (professionnel)
DESCRIPTION:Brocante de Menton (professionnel) \nBrocante réservée aux professionnels. Tirage 7 H 30 \nPromenade du Soleil
URL:https://www.calendrierdesbrocantes.fr/event/brocante-de-menton-professionnel/2026-12-04/
LOCATION:France
ATTACH;FMTTYPE=:
END:VEVENT
BEGIN:VEVENT
DTSTART;TZID=Europe/Paris:20261204T080000
DTEND;TZID=Europe/Paris:20261204T160000
DTSTAMP:20260421T113440
CREATED:20260418T221044Z
LAST-MODIFIED:20260418T221044Z
UID:10025576-1796371200-1796400000@www.calendrierdesbrocantes.fr
SUMMARY:Brocante de Menton (professionnel)
DESCRIPTION:Brocante de Menton (professionnel) \nBrocante réservée aux professionnels. Tirage 7 H 30 \nPromenade du Soleil
URL:https://www.calendrierdesbrocantes.fr/event/brocante-de-menton-professionnel/2026-12-04/
LOCATION:France
ATTACH;FMTTYPE=:
END:VEVENT
BEGIN:VEVENT
DTSTART;TZID=Europe/Paris:20261204T080000
DTEND;TZID=Europe/Paris:20261204T160000
DTSTAMP:20260421T113440
CREATED:20260418T221044Z
LAST-MODIFIED:20260418T221044Z
UID:10025576-1796371200-1796400000@www.calendrierdesbrocantes.fr
SUMMARY:Brocante de Menton (professionnel)
DESCRIPTION:Brocante de Menton (professionnel) \nBrocante réservée aux professionnels. Tirage 7 H 30 \nPromenade du Soleil
URL:https://www.calendrierdesbrocantes.fr/event/brocante-de-menton-professionnel/2026-12-04/
LOCATION:France
ATTACH;FMTTYPE=:
END:VEVENT
BEGIN:VEVENT
DTSTART;TZID=Europe/Paris:20261204T080000
DTEND;TZID=Europe/Paris:20261204T160000
DTSTAMP:20260421T113440
CREATED:20260418T221044Z
LAST-MODIFIED:20260418T221044Z
UID:10025576-1796371200-1796400000@www.calendrierdesbrocantes.fr
SUMMARY:Brocante de Menton (professionnel)
DESCRIPTION:Brocante de Menton (professionnel) \nBrocante réservée aux professionnels. Tirage 7 H 30 \nPromenade du Soleil
URL:https://www.calendrierdesbrocantes.fr/event/brocante-de-menton-professionnel/2026-12-04/
LOCATION:France
ATTACH;FMTTYPE=:
END:VEVENT
BEGIN:VEVENT
DTSTART;TZID=Europe/Paris:20261204T080000
DTEND;TZID=Europe/Paris:20261204T160000
DTSTAMP:20260421T113440
CREATED:20260418T221044Z
LAST-MODIFIED:20260418T221044Z
UID:10025576-1796371200-1796400000@www.calendrierdesbrocantes.fr
SUMMARY:Brocante de Menton (professionnel)
DESCRIPTION:Brocante de Menton (professionnel) \nBrocante réservée aux professionnels. Tirage 7 H 30 \nPromenade du Soleil
URL:https://www.calendrierdesbrocantes.fr/event/brocante-de-menton-professionnel/2026-12-04/
LOCATION:France
ATTACH;FMTTYPE=:
END:VEVENT
END:VCALENDAR