BEGIN:VCALENDAR
VERSION:2.0
PRODID:-//Calendrier des brocantes - ECPv6.15.20//NONSGML v1.0//EN
CALSCALE:GREGORIAN
METHOD:PUBLISH
X-WR-CALNAME:Calendrier des brocantes
X-ORIGINAL-URL:https://www.calendrierdesbrocantes.fr
X-WR-CALDESC:Évènements pour Calendrier des brocantes
REFRESH-INTERVAL;VALUE=DURATION:PT1H
X-Robots-Tag:noindex
X-PUBLISHED-TTL:PT1H
BEGIN:VTIMEZONE
TZID:Europe/Paris
BEGIN:DAYLIGHT
TZOFFSETFROM:+0100
TZOFFSETTO:+0200
TZNAME:CEST
DTSTART:20300331T010000
END:DAYLIGHT
BEGIN:STANDARD
TZOFFSETFROM:+0200
TZOFFSETTO:+0100
TZNAME:CET
DTSTART:20301027T010000
END:STANDARD
BEGIN:DAYLIGHT
TZOFFSETFROM:+0100
TZOFFSETTO:+0200
TZNAME:CEST
DTSTART:20310330T010000
END:DAYLIGHT
BEGIN:STANDARD
TZOFFSETFROM:+0200
TZOFFSETTO:+0100
TZNAME:CET
DTSTART:20311026T010000
END:STANDARD
BEGIN:DAYLIGHT
TZOFFSETFROM:+0100
TZOFFSETTO:+0200
TZNAME:CEST
DTSTART:20320328T010000
END:DAYLIGHT
BEGIN:STANDARD
TZOFFSETFROM:+0200
TZOFFSETTO:+0100
TZNAME:CET
DTSTART:20321031T010000
END:STANDARD
END:VTIMEZONE
BEGIN:VEVENT
DTSTART;TZID=Europe/Paris:20310206T083000
DTEND;TZID=Europe/Paris:20310206T190000
DTSTAMP:20260419T235723
CREATED:20260417T220328Z
LAST-MODIFIED:20260417T220518Z
UID:10023182-1928133000-1928170800@www.calendrierdesbrocantes.fr
SUMMARY:Marché des bouquinistes et vinyles
DESCRIPTION:Marché des bouquinistes et vinyles \nTotem\, Place du Bourguet \nTous les jeudis
URL:https://www.calendrierdesbrocantes.fr/event/marche-des-bouquinistes-et-vinyles/2031-02-06/
LOCATION:Forcalquier\, Forcalquier\, 04300\, France
CATEGORIES:Marché des bouquinistes
GEO:43.9594432;5.7808124
END:VEVENT
BEGIN:VEVENT
DTSTART;TZID=Europe/Paris:20310213T083000
DTEND;TZID=Europe/Paris:20310213T190000
DTSTAMP:20260419T235723
CREATED:20260417T220328Z
LAST-MODIFIED:20260417T220518Z
UID:10023183-1928737800-1928775600@www.calendrierdesbrocantes.fr
SUMMARY:Marché des bouquinistes et vinyles
DESCRIPTION:Marché des bouquinistes et vinyles \nTotem\, Place du Bourguet \nTous les jeudis
URL:https://www.calendrierdesbrocantes.fr/event/marche-des-bouquinistes-et-vinyles/2031-02-13/
LOCATION:Forcalquier\, Forcalquier\, 04300\, France
CATEGORIES:Marché des bouquinistes
GEO:43.9594432;5.7808124
END:VEVENT
BEGIN:VEVENT
DTSTART;TZID=Europe/Paris:20310220T083000
DTEND;TZID=Europe/Paris:20310220T190000
DTSTAMP:20260419T235723
CREATED:20260417T220328Z
LAST-MODIFIED:20260417T220518Z
UID:10023184-1929342600-1929380400@www.calendrierdesbrocantes.fr
SUMMARY:Marché des bouquinistes et vinyles
DESCRIPTION:Marché des bouquinistes et vinyles \nTotem\, Place du Bourguet \nTous les jeudis
URL:https://www.calendrierdesbrocantes.fr/event/marche-des-bouquinistes-et-vinyles/2031-02-20/
LOCATION:Forcalquier\, Forcalquier\, 04300\, France
CATEGORIES:Marché des bouquinistes
GEO:43.9594432;5.7808124
END:VEVENT
BEGIN:VEVENT
DTSTART;TZID=Europe/Paris:20310227T083000
DTEND;TZID=Europe/Paris:20310227T190000
DTSTAMP:20260419T235723
CREATED:20260417T220328Z
LAST-MODIFIED:20260417T220518Z
UID:10023185-1929947400-1929985200@www.calendrierdesbrocantes.fr
SUMMARY:Marché des bouquinistes et vinyles
DESCRIPTION:Marché des bouquinistes et vinyles \nTotem\, Place du Bourguet \nTous les jeudis
URL:https://www.calendrierdesbrocantes.fr/event/marche-des-bouquinistes-et-vinyles/2031-02-27/
LOCATION:Forcalquier\, Forcalquier\, 04300\, France
CATEGORIES:Marché des bouquinistes
GEO:43.9594432;5.7808124
END:VEVENT
BEGIN:VEVENT
DTSTART;TZID=Europe/Paris:20310306T083000
DTEND;TZID=Europe/Paris:20310306T190000
DTSTAMP:20260419T235723
CREATED:20260417T220328Z
LAST-MODIFIED:20260417T220518Z
UID:10023186-1930552200-1930590000@www.calendrierdesbrocantes.fr
SUMMARY:Marché des bouquinistes et vinyles
DESCRIPTION:Marché des bouquinistes et vinyles \nTotem\, Place du Bourguet \nTous les jeudis
URL:https://www.calendrierdesbrocantes.fr/event/marche-des-bouquinistes-et-vinyles/2031-03-06/
LOCATION:Forcalquier\, Forcalquier\, 04300\, France
CATEGORIES:Marché des bouquinistes
GEO:43.9594432;5.7808124
END:VEVENT
BEGIN:VEVENT
DTSTART;TZID=Europe/Paris:20310313T083000
DTEND;TZID=Europe/Paris:20310313T190000
DTSTAMP:20260419T235723
CREATED:20260417T220328Z
LAST-MODIFIED:20260417T220518Z
UID:10023187-1931157000-1931194800@www.calendrierdesbrocantes.fr
SUMMARY:Marché des bouquinistes et vinyles
DESCRIPTION:Marché des bouquinistes et vinyles \nTotem\, Place du Bourguet \nTous les jeudis
URL:https://www.calendrierdesbrocantes.fr/event/marche-des-bouquinistes-et-vinyles/2031-03-13/
LOCATION:Forcalquier\, Forcalquier\, 04300\, France
CATEGORIES:Marché des bouquinistes
GEO:43.9594432;5.7808124
END:VEVENT
BEGIN:VEVENT
DTSTART;TZID=Europe/Paris:20310320T083000
DTEND;TZID=Europe/Paris:20310320T190000
DTSTAMP:20260419T235723
CREATED:20260417T220328Z
LAST-MODIFIED:20260417T220518Z
UID:10023188-1931761800-1931799600@www.calendrierdesbrocantes.fr
SUMMARY:Marché des bouquinistes et vinyles
DESCRIPTION:Marché des bouquinistes et vinyles \nTotem\, Place du Bourguet \nTous les jeudis
URL:https://www.calendrierdesbrocantes.fr/event/marche-des-bouquinistes-et-vinyles/2031-03-20/
LOCATION:Forcalquier\, Forcalquier\, 04300\, France
CATEGORIES:Marché des bouquinistes
GEO:43.9594432;5.7808124
END:VEVENT
BEGIN:VEVENT
DTSTART;TZID=Europe/Paris:20310327T083000
DTEND;TZID=Europe/Paris:20310327T190000
DTSTAMP:20260419T235723
CREATED:20260417T220328Z
LAST-MODIFIED:20260417T220518Z
UID:10023189-1932366600-1932404400@www.calendrierdesbrocantes.fr
SUMMARY:Marché des bouquinistes et vinyles
DESCRIPTION:Marché des bouquinistes et vinyles \nTotem\, Place du Bourguet \nTous les jeudis
URL:https://www.calendrierdesbrocantes.fr/event/marche-des-bouquinistes-et-vinyles/2031-03-27/
LOCATION:Forcalquier\, Forcalquier\, 04300\, France
CATEGORIES:Marché des bouquinistes
GEO:43.9594432;5.7808124
END:VEVENT
BEGIN:VEVENT
DTSTART;TZID=Europe/Paris:20310403T083000
DTEND;TZID=Europe/Paris:20310403T190000
DTSTAMP:20260419T235723
CREATED:20260417T220328Z
LAST-MODIFIED:20260417T220518Z
UID:10023190-1932971400-1933009200@www.calendrierdesbrocantes.fr
SUMMARY:Marché des bouquinistes et vinyles
DESCRIPTION:Marché des bouquinistes et vinyles \nTotem\, Place du Bourguet \nTous les jeudis
URL:https://www.calendrierdesbrocantes.fr/event/marche-des-bouquinistes-et-vinyles/2031-04-03/
LOCATION:Forcalquier\, Forcalquier\, 04300\, France
CATEGORIES:Marché des bouquinistes
GEO:43.9594432;5.7808124
END:VEVENT
BEGIN:VEVENT
DTSTART;TZID=Europe/Paris:20310410T083000
DTEND;TZID=Europe/Paris:20310410T190000
DTSTAMP:20260419T235723
CREATED:20260417T220328Z
LAST-MODIFIED:20260417T220518Z
UID:10023191-1933576200-1933614000@www.calendrierdesbrocantes.fr
SUMMARY:Marché des bouquinistes et vinyles
DESCRIPTION:Marché des bouquinistes et vinyles \nTotem\, Place du Bourguet \nTous les jeudis
URL:https://www.calendrierdesbrocantes.fr/event/marche-des-bouquinistes-et-vinyles/2031-04-10/
LOCATION:Forcalquier\, Forcalquier\, 04300\, France
CATEGORIES:Marché des bouquinistes
GEO:43.9594432;5.7808124
END:VEVENT
BEGIN:VEVENT
DTSTART;TZID=Europe/Paris:20310417T083000
DTEND;TZID=Europe/Paris:20310417T190000
DTSTAMP:20260419T235723
CREATED:20260417T220328Z
LAST-MODIFIED:20260417T220518Z
UID:10023192-1934181000-1934218800@www.calendrierdesbrocantes.fr
SUMMARY:Marché des bouquinistes et vinyles
DESCRIPTION:Marché des bouquinistes et vinyles \nTotem\, Place du Bourguet \nTous les jeudis
URL:https://www.calendrierdesbrocantes.fr/event/marche-des-bouquinistes-et-vinyles/2031-04-17/
LOCATION:Forcalquier\, Forcalquier\, 04300\, France
CATEGORIES:Marché des bouquinistes
GEO:43.9594432;5.7808124
END:VEVENT
END:VCALENDAR