BEGIN:VCALENDAR
VERSION:2.0
PRODID:-//Calendrier des brocantes - ECPv6.15.20//NONSGML v1.0//EN
CALSCALE:GREGORIAN
METHOD:PUBLISH
X-WR-CALNAME:Calendrier des brocantes
X-ORIGINAL-URL:https://www.calendrierdesbrocantes.fr
X-WR-CALDESC:Évènements pour Calendrier des brocantes
REFRESH-INTERVAL;VALUE=DURATION:PT1H
X-Robots-Tag:noindex
X-PUBLISHED-TTL:PT1H
BEGIN:VTIMEZONE
TZID:Europe/Paris
BEGIN:DAYLIGHT
TZOFFSETFROM:+0100
TZOFFSETTO:+0200
TZNAME:CEST
DTSTART:20230326T010000
END:DAYLIGHT
BEGIN:STANDARD
TZOFFSETFROM:+0200
TZOFFSETTO:+0100
TZNAME:CET
DTSTART:20231029T010000
END:STANDARD
BEGIN:DAYLIGHT
TZOFFSETFROM:+0100
TZOFFSETTO:+0200
TZNAME:CEST
DTSTART:20240331T010000
END:DAYLIGHT
BEGIN:STANDARD
TZOFFSETFROM:+0200
TZOFFSETTO:+0100
TZNAME:CET
DTSTART:20241027T010000
END:STANDARD
BEGIN:DAYLIGHT
TZOFFSETFROM:+0100
TZOFFSETTO:+0200
TZNAME:CEST
DTSTART:20250330T010000
END:DAYLIGHT
BEGIN:STANDARD
TZOFFSETFROM:+0200
TZOFFSETTO:+0100
TZNAME:CET
DTSTART:20251026T010000
END:STANDARD
BEGIN:DAYLIGHT
TZOFFSETFROM:+0100
TZOFFSETTO:+0200
TZNAME:CEST
DTSTART:20260329T010000
END:DAYLIGHT
BEGIN:STANDARD
TZOFFSETFROM:+0200
TZOFFSETTO:+0100
TZNAME:CET
DTSTART:20261025T010000
END:STANDARD
END:VTIMEZONE
BEGIN:VEVENT
DTSTART;TZID=Europe/Paris:20240915T080000
DTEND;TZID=Europe/Paris:20240915T180000
DTSTAMP:20260420T095901
CREATED:20240324T233743Z
LAST-MODIFIED:20240326T184122Z
UID:10010013-1726387200-1726423200@www.calendrierdesbrocantes.fr
SUMMARY:Brocante de Fournival
DESCRIPTION:Bienvenue sur calendrier des brocantes.\n  \nLe site est actuellement en phase de modernisation\, donc en reconstruction.\n\n  \n\nMerci de patienter quelques jours le temps pour nous de le construire et de vous apporter le meilleur avec des nouvelles pages plus conviviale.
URL:https://www.calendrierdesbrocantes.fr/event/brocante-de-fournival-2/
LOCATION:Fournival\, Grande rue\, Fournival\, 60130\, France
CATEGORIES:Brocante
ORGANIZER;CN="Mairie Fournival":MAILTO:mairie.fournival@orange.fr
GEO:46.227638;2.213749
X-APPLE-STRUCTURED-LOCATION;VALUE=URI;X-ADDRESS=Fournival Grande rue Fournival 60130 France;X-APPLE-RADIUS=500;X-TITLE=Grande rue:geo:2.213749,46.227638
END:VEVENT
BEGIN:VEVENT
DTSTART;TZID=Europe/Paris:20240915T090000
DTEND;TZID=Europe/Paris:20240915T180000
DTSTAMP:20260420T095901
CREATED:20230604T153514Z
LAST-MODIFIED:20230604T161309Z
UID:10001464-1726390800-1726423200@www.calendrierdesbrocantes.fr
SUMMARY:Brocante au Min de Nantes
DESCRIPTION:Bienvenue sur calendrier des brocantes.\n  \nLe site est actuellement en phase de modernisation\, donc en reconstruction.\n\n  \n\nMerci de patienter quelques jours le temps pour nous de le construire et de vous apporter le meilleur avec des nouvelles pages plus conviviale.
URL:https://www.calendrierdesbrocantes.fr/event/brocante-au-min-de-nantes/2024-09-15/
LOCATION:Nantes\, Nantes\, 44000\, France
CATEGORIES:Brocante
ORGANIZER;CN="Dimexpo":MAILTO:plateforme-mindenantes@orange.fr
GEO:47.2239586;-1.5408058
END:VEVENT
BEGIN:VEVENT
DTSTART;TZID=Europe/Paris:20240922T070000
DTEND;TZID=Europe/Paris:20240922T170000
DTSTAMP:20260420T095901
CREATED:20240414T165554Z
LAST-MODIFIED:20240414T165554Z
UID:10010069-1726988400-1727024400@www.calendrierdesbrocantes.fr
SUMMARY:Brocante de Monceaux
DESCRIPTION:Bienvenue sur calendrier des brocantes.\n  \nLe site est actuellement en phase de modernisation\, donc en reconstruction.\n\n  \n\nMerci de patienter quelques jours le temps pour nous de le construire et de vous apporter le meilleur avec des nouvelles pages plus conviviale.
URL:https://www.calendrierdesbrocantes.fr/event/brocante-de-monceaux-2/
LOCATION:Monceaux\, Place Robert Josse\, Monceaux\, 60940\, France
CATEGORIES:Brocante
ORGANIZER;CN="Comit%C3%A9 d'animation de Monceaux":MAILTO:camonceaux@gmx.fr
GEO:49.3195062;2.5509525
X-APPLE-STRUCTURED-LOCATION;VALUE=URI;X-ADDRESS=Monceaux Place Robert Josse Monceaux 60940 France;X-APPLE-RADIUS=500;X-TITLE=Place Robert Josse:geo:2.5509525,49.3195062
END:VEVENT
BEGIN:VEVENT
DTSTART;TZID=Europe/Paris:20240922T080000
DTEND;TZID=Europe/Paris:20240922T180000
DTSTAMP:20260420T095901
CREATED:20240414T164248Z
LAST-MODIFIED:20240414T164248Z
UID:10010068-1726992000-1727028000@www.calendrierdesbrocantes.fr
SUMMARY:Brocante de Mortefontaine
DESCRIPTION:Bienvenue sur calendrier des brocantes.\n  \nLe site est actuellement en phase de modernisation\, donc en reconstruction.\n\n  \n\nMerci de patienter quelques jours le temps pour nous de le construire et de vous apporter le meilleur avec des nouvelles pages plus conviviale.
URL:https://www.calendrierdesbrocantes.fr/event/brocante-de-mortefontaine-2/
LOCATION:Mortefontaine\, place de l'église\, 60128\, France
CATEGORIES:Brocante
ORGANIZER;CN="Mairie Mortefontaine":MAILTO:mairiemortefontaine60128@wanadoo.fr
GEO:49.1236689;2.5827665
END:VEVENT
BEGIN:VEVENT
DTSTART;TZID=Europe/Paris:20240929T063000
DTEND;TZID=Europe/Paris:20240929T180000
DTSTAMP:20260420T095901
CREATED:20240828T155210Z
LAST-MODIFIED:20240828T155210Z
UID:10010296-1727591400-1727632800@www.calendrierdesbrocantes.fr
SUMMARY:Vide-Greniers de Château du Boux
DESCRIPTION:Bienvenue sur calendrier des brocantes.\n  \nLe site est actuellement en phase de modernisation\, donc en reconstruction.\n\n  \n\nMerci de patienter quelques jours le temps pour nous de le construire et de vous apporter le meilleur avec des nouvelles pages plus conviviale.
URL:https://www.calendrierdesbrocantes.fr/event/vide-greniers-de-chateau-du-boux/
LOCATION:Rom\, Chateau du Boux\, Rom\, 79120\, France
CATEGORIES:Vide-greniers
ORGANIZER;CN="Hi'boux":MAILTO:videgrenier.rom79.leboux@gmail.com
GEO:46.3074235;0.1446479
X-APPLE-STRUCTURED-LOCATION;VALUE=URI;X-ADDRESS=Rom Chateau du Boux Rom 79120 France;X-APPLE-RADIUS=500;X-TITLE=Chateau du Boux:geo:0.1446479,46.3074235
END:VEVENT
BEGIN:VEVENT
DTSTART;TZID=Europe/Paris:20241006T080000
DTEND;TZID=Europe/Paris:20241006T180000
DTSTAMP:20260420T095901
CREATED:20240115T200309Z
LAST-MODIFIED:20240115T200309Z
UID:10009975-1728201600-1728237600@www.calendrierdesbrocantes.fr
SUMMARY:BROCANTE VIDE GRENIER  de Forcalquier
DESCRIPTION:Bienvenue sur calendrier des brocantes.\n  \nLe site est actuellement en phase de modernisation\, donc en reconstruction.\n\n  \n\nMerci de patienter quelques jours le temps pour nous de le construire et de vous apporter le meilleur avec des nouvelles pages plus conviviale.
URL:https://www.calendrierdesbrocantes.fr/event/brocante-vide-grenier-de-forcalquier-6/
LOCATION:France
CATEGORIES:Brocante,Vide-greniers
END:VEVENT
BEGIN:VEVENT
DTSTART;TZID=Europe/Paris:20241010T080000
DTEND;TZID=Europe/Paris:20241010T130000
DTSTAMP:20260420T095901
CREATED:20231231T093613Z
LAST-MODIFIED:20231231T093613Z
UID:10009953-1728547200-1728565200@www.calendrierdesbrocantes.fr
SUMMARY:déballage marchand Compiègne
DESCRIPTION:Bienvenue sur calendrier des brocantes.\n  \nLe site est actuellement en phase de modernisation\, donc en reconstruction.\n\n  \n\nMerci de patienter quelques jours le temps pour nous de le construire et de vous apporter le meilleur avec des nouvelles pages plus conviviale.
URL:https://www.calendrierdesbrocantes.fr/event/deballage-marchand-compiegne-7/
LOCATION:Margny-lès-Compiègne\, Salle Marcel Guérin\, Margny-lès-Compiègne\, 60281\, France
CATEGORIES:Vente aux déballages
ORGANIZER;CN="usine a gaz":MAILTO:usineagaz.nicolas@gmail.com
GEO:49.42973;2.8271
X-APPLE-STRUCTURED-LOCATION;VALUE=URI;X-ADDRESS=Margny-lès-Compiègne Salle Marcel Guérin Margny-lès-Compiègne 60281 France;X-APPLE-RADIUS=500;X-TITLE=Salle Marcel Guérin:geo:2.8271,49.42973
END:VEVENT
BEGIN:VEVENT
DTSTART;TZID=Europe/Paris:20241013T080000
DTEND;TZID=Europe/Paris:20241013T170000
DTSTAMP:20260420T095901
CREATED:20240408T221647Z
LAST-MODIFIED:20240408T221647Z
UID:10010060-1728806400-1728838800@www.calendrierdesbrocantes.fr
SUMMARY:Brocante de Remy
DESCRIPTION:Bienvenue sur calendrier des brocantes.\n  \nLe site est actuellement en phase de modernisation\, donc en reconstruction.\n\n  \n\nMerci de patienter quelques jours le temps pour nous de le construire et de vous apporter le meilleur avec des nouvelles pages plus conviviale.
URL:https://www.calendrierdesbrocantes.fr/event/brocante-de-remy-2/
LOCATION:Rémy\, rue du milieu\, Rémy\, 60190\, France
CATEGORIES:Brocante
ORGANIZER;CN="Mairie de R%C3%A9my":MAILTO:commune.de-remy@wanadoo.fr
GEO:49.439217;2.707741
X-APPLE-STRUCTURED-LOCATION;VALUE=URI;X-ADDRESS=Rémy rue du milieu Rémy 60190 France;X-APPLE-RADIUS=500;X-TITLE=rue du milieu:geo:2.707741,49.439217
END:VEVENT
BEGIN:VEVENT
DTSTART;TZID=Europe/Paris:20241020T080000
DTEND;TZID=Europe/Paris:20241020T170000
DTSTAMP:20260420T095901
CREATED:20240313T230012Z
LAST-MODIFIED:20240313T230012Z
UID:10009993-1729411200-1729443600@www.calendrierdesbrocantes.fr
SUMMARY:Brocante de Villeneuve-les-sablons
DESCRIPTION:Bienvenue sur calendrier des brocantes.\n  \nLe site est actuellement en phase de modernisation\, donc en reconstruction.\n\n  \n\nMerci de patienter quelques jours le temps pour nous de le construire et de vous apporter le meilleur avec des nouvelles pages plus conviviale.
URL:https://www.calendrierdesbrocantes.fr/event/brocante-de-villeneuve-les-sablons/
LOCATION:Villeneuve-les-sablons\, Villeneuve les sablons\, 60175\, France
CATEGORIES:Brocante
ORGANIZER;CN="Comit%C3%A9 de jumelage Villeneuve-les-Sablons-Altenburschla":MAILTO:Dany.puissant@orange.fr
GEO:49.2326667;2.0720679
END:VEVENT
BEGIN:VEVENT
DTSTART;TZID=Europe/Paris:20241026T090000
DTEND;TZID=Europe/Paris:20241026T160000
DTSTAMP:20260420T095901
CREATED:20240602T172026Z
LAST-MODIFIED:20240602T172026Z
UID:10010275-1729933200-1729958400@www.calendrierdesbrocantes.fr
SUMMARY:Bourse puériculture\, jouets\, vêtements à Loison sous Lens
DESCRIPTION:Bienvenue sur calendrier des brocantes.\n  \nLe site est actuellement en phase de modernisation\, donc en reconstruction.\n\n  \n\nMerci de patienter quelques jours le temps pour nous de le construire et de vous apporter le meilleur avec des nouvelles pages plus conviviale.
URL:https://www.calendrierdesbrocantes.fr/event/bourse-puericulture-jouets-vetements-a-loison-sous-lens/
LOCATION:Loison sous Lens\, 120 rue Raymond Spas\, Loison sous Lens\, 62218\, France
CATEGORIES:Bourse aux jouets,Bourse puériculture
ORGANIZER;CN="A.P.E. EHM de Loison sous Lens":MAILTO:ape-ehm.loison@outlook.fr
GEO:50.438332;2.8609253
X-APPLE-STRUCTURED-LOCATION;VALUE=URI;X-ADDRESS=Loison sous Lens 120 rue Raymond Spas Loison sous Lens 62218 France;X-APPLE-RADIUS=500;X-TITLE=120 rue Raymond Spas:geo:2.8609253,50.438332
END:VEVENT
BEGIN:VEVENT
DTSTART;TZID=Europe/Paris:20241027T090000
DTEND;TZID=Europe/Paris:20241027T160000
DTSTAMP:20260420T095901
CREATED:20240602T172548Z
LAST-MODIFIED:20240602T172548Z
UID:10010276-1730019600-1730044800@www.calendrierdesbrocantes.fr
SUMMARY:Bourse puériculture\, jouets\, vêtements à Loison sous Lens
DESCRIPTION:Bienvenue sur calendrier des brocantes.\n  \nLe site est actuellement en phase de modernisation\, donc en reconstruction.\n\n  \n\nMerci de patienter quelques jours le temps pour nous de le construire et de vous apporter le meilleur avec des nouvelles pages plus conviviale.
URL:https://www.calendrierdesbrocantes.fr/event/bourse-puericulture-jouets-vetements-a-loison-sous-lens-2/
LOCATION:Loison sous Lens\, 120 rue Raymond Spas\, Loison sous Lens\, 62218\, France
CATEGORIES:Bourse aux jouets,Bourse puériculture
ORGANIZER;CN="A.P.E. EHM de Loison sous Lens":MAILTO:ape-ehm.loison@outlook.fr
GEO:50.438332;2.8609253
X-APPLE-STRUCTURED-LOCATION;VALUE=URI;X-ADDRESS=Loison sous Lens 120 rue Raymond Spas Loison sous Lens 62218 France;X-APPLE-RADIUS=500;X-TITLE=120 rue Raymond Spas:geo:2.8609253,50.438332
END:VEVENT
BEGIN:VEVENT
DTSTART;TZID=Europe/Paris:20241103T080000
DTEND;TZID=Europe/Paris:20241103T170000
DTSTAMP:20260420T095901
CREATED:20240401T222718Z
LAST-MODIFIED:20240401T222718Z
UID:10010046-1730620800-1730653200@www.calendrierdesbrocantes.fr
SUMMARY:Brocante de Lachapelle aux pots
DESCRIPTION:Bienvenue sur calendrier des brocantes.\n  \nLe site est actuellement en phase de modernisation\, donc en reconstruction.\n\n  \n\nMerci de patienter quelques jours le temps pour nous de le construire et de vous apporter le meilleur avec des nouvelles pages plus conviviale.
URL:https://www.calendrierdesbrocantes.fr/event/brocante-de-lachapelle-aux-pots/
LOCATION:Lachapelle aux pots\, Lachapelle aux pots\, 60650\, France
CATEGORIES:Brocante
GEO:49.449256;1.902267
END:VEVENT
BEGIN:VEVENT
DTSTART;TZID=Europe/Paris:20241103T100000
DTEND;TZID=Europe/Paris:20241103T180000
DTSTAMP:20260420T095901
CREATED:20240414T221942Z
LAST-MODIFIED:20240414T221942Z
UID:10010076-1730628000-1730656800@www.calendrierdesbrocantes.fr
SUMMARY:Vide-dressing à Margny les Compiègne
DESCRIPTION:Bienvenue sur calendrier des brocantes.\n  \nLe site est actuellement en phase de modernisation\, donc en reconstruction.\n\n  \n\nMerci de patienter quelques jours le temps pour nous de le construire et de vous apporter le meilleur avec des nouvelles pages plus conviviale.
URL:https://www.calendrierdesbrocantes.fr/event/vide-dressing-a-margny-les-compiegne-3/
LOCATION:Margny-lès-Compiègne\, Salle Marcel Guérin\, Margny-lès-Compiègne\, 60281\, France
CATEGORIES:Vide-dressing
GEO:49.42973;2.8271
X-APPLE-STRUCTURED-LOCATION;VALUE=URI;X-ADDRESS=Margny-lès-Compiègne Salle Marcel Guérin Margny-lès-Compiègne 60281 France;X-APPLE-RADIUS=500;X-TITLE=Salle Marcel Guérin:geo:2.8271,49.42973
END:VEVENT
BEGIN:VEVENT
DTSTART;TZID=Europe/Paris:20241107T080000
DTEND;TZID=Europe/Paris:20241107T130000
DTSTAMP:20260420T095901
CREATED:20231231T093852Z
LAST-MODIFIED:20231231T093852Z
UID:10009954-1730966400-1730984400@www.calendrierdesbrocantes.fr
SUMMARY:déballage marchand Compiègne
DESCRIPTION:Bienvenue sur calendrier des brocantes.\n  \nLe site est actuellement en phase de modernisation\, donc en reconstruction.\n\n  \n\nMerci de patienter quelques jours le temps pour nous de le construire et de vous apporter le meilleur avec des nouvelles pages plus conviviale.
URL:https://www.calendrierdesbrocantes.fr/event/deballage-marchand-compiegne-8/
LOCATION:Margny-lès-Compiègne\, Salle Marcel Guérin\, Margny-lès-Compiègne\, 60281\, France
CATEGORIES:Vente aux déballages
ORGANIZER;CN="usine a gaz":MAILTO:usineagaz.nicolas@gmail.com
GEO:49.42973;2.8271
X-APPLE-STRUCTURED-LOCATION;VALUE=URI;X-ADDRESS=Margny-lès-Compiègne Salle Marcel Guérin Margny-lès-Compiègne 60281 France;X-APPLE-RADIUS=500;X-TITLE=Salle Marcel Guérin:geo:2.8271,49.42973
END:VEVENT
BEGIN:VEVENT
DTSTART;TZID=Europe/Paris:20241124T083000
DTEND;TZID=Europe/Paris:20241124T163000
DTSTAMP:20260420T095901
CREATED:20240501T214707Z
LAST-MODIFIED:20240501T214707Z
UID:10010174-1732437000-1732465800@www.calendrierdesbrocantes.fr
SUMMARY:Bourse aux jouets de Reuil sur Breche
DESCRIPTION:Bienvenue sur calendrier des brocantes.\n  \nLe site est actuellement en phase de modernisation\, donc en reconstruction.\n\n  \n\nMerci de patienter quelques jours le temps pour nous de le construire et de vous apporter le meilleur avec des nouvelles pages plus conviviale.
URL:https://www.calendrierdesbrocantes.fr/event/bourse-aux-jouets-de-reuil-sur-breche/
LOCATION:Reuil-sur-Breche\, Reuil sur Breche\, 60480\, France
CATEGORIES:Bourse aux jouets
ORGANIZER;CN="Mairie Reuil sur Breche":MAILTO:mairie-reuilsurbreche@orange.fr
GEO:49.519248;2.221738
END:VEVENT
BEGIN:VEVENT
DTSTART;TZID=Europe/Paris:20241130T100000
DTEND;TZID=Europe/Paris:20241130T160000
DTSTAMP:20260420T095901
CREATED:20240408T174414Z
LAST-MODIFIED:20240408T174414Z
UID:10010055-1732960800-1732982400@www.calendrierdesbrocantes.fr
SUMMARY:Bourse aux jouets d'Hardivillers
DESCRIPTION:Bienvenue sur calendrier des brocantes.\n  \nLe site est actuellement en phase de modernisation\, donc en reconstruction.\n\n  \n\nMerci de patienter quelques jours le temps pour nous de le construire et de vous apporter le meilleur avec des nouvelles pages plus conviviale.
URL:https://www.calendrierdesbrocantes.fr/event/bourse-aux-jouets-dhardivillers/
LOCATION:Hardivillers\, rue de la voirie\, Hardivillers\, 60120\, France
CATEGORIES:Bourse aux jouets
ORGANIZER;CN="Mairie Hardivillers":MAILTO:commune.hardivillers@gmail.com
GEO:49.616717;2.222623
X-APPLE-STRUCTURED-LOCATION;VALUE=URI;X-ADDRESS=Hardivillers rue de la voirie Hardivillers 60120 France;X-APPLE-RADIUS=500;X-TITLE=rue de la voirie:geo:2.222623,49.616717
END:VEVENT
BEGIN:VEVENT
DTSTART;TZID=Europe/Paris:20241215T090000
DTEND;TZID=Europe/Paris:20241215T180000
DTSTAMP:20260420T095901
CREATED:20230604T153514Z
LAST-MODIFIED:20230604T161309Z
UID:10001465-1734253200-1734285600@www.calendrierdesbrocantes.fr
SUMMARY:Brocante au Min de Nantes
DESCRIPTION:Bienvenue sur calendrier des brocantes.\n  \nLe site est actuellement en phase de modernisation\, donc en reconstruction.\n\n  \n\nMerci de patienter quelques jours le temps pour nous de le construire et de vous apporter le meilleur avec des nouvelles pages plus conviviale.
URL:https://www.calendrierdesbrocantes.fr/event/brocante-au-min-de-nantes/2024-12-15/
LOCATION:Nantes\, Nantes\, 44000\, France
CATEGORIES:Brocante
ORGANIZER;CN="Dimexpo":MAILTO:plateforme-mindenantes@orange.fr
GEO:47.2239586;-1.5408058
END:VEVENT
BEGIN:VEVENT
DTSTART;TZID=Europe/Paris:20250316T090000
DTEND;TZID=Europe/Paris:20250316T180000
DTSTAMP:20260420T095901
CREATED:20230604T153514Z
LAST-MODIFIED:20230604T161309Z
UID:10001466-1742115600-1742148000@www.calendrierdesbrocantes.fr
SUMMARY:Brocante au Min de Nantes
DESCRIPTION:Bienvenue sur calendrier des brocantes.\n  \nLe site est actuellement en phase de modernisation\, donc en reconstruction.\n\n  \n\nMerci de patienter quelques jours le temps pour nous de le construire et de vous apporter le meilleur avec des nouvelles pages plus conviviale.
URL:https://www.calendrierdesbrocantes.fr/event/brocante-au-min-de-nantes/2025-03-16/
LOCATION:Nantes\, Nantes\, 44000\, France
CATEGORIES:Brocante
ORGANIZER;CN="Dimexpo":MAILTO:plateforme-mindenantes@orange.fr
GEO:47.2239586;-1.5408058
END:VEVENT
BEGIN:VEVENT
DTSTART;TZID=Europe/Paris:20250330T070000
DTEND;TZID=Europe/Paris:20250330T173000
DTSTAMP:20260420T095901
CREATED:20230305T172655Z
LAST-MODIFIED:20230305T172655Z
UID:10000289-1743318000-1743355800@www.calendrierdesbrocantes.fr
SUMMARY:Brocante mensuelle de St Céré
DESCRIPTION:Bienvenue sur calendrier des brocantes.\n  \nLe site est actuellement en phase de modernisation\, donc en reconstruction.\n\n  \n\nMerci de patienter quelques jours le temps pour nous de le construire et de vous apporter le meilleur avec des nouvelles pages plus conviviale.
URL:https://www.calendrierdesbrocantes.fr/event/brocante-mensuelle-de-st-cere/2025-03-30/
LOCATION:Saint Céré\, centre ville\, Saint Céré\, 46400\, France
CATEGORIES:Brocante
GEO:44.859439;1.892482
X-APPLE-STRUCTURED-LOCATION;VALUE=URI;X-ADDRESS=Saint Céré centre ville Saint Céré 46400 France;X-APPLE-RADIUS=500;X-TITLE=centre ville:geo:1.892482,44.859439
END:VEVENT
BEGIN:VEVENT
DTSTART;TZID=Europe/Paris:20250501T090000
DTEND;TZID=Europe/Paris:20250501T120000
DTSTAMP:20260420T095901
CREATED:20250501T103921Z
LAST-MODIFIED:20250501T104025Z
UID:10012062-1746090000-1746100800@www.calendrierdesbrocantes.fr
SUMMARY:Brocante de Vendargues
DESCRIPTION:Bienvenue sur calendrier des brocantes.\n  \nLe site est actuellement en phase de modernisation\, donc en reconstruction.\n\n  \n\nMerci de patienter quelques jours le temps pour nous de le construire et de vous apporter le meilleur avec des nouvelles pages plus conviviale.
URL:https://www.calendrierdesbrocantes.fr/event/brocante-de-vendargues/2025-05-01/
LOCATION:Vendargues\, 20 chemin des carrières\, Vendargues\, 34740\, France
CATEGORIES:Brocante
GEO:43.659002;3.962852
X-APPLE-STRUCTURED-LOCATION;VALUE=URI;X-ADDRESS=Vendargues 20 chemin des carrières Vendargues 34740 France;X-APPLE-RADIUS=500;X-TITLE=20 chemin des carrières:geo:3.962852,43.659002
END:VEVENT
BEGIN:VEVENT
DTSTART;TZID=Europe/Paris:20250518T070000
DTEND;TZID=Europe/Paris:20250518T170000
DTSTAMP:20260420T095901
CREATED:20250501T161450Z
LAST-MODIFIED:20250501T163110Z
UID:10012152-1747551600-1747587600@www.calendrierdesbrocantes.fr
SUMMARY:Brocantes de Rethondes
DESCRIPTION:Bienvenue sur calendrier des brocantes.\n  \nLe site est actuellement en phase de modernisation\, donc en reconstruction.\n\n  \n\nMerci de patienter quelques jours le temps pour nous de le construire et de vous apporter le meilleur avec des nouvelles pages plus conviviale.
URL:https://www.calendrierdesbrocantes.fr/event/brocantes-de-rethondes/
LOCATION:Rethondes\, Centre village\, Rethondes\, 60153\, France
CATEGORIES:Brocante
ORGANIZER;CN="Comit%C3%A9 des f%C3%AAtes de Rethondes":MAILTO:eddy.perdrieau@gmail.com
GEO:49.4245797;2.9398424
X-APPLE-STRUCTURED-LOCATION;VALUE=URI;X-ADDRESS=Rethondes Centre village Rethondes 60153 France;X-APPLE-RADIUS=500;X-TITLE=Centre village:geo:2.9398424,49.4245797
END:VEVENT
BEGIN:VEVENT
DTSTART;TZID=Europe/Paris:20250518T070000
DTEND;TZID=Europe/Paris:20250518T180000
DTSTAMP:20260420T095901
CREATED:20250406T152450Z
LAST-MODIFIED:20250406T152450Z
UID:10011929-1747551600-1747591200@www.calendrierdesbrocantes.fr
SUMMARY:Brocante de Villers sur Coudun
DESCRIPTION:Bienvenue sur calendrier des brocantes.\n  \nLe site est actuellement en phase de modernisation\, donc en reconstruction.\n\n  \n\nMerci de patienter quelques jours le temps pour nous de le construire et de vous apporter le meilleur avec des nouvelles pages plus conviviale.
URL:https://www.calendrierdesbrocantes.fr/event/brocante-de-villers-sur-coudun/
LOCATION:Villers sur Coudun\, rue du calvaire\, Villers sur Coudun\, 60150\, France
CATEGORIES:Brocante
ORGANIZER;CN="Mairie de Villers sur Coudun":MAILTO:mairie.villers.sur.coudun@wanadoo.fr
GEO:49.4888081;2.8109582
X-APPLE-STRUCTURED-LOCATION;VALUE=URI;X-ADDRESS=Villers sur Coudun rue du calvaire Villers sur Coudun 60150 France;X-APPLE-RADIUS=500;X-TITLE=rue du calvaire:geo:2.8109582,49.4888081
END:VEVENT
BEGIN:VEVENT
DTSTART;TZID=Europe/Paris:20250518T070000
DTEND;TZID=Europe/Paris:20250518T180000
DTSTAMP:20260420T095901
CREATED:20250424T220142Z
LAST-MODIFIED:20250424T220504Z
UID:10012039-1747551600-1747591200@www.calendrierdesbrocantes.fr
SUMMARY:Brocante de Fontenay Torcy
DESCRIPTION:Bienvenue sur calendrier des brocantes.\n  \nLe site est actuellement en phase de modernisation\, donc en reconstruction.\n\n  \n\nMerci de patienter quelques jours le temps pour nous de le construire et de vous apporter le meilleur avec des nouvelles pages plus conviviale.
URL:https://www.calendrierdesbrocantes.fr/event/brocante-de-fontenay-torcy-3/
LOCATION:Fontenay Torcy\, Fontenay Torcy\, 60380\, France
CATEGORIES:Brocante
GEO:49.5681299;1.768943
END:VEVENT
BEGIN:VEVENT
DTSTART;TZID=Europe/Paris:20250518T080000
DTEND;TZID=Europe/Paris:20250518T170000
DTSTAMP:20260420T095901
CREATED:20250413T174350Z
LAST-MODIFIED:20250413T174350Z
UID:10011963-1747555200-1747587600@www.calendrierdesbrocantes.fr
SUMMARY:Vide-greniers d'Ivry le Temple
DESCRIPTION:Bienvenue sur calendrier des brocantes.\n  \nLe site est actuellement en phase de modernisation\, donc en reconstruction.\n\n  \n\nMerci de patienter quelques jours le temps pour nous de le construire et de vous apporter le meilleur avec des nouvelles pages plus conviviale.
URL:https://www.calendrierdesbrocantes.fr/event/vide-greniers-divry-le-temple/
LOCATION:Ivry le temple\, Ivry le Temple\, 60173\, France
CATEGORIES:Vide-greniers
GEO:49.2308866;2.0295169
END:VEVENT
BEGIN:VEVENT
DTSTART;TZID=Europe/Paris:20250518T080000
DTEND;TZID=Europe/Paris:20250518T170000
DTSTAMP:20260420T095901
CREATED:20250419T172135Z
LAST-MODIFIED:20250419T172135Z
UID:10012016-1747555200-1747587600@www.calendrierdesbrocantes.fr
SUMMARY:Brocante d’Hénonville
DESCRIPTION:Bienvenue sur calendrier des brocantes.\n  \nLe site est actuellement en phase de modernisation\, donc en reconstruction.\n\n  \n\nMerci de patienter quelques jours le temps pour nous de le construire et de vous apporter le meilleur avec des nouvelles pages plus conviviale.
URL:https://www.calendrierdesbrocantes.fr/event/brocante-dhenonville-2/
LOCATION:Hénonville\, Châteu d'Hénonville\, Hénonville\, 60119\, France
CATEGORIES:Brocante
ORGANIZER;CN="Association bien vivre %C3%A0 H%C3%A9nonville":MAILTO:bvhenonville@gmail.com
GEO:49.2063733;2.0531034
X-APPLE-STRUCTURED-LOCATION;VALUE=URI;X-ADDRESS=Hénonville Châteu d'Hénonville Hénonville 60119 France;X-APPLE-RADIUS=500;X-TITLE=Châteu d'Hénonville:geo:2.0531034,49.2063733
END:VEVENT
BEGIN:VEVENT
DTSTART;TZID=Europe/Paris:20250518T080000
DTEND;TZID=Europe/Paris:20250518T180000
DTSTAMP:20260420T095901
CREATED:20250511T164314Z
LAST-MODIFIED:20250511T164314Z
UID:10012198-1747555200-1747591200@www.calendrierdesbrocantes.fr
SUMMARY:Brocante de Le Meux
DESCRIPTION:Bienvenue sur calendrier des brocantes.\n  \nLe site est actuellement en phase de modernisation\, donc en reconstruction.\n\n  \n\nMerci de patienter quelques jours le temps pour nous de le construire et de vous apporter le meilleur avec des nouvelles pages plus conviviale.
URL:https://www.calendrierdesbrocantes.fr/event/brocante-de-le-meux/
LOCATION:Le Meux\, Le Meux\, 60880\, France
CATEGORIES:Brocante
ORGANIZER;CN="Fa%C3%B9illes rurales de Le Meux":MAILTO:sylvie.vachard@lemeux.fr
GEO:49.3675878;2.742892
END:VEVENT
BEGIN:VEVENT
DTSTART;TZID=Europe/Paris:20250525T060000
DTEND;TZID=Europe/Paris:20250525T180000
DTSTAMP:20260420T095901
CREATED:20250424T221009Z
LAST-MODIFIED:20250424T221009Z
UID:10012040-1748152800-1748196000@www.calendrierdesbrocantes.fr
SUMMARY:Brocante de Fleurines
DESCRIPTION:Bienvenue sur calendrier des brocantes.\n  \nLe site est actuellement en phase de modernisation\, donc en reconstruction.\n\n  \n\nMerci de patienter quelques jours le temps pour nous de le construire et de vous apporter le meilleur avec des nouvelles pages plus conviviale.
URL:https://www.calendrierdesbrocantes.fr/event/brocante-de-fleurines-2/
LOCATION:Fleurines\, rue de la vallée\, Fleurunes\, 60700\, France
CATEGORIES:Brocante
ORGANIZER;CN="Marie de Fleurines":MAILTO:mairie@fleurines.fr
GEO:49.2676822;2.5917145
X-APPLE-STRUCTURED-LOCATION;VALUE=URI;X-ADDRESS=Fleurines rue de la vallée Fleurunes 60700 France;X-APPLE-RADIUS=500;X-TITLE=rue de la vallée:geo:2.5917145,49.2676822
END:VEVENT
BEGIN:VEVENT
DTSTART;TZID=Europe/Paris:20250525T070000
DTEND;TZID=Europe/Paris:20250525T170000
DTSTAMP:20260420T095901
CREATED:20250426T173709Z
LAST-MODIFIED:20250429T215552Z
UID:10012045-1748156400-1748192400@www.calendrierdesbrocantes.fr
SUMMARY:Brocante d'Ernemont-Boutavent
DESCRIPTION:Bienvenue sur calendrier des brocantes.\n  \nLe site est actuellement en phase de modernisation\, donc en reconstruction.\n\n  \n\nMerci de patienter quelques jours le temps pour nous de le construire et de vous apporter le meilleur avec des nouvelles pages plus conviviale.
URL:https://www.calendrierdesbrocantes.fr/event/brocante-dernemont-boutavent/
LOCATION:Ernemont-Boutavent\, Mairie / Salle des fêtes\, Ernemont-Boutavent\, 60380\, France
CATEGORIES:Brocante
ORGANIZER;CN="Comit%C3%A9 des f%C3%AAtes d'Ernemont-Boutavent":MAILTO:ihorcholle@beauvais.fr
GEO:49.588154;1.805386
X-APPLE-STRUCTURED-LOCATION;VALUE=URI;X-ADDRESS=Ernemont-Boutavent Mairie / Salle des fêtes Ernemont-Boutavent 60380 France;X-APPLE-RADIUS=500;X-TITLE=Mairie / Salle des fêtes:geo:1.805386,49.588154
END:VEVENT
BEGIN:VEVENT
DTSTART;TZID=Europe/Paris:20250525T070000
DTEND;TZID=Europe/Paris:20250525T180000
DTSTAMP:20260420T095901
CREATED:20250402T222814Z
LAST-MODIFIED:20250402T222814Z
UID:10011919-1748156400-1748196000@www.calendrierdesbrocantes.fr
SUMMARY:Brocante de Beaurains les Noyon
DESCRIPTION:Bienvenue sur calendrier des brocantes.\n  \nLe site est actuellement en phase de modernisation\, donc en reconstruction.\n\n  \n\nMerci de patienter quelques jours le temps pour nous de le construire et de vous apporter le meilleur avec des nouvelles pages plus conviviale.
URL:https://www.calendrierdesbrocantes.fr/event/brocante-de-beaurains-les-noyon-2/
LOCATION:Beaurains les Noyon\, Beaurains les Noyon\, 60400\, France
ORGANIZER;CN="Comit%C3%A9 des f%C3%AAtes de Beaurains les Noyon":MAILTO:pathard@sfr.fr
GEO:49.610788;2.969897
END:VEVENT
BEGIN:VEVENT
DTSTART;TZID=Europe/Paris:20250608T080000
DTEND;TZID=Europe/Paris:20250608T170000
DTSTAMP:20260420T095901
CREATED:20230604T161211Z
LAST-MODIFIED:20230604T161211Z
UID:10001480-1749369600-1749402000@www.calendrierdesbrocantes.fr
SUMMARY:Brocante mensuelle de Maîche
DESCRIPTION:Bienvenue sur calendrier des brocantes.\n  \nLe site est actuellement en phase de modernisation\, donc en reconstruction.\n\n  \n\nMerci de patienter quelques jours le temps pour nous de le construire et de vous apporter le meilleur avec des nouvelles pages plus conviviale.
URL:https://www.calendrierdesbrocantes.fr/event/brocante-mensuelle-de-maiche/2025-06-08/
LOCATION:Maiche\, Place de La Rasse\, Maîche\, 25120\, France
CATEGORIES:Brocante
GEO:47.255195;6.79721
X-APPLE-STRUCTURED-LOCATION;VALUE=URI;X-ADDRESS=Maiche Place de La Rasse Maîche 25120 France;X-APPLE-RADIUS=500;X-TITLE=Place de La Rasse:geo:6.79721,47.255195
END:VEVENT
END:VCALENDAR