BEGIN:VCALENDAR
VERSION:2.0
PRODID:-//Calendrier des brocantes - ECPv6.15.20//NONSGML v1.0//EN
CALSCALE:GREGORIAN
METHOD:PUBLISH
X-WR-CALNAME:Calendrier des brocantes
X-ORIGINAL-URL:https://www.calendrierdesbrocantes.fr
X-WR-CALDESC:Évènements pour Calendrier des brocantes
REFRESH-INTERVAL;VALUE=DURATION:PT1H
X-Robots-Tag:noindex
X-PUBLISHED-TTL:PT1H
BEGIN:VTIMEZONE
TZID:Europe/Paris
BEGIN:DAYLIGHT
TZOFFSETFROM:+0100
TZOFFSETTO:+0200
TZNAME:CEST
DTSTART:20260329T010000
END:DAYLIGHT
BEGIN:STANDARD
TZOFFSETFROM:+0200
TZOFFSETTO:+0100
TZNAME:CET
DTSTART:20261025T010000
END:STANDARD
BEGIN:DAYLIGHT
TZOFFSETFROM:+0100
TZOFFSETTO:+0200
TZNAME:CEST
DTSTART:20270328T010000
END:DAYLIGHT
BEGIN:STANDARD
TZOFFSETFROM:+0200
TZOFFSETTO:+0100
TZNAME:CET
DTSTART:20271031T010000
END:STANDARD
BEGIN:DAYLIGHT
TZOFFSETFROM:+0100
TZOFFSETTO:+0200
TZNAME:CEST
DTSTART:20280326T010000
END:DAYLIGHT
BEGIN:STANDARD
TZOFFSETFROM:+0200
TZOFFSETTO:+0100
TZNAME:CET
DTSTART:20281029T010000
END:STANDARD
END:VTIMEZONE
BEGIN:VEVENT
DTSTART;TZID=Europe/Paris:20270409T080000
DTEND;TZID=Europe/Paris:20270409T160000
DTSTAMP:20260419T181534
CREATED:20260418T221044Z
LAST-MODIFIED:20260418T221044Z
UID:10025594-1807257600-1807286400@www.calendrierdesbrocantes.fr
SUMMARY:Brocante de Menton (professionnel)
DESCRIPTION:Brocante de Menton (professionnel) \nBrocante réservée aux professionnels. Tirage 7 H 30 \nPromenade du Soleil
URL:https://www.calendrierdesbrocantes.fr/event/brocante-de-menton-professionnel/2027-04-09/
LOCATION:Menton\, Promenade du Soleil\, Menton\, 06500\, France
CATEGORIES:Brocante
ATTACH;FMTTYPE=image/png:https://www.calendrierdesbrocantes.fr/wp-content/uploads/2026/04/menton.png
GEO:43.7722096;7.498037
X-APPLE-STRUCTURED-LOCATION;VALUE=URI;X-ADDRESS=Menton Promenade du Soleil Menton 06500 France;X-APPLE-RADIUS=500;X-TITLE=Promenade du Soleil:geo:7.498037,43.7722096
END:VEVENT
BEGIN:VEVENT
DTSTART;TZID=Europe/Paris:20270411T080000
DTEND;TZID=Europe/Paris:20270411T160000
DTSTAMP:20260419T181534
CREATED:20260418T214830Z
LAST-MODIFIED:20260418T221654Z
UID:10024553-1807430400-1807459200@www.calendrierdesbrocantes.fr
SUMMARY:Brocante de Menton (professionnel)
DESCRIPTION:Brocante de Menton (professionnel) \nBrocante réservée aux professionnels. Tirage 7 H 30 \nPromenade du Soleil
URL:https://www.calendrierdesbrocantes.fr/event/brocante-de-menton-professionnel-2/2027-04-11/
LOCATION:Menton\, Promenade du Soleil\, Menton\, 06500\, France
CATEGORIES:Brocante
ATTACH;FMTTYPE=image/png:https://www.calendrierdesbrocantes.fr/wp-content/uploads/2026/04/menton.png
GEO:43.7722096;7.498037
X-APPLE-STRUCTURED-LOCATION;VALUE=URI;X-ADDRESS=Menton Promenade du Soleil Menton 06500 France;X-APPLE-RADIUS=500;X-TITLE=Promenade du Soleil:geo:7.498037,43.7722096
END:VEVENT
BEGIN:VEVENT
DTSTART;TZID=Europe/Paris:20270416T080000
DTEND;TZID=Europe/Paris:20270416T160000
DTSTAMP:20260419T181534
CREATED:20260418T221044Z
LAST-MODIFIED:20260418T221044Z
UID:10025595-1807862400-1807891200@www.calendrierdesbrocantes.fr
SUMMARY:Brocante de Menton (professionnel)
DESCRIPTION:Brocante de Menton (professionnel) \nBrocante réservée aux professionnels. Tirage 7 H 30 \nPromenade du Soleil
URL:https://www.calendrierdesbrocantes.fr/event/brocante-de-menton-professionnel/2027-04-16/
LOCATION:Menton\, Promenade du Soleil\, Menton\, 06500\, France
CATEGORIES:Brocante
ATTACH;FMTTYPE=image/png:https://www.calendrierdesbrocantes.fr/wp-content/uploads/2026/04/menton.png
GEO:43.7722096;7.498037
X-APPLE-STRUCTURED-LOCATION;VALUE=URI;X-ADDRESS=Menton Promenade du Soleil Menton 06500 France;X-APPLE-RADIUS=500;X-TITLE=Promenade du Soleil:geo:7.498037,43.7722096
END:VEVENT
BEGIN:VEVENT
DTSTART;TZID=Europe/Paris:20270418T080000
DTEND;TZID=Europe/Paris:20270418T160000
DTSTAMP:20260419T181534
CREATED:20260418T214830Z
LAST-MODIFIED:20260418T221654Z
UID:10024554-1808035200-1808064000@www.calendrierdesbrocantes.fr
SUMMARY:Brocante de Menton (professionnel)
DESCRIPTION:Brocante de Menton (professionnel) \nBrocante réservée aux professionnels. Tirage 7 H 30 \nPromenade du Soleil
URL:https://www.calendrierdesbrocantes.fr/event/brocante-de-menton-professionnel-2/2027-04-18/
LOCATION:Menton\, Promenade du Soleil\, Menton\, 06500\, France
CATEGORIES:Brocante
ATTACH;FMTTYPE=image/png:https://www.calendrierdesbrocantes.fr/wp-content/uploads/2026/04/menton.png
GEO:43.7722096;7.498037
X-APPLE-STRUCTURED-LOCATION;VALUE=URI;X-ADDRESS=Menton Promenade du Soleil Menton 06500 France;X-APPLE-RADIUS=500;X-TITLE=Promenade du Soleil:geo:7.498037,43.7722096
END:VEVENT
BEGIN:VEVENT
DTSTART;TZID=Europe/Paris:20270423T080000
DTEND;TZID=Europe/Paris:20270423T160000
DTSTAMP:20260419T181534
CREATED:20260418T221044Z
LAST-MODIFIED:20260418T221044Z
UID:10025596-1808467200-1808496000@www.calendrierdesbrocantes.fr
SUMMARY:Brocante de Menton (professionnel)
DESCRIPTION:Brocante de Menton (professionnel) \nBrocante réservée aux professionnels. Tirage 7 H 30 \nPromenade du Soleil
URL:https://www.calendrierdesbrocantes.fr/event/brocante-de-menton-professionnel/2027-04-23/
LOCATION:Menton\, Promenade du Soleil\, Menton\, 06500\, France
CATEGORIES:Brocante
ATTACH;FMTTYPE=image/png:https://www.calendrierdesbrocantes.fr/wp-content/uploads/2026/04/menton.png
GEO:43.7722096;7.498037
X-APPLE-STRUCTURED-LOCATION;VALUE=URI;X-ADDRESS=Menton Promenade du Soleil Menton 06500 France;X-APPLE-RADIUS=500;X-TITLE=Promenade du Soleil:geo:7.498037,43.7722096
END:VEVENT
BEGIN:VEVENT
DTSTART;TZID=Europe/Paris:20270425T080000
DTEND;TZID=Europe/Paris:20270425T160000
DTSTAMP:20260419T181534
CREATED:20260418T214830Z
LAST-MODIFIED:20260418T221654Z
UID:10024555-1808640000-1808668800@www.calendrierdesbrocantes.fr
SUMMARY:Brocante de Menton (professionnel)
DESCRIPTION:Brocante de Menton (professionnel) \nBrocante réservée aux professionnels. Tirage 7 H 30 \nPromenade du Soleil
URL:https://www.calendrierdesbrocantes.fr/event/brocante-de-menton-professionnel-2/2027-04-25/
LOCATION:Menton\, Promenade du Soleil\, Menton\, 06500\, France
CATEGORIES:Brocante
ATTACH;FMTTYPE=image/png:https://www.calendrierdesbrocantes.fr/wp-content/uploads/2026/04/menton.png
GEO:43.7722096;7.498037
X-APPLE-STRUCTURED-LOCATION;VALUE=URI;X-ADDRESS=Menton Promenade du Soleil Menton 06500 France;X-APPLE-RADIUS=500;X-TITLE=Promenade du Soleil:geo:7.498037,43.7722096
END:VEVENT
BEGIN:VEVENT
DTSTART;TZID=Europe/Paris:20270430T080000
DTEND;TZID=Europe/Paris:20270430T160000
DTSTAMP:20260419T181534
CREATED:20260418T221044Z
LAST-MODIFIED:20260418T221044Z
UID:10025597-1809072000-1809100800@www.calendrierdesbrocantes.fr
SUMMARY:Brocante de Menton (professionnel)
DESCRIPTION:Brocante de Menton (professionnel) \nBrocante réservée aux professionnels. Tirage 7 H 30 \nPromenade du Soleil
URL:https://www.calendrierdesbrocantes.fr/event/brocante-de-menton-professionnel/2027-04-30/
LOCATION:Menton\, Promenade du Soleil\, Menton\, 06500\, France
CATEGORIES:Brocante
ATTACH;FMTTYPE=image/png:https://www.calendrierdesbrocantes.fr/wp-content/uploads/2026/04/menton.png
GEO:43.7722096;7.498037
X-APPLE-STRUCTURED-LOCATION;VALUE=URI;X-ADDRESS=Menton Promenade du Soleil Menton 06500 France;X-APPLE-RADIUS=500;X-TITLE=Promenade du Soleil:geo:7.498037,43.7722096
END:VEVENT
BEGIN:VEVENT
DTSTART;TZID=Europe/Paris:20270502T080000
DTEND;TZID=Europe/Paris:20270502T160000
DTSTAMP:20260419T181534
CREATED:20260418T214830Z
LAST-MODIFIED:20260418T221654Z
UID:10024556-1809244800-1809273600@www.calendrierdesbrocantes.fr
SUMMARY:Brocante de Menton (professionnel)
DESCRIPTION:Brocante de Menton (professionnel) \nBrocante réservée aux professionnels. Tirage 7 H 30 \nPromenade du Soleil
URL:https://www.calendrierdesbrocantes.fr/event/brocante-de-menton-professionnel-2/2027-05-02/
LOCATION:Menton\, Promenade du Soleil\, Menton\, 06500\, France
CATEGORIES:Brocante
ATTACH;FMTTYPE=image/png:https://www.calendrierdesbrocantes.fr/wp-content/uploads/2026/04/menton.png
GEO:43.7722096;7.498037
X-APPLE-STRUCTURED-LOCATION;VALUE=URI;X-ADDRESS=Menton Promenade du Soleil Menton 06500 France;X-APPLE-RADIUS=500;X-TITLE=Promenade du Soleil:geo:7.498037,43.7722096
END:VEVENT
BEGIN:VEVENT
DTSTART;TZID=Europe/Paris:20270507T080000
DTEND;TZID=Europe/Paris:20270507T160000
DTSTAMP:20260419T181534
CREATED:20260418T221044Z
LAST-MODIFIED:20260418T221044Z
UID:10025598-1809676800-1809705600@www.calendrierdesbrocantes.fr
SUMMARY:Brocante de Menton (professionnel)
DESCRIPTION:Brocante de Menton (professionnel) \nBrocante réservée aux professionnels. Tirage 7 H 30 \nPromenade du Soleil
URL:https://www.calendrierdesbrocantes.fr/event/brocante-de-menton-professionnel/2027-05-07/
LOCATION:Menton\, Promenade du Soleil\, Menton\, 06500\, France
CATEGORIES:Brocante
ATTACH;FMTTYPE=image/png:https://www.calendrierdesbrocantes.fr/wp-content/uploads/2026/04/menton.png
GEO:43.7722096;7.498037
X-APPLE-STRUCTURED-LOCATION;VALUE=URI;X-ADDRESS=Menton Promenade du Soleil Menton 06500 France;X-APPLE-RADIUS=500;X-TITLE=Promenade du Soleil:geo:7.498037,43.7722096
END:VEVENT
BEGIN:VEVENT
DTSTART;TZID=Europe/Paris:20270509T080000
DTEND;TZID=Europe/Paris:20270509T160000
DTSTAMP:20260419T181534
CREATED:20260418T214830Z
LAST-MODIFIED:20260418T221654Z
UID:10024557-1809849600-1809878400@www.calendrierdesbrocantes.fr
SUMMARY:Brocante de Menton (professionnel)
DESCRIPTION:Brocante de Menton (professionnel) \nBrocante réservée aux professionnels. Tirage 7 H 30 \nPromenade du Soleil
URL:https://www.calendrierdesbrocantes.fr/event/brocante-de-menton-professionnel-2/2027-05-09/
LOCATION:Menton\, Promenade du Soleil\, Menton\, 06500\, France
CATEGORIES:Brocante
ATTACH;FMTTYPE=image/png:https://www.calendrierdesbrocantes.fr/wp-content/uploads/2026/04/menton.png
GEO:43.7722096;7.498037
X-APPLE-STRUCTURED-LOCATION;VALUE=URI;X-ADDRESS=Menton Promenade du Soleil Menton 06500 France;X-APPLE-RADIUS=500;X-TITLE=Promenade du Soleil:geo:7.498037,43.7722096
END:VEVENT
BEGIN:VEVENT
DTSTART;TZID=Europe/Paris:20270514T080000
DTEND;TZID=Europe/Paris:20270514T160000
DTSTAMP:20260419T181534
CREATED:20260418T221044Z
LAST-MODIFIED:20260418T221044Z
UID:10025599-1810281600-1810310400@www.calendrierdesbrocantes.fr
SUMMARY:Brocante de Menton (professionnel)
DESCRIPTION:Brocante de Menton (professionnel) \nBrocante réservée aux professionnels. Tirage 7 H 30 \nPromenade du Soleil
URL:https://www.calendrierdesbrocantes.fr/event/brocante-de-menton-professionnel/2027-05-14/
LOCATION:Menton\, Promenade du Soleil\, Menton\, 06500\, France
CATEGORIES:Brocante
ATTACH;FMTTYPE=image/png:https://www.calendrierdesbrocantes.fr/wp-content/uploads/2026/04/menton.png
GEO:43.7722096;7.498037
X-APPLE-STRUCTURED-LOCATION;VALUE=URI;X-ADDRESS=Menton Promenade du Soleil Menton 06500 France;X-APPLE-RADIUS=500;X-TITLE=Promenade du Soleil:geo:7.498037,43.7722096
END:VEVENT
BEGIN:VEVENT
DTSTART;TZID=Europe/Paris:20270516T080000
DTEND;TZID=Europe/Paris:20270516T160000
DTSTAMP:20260419T181534
CREATED:20260418T214830Z
LAST-MODIFIED:20260418T221654Z
UID:10024558-1810454400-1810483200@www.calendrierdesbrocantes.fr
SUMMARY:Brocante de Menton (professionnel)
DESCRIPTION:Brocante de Menton (professionnel) \nBrocante réservée aux professionnels. Tirage 7 H 30 \nPromenade du Soleil
URL:https://www.calendrierdesbrocantes.fr/event/brocante-de-menton-professionnel-2/2027-05-16/
LOCATION:Menton\, Promenade du Soleil\, Menton\, 06500\, France
CATEGORIES:Brocante
ATTACH;FMTTYPE=image/png:https://www.calendrierdesbrocantes.fr/wp-content/uploads/2026/04/menton.png
GEO:43.7722096;7.498037
X-APPLE-STRUCTURED-LOCATION;VALUE=URI;X-ADDRESS=Menton Promenade du Soleil Menton 06500 France;X-APPLE-RADIUS=500;X-TITLE=Promenade du Soleil:geo:7.498037,43.7722096
END:VEVENT
BEGIN:VEVENT
DTSTART;TZID=Europe/Paris:20270521T080000
DTEND;TZID=Europe/Paris:20270521T160000
DTSTAMP:20260419T181534
CREATED:20260418T221044Z
LAST-MODIFIED:20260418T221044Z
UID:10025600-1810886400-1810915200@www.calendrierdesbrocantes.fr
SUMMARY:Brocante de Menton (professionnel)
DESCRIPTION:Brocante de Menton (professionnel) \nBrocante réservée aux professionnels. Tirage 7 H 30 \nPromenade du Soleil
URL:https://www.calendrierdesbrocantes.fr/event/brocante-de-menton-professionnel/2027-05-21/
LOCATION:Menton\, Promenade du Soleil\, Menton\, 06500\, France
CATEGORIES:Brocante
ATTACH;FMTTYPE=image/png:https://www.calendrierdesbrocantes.fr/wp-content/uploads/2026/04/menton.png
GEO:43.7722096;7.498037
X-APPLE-STRUCTURED-LOCATION;VALUE=URI;X-ADDRESS=Menton Promenade du Soleil Menton 06500 France;X-APPLE-RADIUS=500;X-TITLE=Promenade du Soleil:geo:7.498037,43.7722096
END:VEVENT
BEGIN:VEVENT
DTSTART;TZID=Europe/Paris:20270523T080000
DTEND;TZID=Europe/Paris:20270523T160000
DTSTAMP:20260419T181534
CREATED:20260418T214830Z
LAST-MODIFIED:20260418T221654Z
UID:10024559-1811059200-1811088000@www.calendrierdesbrocantes.fr
SUMMARY:Brocante de Menton (professionnel)
DESCRIPTION:Brocante de Menton (professionnel) \nBrocante réservée aux professionnels. Tirage 7 H 30 \nPromenade du Soleil
URL:https://www.calendrierdesbrocantes.fr/event/brocante-de-menton-professionnel-2/2027-05-23/
LOCATION:Menton\, Promenade du Soleil\, Menton\, 06500\, France
CATEGORIES:Brocante
ATTACH;FMTTYPE=image/png:https://www.calendrierdesbrocantes.fr/wp-content/uploads/2026/04/menton.png
GEO:43.7722096;7.498037
X-APPLE-STRUCTURED-LOCATION;VALUE=URI;X-ADDRESS=Menton Promenade du Soleil Menton 06500 France;X-APPLE-RADIUS=500;X-TITLE=Promenade du Soleil:geo:7.498037,43.7722096
END:VEVENT
BEGIN:VEVENT
DTSTART;TZID=Europe/Paris:20270528T080000
DTEND;TZID=Europe/Paris:20270528T160000
DTSTAMP:20260419T181534
CREATED:20260418T221044Z
LAST-MODIFIED:20260418T221044Z
UID:10025601-1811491200-1811520000@www.calendrierdesbrocantes.fr
SUMMARY:Brocante de Menton (professionnel)
DESCRIPTION:Brocante de Menton (professionnel) \nBrocante réservée aux professionnels. Tirage 7 H 30 \nPromenade du Soleil
URL:https://www.calendrierdesbrocantes.fr/event/brocante-de-menton-professionnel/2027-05-28/
LOCATION:Menton\, Promenade du Soleil\, Menton\, 06500\, France
CATEGORIES:Brocante
ATTACH;FMTTYPE=image/png:https://www.calendrierdesbrocantes.fr/wp-content/uploads/2026/04/menton.png
GEO:43.7722096;7.498037
X-APPLE-STRUCTURED-LOCATION;VALUE=URI;X-ADDRESS=Menton Promenade du Soleil Menton 06500 France;X-APPLE-RADIUS=500;X-TITLE=Promenade du Soleil:geo:7.498037,43.7722096
END:VEVENT
BEGIN:VEVENT
DTSTART;TZID=Europe/Paris:20270530T080000
DTEND;TZID=Europe/Paris:20270530T160000
DTSTAMP:20260419T181534
CREATED:20260418T214830Z
LAST-MODIFIED:20260418T221654Z
UID:10024560-1811664000-1811692800@www.calendrierdesbrocantes.fr
SUMMARY:Brocante de Menton (professionnel)
DESCRIPTION:Brocante de Menton (professionnel) \nBrocante réservée aux professionnels. Tirage 7 H 30 \nPromenade du Soleil
URL:https://www.calendrierdesbrocantes.fr/event/brocante-de-menton-professionnel-2/2027-05-30/
LOCATION:Menton\, Promenade du Soleil\, Menton\, 06500\, France
CATEGORIES:Brocante
ATTACH;FMTTYPE=image/png:https://www.calendrierdesbrocantes.fr/wp-content/uploads/2026/04/menton.png
GEO:43.7722096;7.498037
X-APPLE-STRUCTURED-LOCATION;VALUE=URI;X-ADDRESS=Menton Promenade du Soleil Menton 06500 France;X-APPLE-RADIUS=500;X-TITLE=Promenade du Soleil:geo:7.498037,43.7722096
END:VEVENT
BEGIN:VEVENT
DTSTART;TZID=Europe/Paris:20270604T080000
DTEND;TZID=Europe/Paris:20270604T160000
DTSTAMP:20260419T181534
CREATED:20260418T221044Z
LAST-MODIFIED:20260418T221044Z
UID:10025602-1812096000-1812124800@www.calendrierdesbrocantes.fr
SUMMARY:Brocante de Menton (professionnel)
DESCRIPTION:Brocante de Menton (professionnel) \nBrocante réservée aux professionnels. Tirage 7 H 30 \nPromenade du Soleil
URL:https://www.calendrierdesbrocantes.fr/event/brocante-de-menton-professionnel/2027-06-04/
LOCATION:Menton\, Promenade du Soleil\, Menton\, 06500\, France
CATEGORIES:Brocante
ATTACH;FMTTYPE=image/png:https://www.calendrierdesbrocantes.fr/wp-content/uploads/2026/04/menton.png
GEO:43.7722096;7.498037
X-APPLE-STRUCTURED-LOCATION;VALUE=URI;X-ADDRESS=Menton Promenade du Soleil Menton 06500 France;X-APPLE-RADIUS=500;X-TITLE=Promenade du Soleil:geo:7.498037,43.7722096
END:VEVENT
BEGIN:VEVENT
DTSTART;TZID=Europe/Paris:20270606T080000
DTEND;TZID=Europe/Paris:20270606T160000
DTSTAMP:20260419T181534
CREATED:20260418T214830Z
LAST-MODIFIED:20260418T221654Z
UID:10024561-1812268800-1812297600@www.calendrierdesbrocantes.fr
SUMMARY:Brocante de Menton (professionnel)
DESCRIPTION:Brocante de Menton (professionnel) \nBrocante réservée aux professionnels. Tirage 7 H 30 \nPromenade du Soleil
URL:https://www.calendrierdesbrocantes.fr/event/brocante-de-menton-professionnel-2/2027-06-06/
LOCATION:Menton\, Promenade du Soleil\, Menton\, 06500\, France
CATEGORIES:Brocante
ATTACH;FMTTYPE=image/png:https://www.calendrierdesbrocantes.fr/wp-content/uploads/2026/04/menton.png
GEO:43.7722096;7.498037
X-APPLE-STRUCTURED-LOCATION;VALUE=URI;X-ADDRESS=Menton Promenade du Soleil Menton 06500 France;X-APPLE-RADIUS=500;X-TITLE=Promenade du Soleil:geo:7.498037,43.7722096
END:VEVENT
BEGIN:VEVENT
DTSTART;TZID=Europe/Paris:20270611T080000
DTEND;TZID=Europe/Paris:20270611T160000
DTSTAMP:20260419T181534
CREATED:20260418T221044Z
LAST-MODIFIED:20260418T221044Z
UID:10025603-1812700800-1812729600@www.calendrierdesbrocantes.fr
SUMMARY:Brocante de Menton (professionnel)
DESCRIPTION:Brocante de Menton (professionnel) \nBrocante réservée aux professionnels. Tirage 7 H 30 \nPromenade du Soleil
URL:https://www.calendrierdesbrocantes.fr/event/brocante-de-menton-professionnel/2027-06-11/
LOCATION:Menton\, Promenade du Soleil\, Menton\, 06500\, France
CATEGORIES:Brocante
ATTACH;FMTTYPE=image/png:https://www.calendrierdesbrocantes.fr/wp-content/uploads/2026/04/menton.png
GEO:43.7722096;7.498037
X-APPLE-STRUCTURED-LOCATION;VALUE=URI;X-ADDRESS=Menton Promenade du Soleil Menton 06500 France;X-APPLE-RADIUS=500;X-TITLE=Promenade du Soleil:geo:7.498037,43.7722096
END:VEVENT
BEGIN:VEVENT
DTSTART;TZID=Europe/Paris:20270613T080000
DTEND;TZID=Europe/Paris:20270613T160000
DTSTAMP:20260419T181534
CREATED:20260418T214830Z
LAST-MODIFIED:20260418T221654Z
UID:10024562-1812873600-1812902400@www.calendrierdesbrocantes.fr
SUMMARY:Brocante de Menton (professionnel)
DESCRIPTION:Brocante de Menton (professionnel) \nBrocante réservée aux professionnels. Tirage 7 H 30 \nPromenade du Soleil
URL:https://www.calendrierdesbrocantes.fr/event/brocante-de-menton-professionnel-2/2027-06-13/
LOCATION:Menton\, Promenade du Soleil\, Menton\, 06500\, France
CATEGORIES:Brocante
ATTACH;FMTTYPE=image/png:https://www.calendrierdesbrocantes.fr/wp-content/uploads/2026/04/menton.png
GEO:43.7722096;7.498037
X-APPLE-STRUCTURED-LOCATION;VALUE=URI;X-ADDRESS=Menton Promenade du Soleil Menton 06500 France;X-APPLE-RADIUS=500;X-TITLE=Promenade du Soleil:geo:7.498037,43.7722096
END:VEVENT
BEGIN:VEVENT
DTSTART;TZID=Europe/Paris:20270618T080000
DTEND;TZID=Europe/Paris:20270618T160000
DTSTAMP:20260419T181534
CREATED:20260418T221044Z
LAST-MODIFIED:20260418T221044Z
UID:10025604-1813305600-1813334400@www.calendrierdesbrocantes.fr
SUMMARY:Brocante de Menton (professionnel)
DESCRIPTION:Brocante de Menton (professionnel) \nBrocante réservée aux professionnels. Tirage 7 H 30 \nPromenade du Soleil
URL:https://www.calendrierdesbrocantes.fr/event/brocante-de-menton-professionnel/2027-06-18/
LOCATION:Menton\, Promenade du Soleil\, Menton\, 06500\, France
CATEGORIES:Brocante
ATTACH;FMTTYPE=image/png:https://www.calendrierdesbrocantes.fr/wp-content/uploads/2026/04/menton.png
GEO:43.7722096;7.498037
X-APPLE-STRUCTURED-LOCATION;VALUE=URI;X-ADDRESS=Menton Promenade du Soleil Menton 06500 France;X-APPLE-RADIUS=500;X-TITLE=Promenade du Soleil:geo:7.498037,43.7722096
END:VEVENT
BEGIN:VEVENT
DTSTART;TZID=Europe/Paris:20270620T080000
DTEND;TZID=Europe/Paris:20270620T160000
DTSTAMP:20260419T181534
CREATED:20260418T214830Z
LAST-MODIFIED:20260418T221654Z
UID:10024563-1813478400-1813507200@www.calendrierdesbrocantes.fr
SUMMARY:Brocante de Menton (professionnel)
DESCRIPTION:Brocante de Menton (professionnel) \nBrocante réservée aux professionnels. Tirage 7 H 30 \nPromenade du Soleil
URL:https://www.calendrierdesbrocantes.fr/event/brocante-de-menton-professionnel-2/2027-06-20/
LOCATION:Menton\, Promenade du Soleil\, Menton\, 06500\, France
CATEGORIES:Brocante
ATTACH;FMTTYPE=image/png:https://www.calendrierdesbrocantes.fr/wp-content/uploads/2026/04/menton.png
GEO:43.7722096;7.498037
X-APPLE-STRUCTURED-LOCATION;VALUE=URI;X-ADDRESS=Menton Promenade du Soleil Menton 06500 France;X-APPLE-RADIUS=500;X-TITLE=Promenade du Soleil:geo:7.498037,43.7722096
END:VEVENT
BEGIN:VEVENT
DTSTART;TZID=Europe/Paris:20270625T080000
DTEND;TZID=Europe/Paris:20270625T160000
DTSTAMP:20260419T181534
CREATED:20260418T221044Z
LAST-MODIFIED:20260418T221044Z
UID:10025605-1813910400-1813939200@www.calendrierdesbrocantes.fr
SUMMARY:Brocante de Menton (professionnel)
DESCRIPTION:Brocante de Menton (professionnel) \nBrocante réservée aux professionnels. Tirage 7 H 30 \nPromenade du Soleil
URL:https://www.calendrierdesbrocantes.fr/event/brocante-de-menton-professionnel/2027-06-25/
LOCATION:Menton\, Promenade du Soleil\, Menton\, 06500\, France
CATEGORIES:Brocante
ATTACH;FMTTYPE=image/png:https://www.calendrierdesbrocantes.fr/wp-content/uploads/2026/04/menton.png
GEO:43.7722096;7.498037
X-APPLE-STRUCTURED-LOCATION;VALUE=URI;X-ADDRESS=Menton Promenade du Soleil Menton 06500 France;X-APPLE-RADIUS=500;X-TITLE=Promenade du Soleil:geo:7.498037,43.7722096
END:VEVENT
BEGIN:VEVENT
DTSTART;TZID=Europe/Paris:20270627T080000
DTEND;TZID=Europe/Paris:20270627T160000
DTSTAMP:20260419T181534
CREATED:20260418T214830Z
LAST-MODIFIED:20260418T221654Z
UID:10024564-1814083200-1814112000@www.calendrierdesbrocantes.fr
SUMMARY:Brocante de Menton (professionnel)
DESCRIPTION:Brocante de Menton (professionnel) \nBrocante réservée aux professionnels. Tirage 7 H 30 \nPromenade du Soleil
URL:https://www.calendrierdesbrocantes.fr/event/brocante-de-menton-professionnel-2/2027-06-27/
LOCATION:Menton\, Promenade du Soleil\, Menton\, 06500\, France
CATEGORIES:Brocante
ATTACH;FMTTYPE=image/png:https://www.calendrierdesbrocantes.fr/wp-content/uploads/2026/04/menton.png
GEO:43.7722096;7.498037
X-APPLE-STRUCTURED-LOCATION;VALUE=URI;X-ADDRESS=Menton Promenade du Soleil Menton 06500 France;X-APPLE-RADIUS=500;X-TITLE=Promenade du Soleil:geo:7.498037,43.7722096
END:VEVENT
BEGIN:VEVENT
DTSTART;TZID=Europe/Paris:20270702T080000
DTEND;TZID=Europe/Paris:20270702T160000
DTSTAMP:20260419T181534
CREATED:20260418T221044Z
LAST-MODIFIED:20260418T221044Z
UID:10025606-1814515200-1814544000@www.calendrierdesbrocantes.fr
SUMMARY:Brocante de Menton (professionnel)
DESCRIPTION:Brocante de Menton (professionnel) \nBrocante réservée aux professionnels. Tirage 7 H 30 \nPromenade du Soleil
URL:https://www.calendrierdesbrocantes.fr/event/brocante-de-menton-professionnel/2027-07-02/
LOCATION:Menton\, Promenade du Soleil\, Menton\, 06500\, France
CATEGORIES:Brocante
ATTACH;FMTTYPE=image/png:https://www.calendrierdesbrocantes.fr/wp-content/uploads/2026/04/menton.png
GEO:43.7722096;7.498037
X-APPLE-STRUCTURED-LOCATION;VALUE=URI;X-ADDRESS=Menton Promenade du Soleil Menton 06500 France;X-APPLE-RADIUS=500;X-TITLE=Promenade du Soleil:geo:7.498037,43.7722096
END:VEVENT
BEGIN:VEVENT
DTSTART;TZID=Europe/Paris:20270704T080000
DTEND;TZID=Europe/Paris:20270704T160000
DTSTAMP:20260419T181534
CREATED:20260418T214830Z
LAST-MODIFIED:20260418T221654Z
UID:10024565-1814688000-1814716800@www.calendrierdesbrocantes.fr
SUMMARY:Brocante de Menton (professionnel)
DESCRIPTION:Brocante de Menton (professionnel) \nBrocante réservée aux professionnels. Tirage 7 H 30 \nPromenade du Soleil
URL:https://www.calendrierdesbrocantes.fr/event/brocante-de-menton-professionnel-2/2027-07-04/
LOCATION:Menton\, Promenade du Soleil\, Menton\, 06500\, France
CATEGORIES:Brocante
ATTACH;FMTTYPE=image/png:https://www.calendrierdesbrocantes.fr/wp-content/uploads/2026/04/menton.png
GEO:43.7722096;7.498037
X-APPLE-STRUCTURED-LOCATION;VALUE=URI;X-ADDRESS=Menton Promenade du Soleil Menton 06500 France;X-APPLE-RADIUS=500;X-TITLE=Promenade du Soleil:geo:7.498037,43.7722096
END:VEVENT
BEGIN:VEVENT
DTSTART;TZID=Europe/Paris:20270709T080000
DTEND;TZID=Europe/Paris:20270709T160000
DTSTAMP:20260419T181534
CREATED:20260418T221044Z
LAST-MODIFIED:20260418T221044Z
UID:10025607-1815120000-1815148800@www.calendrierdesbrocantes.fr
SUMMARY:Brocante de Menton (professionnel)
DESCRIPTION:Brocante de Menton (professionnel) \nBrocante réservée aux professionnels. Tirage 7 H 30 \nPromenade du Soleil
URL:https://www.calendrierdesbrocantes.fr/event/brocante-de-menton-professionnel/2027-07-09/
LOCATION:Menton\, Promenade du Soleil\, Menton\, 06500\, France
CATEGORIES:Brocante
ATTACH;FMTTYPE=image/png:https://www.calendrierdesbrocantes.fr/wp-content/uploads/2026/04/menton.png
GEO:43.7722096;7.498037
X-APPLE-STRUCTURED-LOCATION;VALUE=URI;X-ADDRESS=Menton Promenade du Soleil Menton 06500 France;X-APPLE-RADIUS=500;X-TITLE=Promenade du Soleil:geo:7.498037,43.7722096
END:VEVENT
BEGIN:VEVENT
DTSTART;TZID=Europe/Paris:20270711T080000
DTEND;TZID=Europe/Paris:20270711T160000
DTSTAMP:20260419T181534
CREATED:20260418T214830Z
LAST-MODIFIED:20260418T221654Z
UID:10024566-1815292800-1815321600@www.calendrierdesbrocantes.fr
SUMMARY:Brocante de Menton (professionnel)
DESCRIPTION:Brocante de Menton (professionnel) \nBrocante réservée aux professionnels. Tirage 7 H 30 \nPromenade du Soleil
URL:https://www.calendrierdesbrocantes.fr/event/brocante-de-menton-professionnel-2/2027-07-11/
LOCATION:Menton\, Promenade du Soleil\, Menton\, 06500\, France
CATEGORIES:Brocante
ATTACH;FMTTYPE=image/png:https://www.calendrierdesbrocantes.fr/wp-content/uploads/2026/04/menton.png
GEO:43.7722096;7.498037
X-APPLE-STRUCTURED-LOCATION;VALUE=URI;X-ADDRESS=Menton Promenade du Soleil Menton 06500 France;X-APPLE-RADIUS=500;X-TITLE=Promenade du Soleil:geo:7.498037,43.7722096
END:VEVENT
BEGIN:VEVENT
DTSTART;TZID=Europe/Paris:20270716T080000
DTEND;TZID=Europe/Paris:20270716T160000
DTSTAMP:20260419T181534
CREATED:20260418T221044Z
LAST-MODIFIED:20260418T221044Z
UID:10025608-1815724800-1815753600@www.calendrierdesbrocantes.fr
SUMMARY:Brocante de Menton (professionnel)
DESCRIPTION:Brocante de Menton (professionnel) \nBrocante réservée aux professionnels. Tirage 7 H 30 \nPromenade du Soleil
URL:https://www.calendrierdesbrocantes.fr/event/brocante-de-menton-professionnel/2027-07-16/
LOCATION:Menton\, Promenade du Soleil\, Menton\, 06500\, France
CATEGORIES:Brocante
ATTACH;FMTTYPE=image/png:https://www.calendrierdesbrocantes.fr/wp-content/uploads/2026/04/menton.png
GEO:43.7722096;7.498037
X-APPLE-STRUCTURED-LOCATION;VALUE=URI;X-ADDRESS=Menton Promenade du Soleil Menton 06500 France;X-APPLE-RADIUS=500;X-TITLE=Promenade du Soleil:geo:7.498037,43.7722096
END:VEVENT
BEGIN:VEVENT
DTSTART;TZID=Europe/Paris:20270718T080000
DTEND;TZID=Europe/Paris:20270718T160000
DTSTAMP:20260419T181534
CREATED:20260418T214830Z
LAST-MODIFIED:20260418T221654Z
UID:10024567-1815897600-1815926400@www.calendrierdesbrocantes.fr
SUMMARY:Brocante de Menton (professionnel)
DESCRIPTION:Brocante de Menton (professionnel) \nBrocante réservée aux professionnels. Tirage 7 H 30 \nPromenade du Soleil
URL:https://www.calendrierdesbrocantes.fr/event/brocante-de-menton-professionnel-2/2027-07-18/
LOCATION:Menton\, Promenade du Soleil\, Menton\, 06500\, France
CATEGORIES:Brocante
ATTACH;FMTTYPE=image/png:https://www.calendrierdesbrocantes.fr/wp-content/uploads/2026/04/menton.png
GEO:43.7722096;7.498037
X-APPLE-STRUCTURED-LOCATION;VALUE=URI;X-ADDRESS=Menton Promenade du Soleil Menton 06500 France;X-APPLE-RADIUS=500;X-TITLE=Promenade du Soleil:geo:7.498037,43.7722096
END:VEVENT
END:VCALENDAR