BEGIN:VCALENDAR
VERSION:2.0
PRODID:-//Calendrier des brocantes - ECPv6.15.20//NONSGML v1.0//EN
CALSCALE:GREGORIAN
METHOD:PUBLISH
X-ORIGINAL-URL:https://www.calendrierdesbrocantes.fr
X-WR-CALDESC:Évènements pour Calendrier des brocantes
REFRESH-INTERVAL;VALUE=DURATION:PT1H
X-Robots-Tag:noindex
X-PUBLISHED-TTL:PT1H
BEGIN:VTIMEZONE
TZID:Europe/Paris
BEGIN:DAYLIGHT
TZOFFSETFROM:+0100
TZOFFSETTO:+0200
TZNAME:CEST
DTSTART:20260329T010000
END:DAYLIGHT
BEGIN:STANDARD
TZOFFSETFROM:+0200
TZOFFSETTO:+0100
TZNAME:CET
DTSTART:20261025T010000
END:STANDARD
BEGIN:DAYLIGHT
TZOFFSETFROM:+0100
TZOFFSETTO:+0200
TZNAME:CEST
DTSTART:20270328T010000
END:DAYLIGHT
BEGIN:STANDARD
TZOFFSETFROM:+0200
TZOFFSETTO:+0100
TZNAME:CET
DTSTART:20271031T010000
END:STANDARD
BEGIN:DAYLIGHT
TZOFFSETFROM:+0100
TZOFFSETTO:+0200
TZNAME:CEST
DTSTART:20280326T010000
END:DAYLIGHT
BEGIN:STANDARD
TZOFFSETFROM:+0200
TZOFFSETTO:+0100
TZNAME:CET
DTSTART:20281029T010000
END:STANDARD
END:VTIMEZONE
BEGIN:VEVENT
DTSTART;TZID=Europe/Paris:20270723T080000
DTEND;TZID=Europe/Paris:20270723T160000
DTSTAMP:20260419T233258
CREATED:20260418T221044Z
LAST-MODIFIED:20260418T221044Z
UID:10025609-1816329600-1816358400@www.calendrierdesbrocantes.fr
SUMMARY:Brocante de Menton (professionnel)
DESCRIPTION:Brocante de Menton (professionnel) \nBrocante réservée aux professionnels. Tirage 7 H 30 \nPromenade du Soleil
URL:https://www.calendrierdesbrocantes.fr/event/brocante-de-menton-professionnel/2027-07-23/
LOCATION:Menton\, Promenade du Soleil\, Menton\, 06500\, France
CATEGORIES:Brocante
ATTACH;FMTTYPE=image/png:https://www.calendrierdesbrocantes.fr/wp-content/uploads/2026/04/menton.png
GEO:43.7722096;7.498037
X-APPLE-STRUCTURED-LOCATION;VALUE=URI;X-ADDRESS=Menton Promenade du Soleil Menton 06500 France;X-APPLE-RADIUS=500;X-TITLE=Promenade du Soleil:geo:7.498037,43.7722096
END:VEVENT
BEGIN:VEVENT
DTSTART;TZID=Europe/Paris:20270725T080000
DTEND;TZID=Europe/Paris:20270725T160000
DTSTAMP:20260419T233258
CREATED:20260418T214830Z
LAST-MODIFIED:20260418T221654Z
UID:10024568-1816502400-1816531200@www.calendrierdesbrocantes.fr
SUMMARY:Brocante de Menton (professionnel)
DESCRIPTION:Brocante de Menton (professionnel) \nBrocante réservée aux professionnels. Tirage 7 H 30 \nPromenade du Soleil
URL:https://www.calendrierdesbrocantes.fr/event/brocante-de-menton-professionnel-2/2027-07-25/
LOCATION:Menton\, Promenade du Soleil\, Menton\, 06500\, France
CATEGORIES:Brocante
ATTACH;FMTTYPE=image/png:https://www.calendrierdesbrocantes.fr/wp-content/uploads/2026/04/menton.png
GEO:43.7722096;7.498037
X-APPLE-STRUCTURED-LOCATION;VALUE=URI;X-ADDRESS=Menton Promenade du Soleil Menton 06500 France;X-APPLE-RADIUS=500;X-TITLE=Promenade du Soleil:geo:7.498037,43.7722096
END:VEVENT
BEGIN:VEVENT
DTSTART;TZID=Europe/Paris:20270730T080000
DTEND;TZID=Europe/Paris:20270730T160000
DTSTAMP:20260419T233258
CREATED:20260418T221044Z
LAST-MODIFIED:20260418T221044Z
UID:10025610-1816934400-1816963200@www.calendrierdesbrocantes.fr
SUMMARY:Brocante de Menton (professionnel)
DESCRIPTION:Brocante de Menton (professionnel) \nBrocante réservée aux professionnels. Tirage 7 H 30 \nPromenade du Soleil
URL:https://www.calendrierdesbrocantes.fr/event/brocante-de-menton-professionnel/2027-07-30/
LOCATION:Menton\, Promenade du Soleil\, Menton\, 06500\, France
CATEGORIES:Brocante
ATTACH;FMTTYPE=image/png:https://www.calendrierdesbrocantes.fr/wp-content/uploads/2026/04/menton.png
GEO:43.7722096;7.498037
X-APPLE-STRUCTURED-LOCATION;VALUE=URI;X-ADDRESS=Menton Promenade du Soleil Menton 06500 France;X-APPLE-RADIUS=500;X-TITLE=Promenade du Soleil:geo:7.498037,43.7722096
END:VEVENT
BEGIN:VEVENT
DTSTART;TZID=Europe/Paris:20270801T080000
DTEND;TZID=Europe/Paris:20270801T160000
DTSTAMP:20260419T233258
CREATED:20260418T214830Z
LAST-MODIFIED:20260418T221654Z
UID:10024569-1817107200-1817136000@www.calendrierdesbrocantes.fr
SUMMARY:Brocante de Menton (professionnel)
DESCRIPTION:Brocante de Menton (professionnel) \nBrocante réservée aux professionnels. Tirage 7 H 30 \nPromenade du Soleil
URL:https://www.calendrierdesbrocantes.fr/event/brocante-de-menton-professionnel-2/2027-08-01/
LOCATION:Menton\, Promenade du Soleil\, Menton\, 06500\, France
CATEGORIES:Brocante
ATTACH;FMTTYPE=image/png:https://www.calendrierdesbrocantes.fr/wp-content/uploads/2026/04/menton.png
GEO:43.7722096;7.498037
X-APPLE-STRUCTURED-LOCATION;VALUE=URI;X-ADDRESS=Menton Promenade du Soleil Menton 06500 France;X-APPLE-RADIUS=500;X-TITLE=Promenade du Soleil:geo:7.498037,43.7722096
END:VEVENT
BEGIN:VEVENT
DTSTART;TZID=Europe/Paris:20270806T080000
DTEND;TZID=Europe/Paris:20270806T160000
DTSTAMP:20260419T233258
CREATED:20260418T221044Z
LAST-MODIFIED:20260418T221044Z
UID:10025611-1817539200-1817568000@www.calendrierdesbrocantes.fr
SUMMARY:Brocante de Menton (professionnel)
DESCRIPTION:Brocante de Menton (professionnel) \nBrocante réservée aux professionnels. Tirage 7 H 30 \nPromenade du Soleil
URL:https://www.calendrierdesbrocantes.fr/event/brocante-de-menton-professionnel/2027-08-06/
LOCATION:Menton\, Promenade du Soleil\, Menton\, 06500\, France
CATEGORIES:Brocante
ATTACH;FMTTYPE=image/png:https://www.calendrierdesbrocantes.fr/wp-content/uploads/2026/04/menton.png
GEO:43.7722096;7.498037
X-APPLE-STRUCTURED-LOCATION;VALUE=URI;X-ADDRESS=Menton Promenade du Soleil Menton 06500 France;X-APPLE-RADIUS=500;X-TITLE=Promenade du Soleil:geo:7.498037,43.7722096
END:VEVENT
BEGIN:VEVENT
DTSTART;TZID=Europe/Paris:20270808T080000
DTEND;TZID=Europe/Paris:20270808T160000
DTSTAMP:20260419T233258
CREATED:20260418T214830Z
LAST-MODIFIED:20260418T221654Z
UID:10024570-1817712000-1817740800@www.calendrierdesbrocantes.fr
SUMMARY:Brocante de Menton (professionnel)
DESCRIPTION:Brocante de Menton (professionnel) \nBrocante réservée aux professionnels. Tirage 7 H 30 \nPromenade du Soleil
URL:https://www.calendrierdesbrocantes.fr/event/brocante-de-menton-professionnel-2/2027-08-08/
LOCATION:Menton\, Promenade du Soleil\, Menton\, 06500\, France
CATEGORIES:Brocante
ATTACH;FMTTYPE=image/png:https://www.calendrierdesbrocantes.fr/wp-content/uploads/2026/04/menton.png
GEO:43.7722096;7.498037
X-APPLE-STRUCTURED-LOCATION;VALUE=URI;X-ADDRESS=Menton Promenade du Soleil Menton 06500 France;X-APPLE-RADIUS=500;X-TITLE=Promenade du Soleil:geo:7.498037,43.7722096
END:VEVENT
BEGIN:VEVENT
DTSTART;TZID=Europe/Paris:20270813T080000
DTEND;TZID=Europe/Paris:20270813T160000
DTSTAMP:20260419T233258
CREATED:20260418T221044Z
LAST-MODIFIED:20260418T221044Z
UID:10025612-1818144000-1818172800@www.calendrierdesbrocantes.fr
SUMMARY:Brocante de Menton (professionnel)
DESCRIPTION:Brocante de Menton (professionnel) \nBrocante réservée aux professionnels. Tirage 7 H 30 \nPromenade du Soleil
URL:https://www.calendrierdesbrocantes.fr/event/brocante-de-menton-professionnel/2027-08-13/
LOCATION:Menton\, Promenade du Soleil\, Menton\, 06500\, France
CATEGORIES:Brocante
ATTACH;FMTTYPE=image/png:https://www.calendrierdesbrocantes.fr/wp-content/uploads/2026/04/menton.png
GEO:43.7722096;7.498037
X-APPLE-STRUCTURED-LOCATION;VALUE=URI;X-ADDRESS=Menton Promenade du Soleil Menton 06500 France;X-APPLE-RADIUS=500;X-TITLE=Promenade du Soleil:geo:7.498037,43.7722096
END:VEVENT
BEGIN:VEVENT
DTSTART;TZID=Europe/Paris:20270815T080000
DTEND;TZID=Europe/Paris:20270815T160000
DTSTAMP:20260419T233258
CREATED:20260418T214830Z
LAST-MODIFIED:20260418T221654Z
UID:10024571-1818316800-1818345600@www.calendrierdesbrocantes.fr
SUMMARY:Brocante de Menton (professionnel)
DESCRIPTION:Brocante de Menton (professionnel) \nBrocante réservée aux professionnels. Tirage 7 H 30 \nPromenade du Soleil
URL:https://www.calendrierdesbrocantes.fr/event/brocante-de-menton-professionnel-2/2027-08-15/
LOCATION:Menton\, Promenade du Soleil\, Menton\, 06500\, France
CATEGORIES:Brocante
ATTACH;FMTTYPE=image/png:https://www.calendrierdesbrocantes.fr/wp-content/uploads/2026/04/menton.png
GEO:43.7722096;7.498037
X-APPLE-STRUCTURED-LOCATION;VALUE=URI;X-ADDRESS=Menton Promenade du Soleil Menton 06500 France;X-APPLE-RADIUS=500;X-TITLE=Promenade du Soleil:geo:7.498037,43.7722096
END:VEVENT
BEGIN:VEVENT
DTSTART;TZID=Europe/Paris:20270820T080000
DTEND;TZID=Europe/Paris:20270820T160000
DTSTAMP:20260419T233258
CREATED:20260418T221044Z
LAST-MODIFIED:20260418T221044Z
UID:10025613-1818748800-1818777600@www.calendrierdesbrocantes.fr
SUMMARY:Brocante de Menton (professionnel)
DESCRIPTION:Brocante de Menton (professionnel) \nBrocante réservée aux professionnels. Tirage 7 H 30 \nPromenade du Soleil
URL:https://www.calendrierdesbrocantes.fr/event/brocante-de-menton-professionnel/2027-08-20/
LOCATION:Menton\, Promenade du Soleil\, Menton\, 06500\, France
CATEGORIES:Brocante
ATTACH;FMTTYPE=image/png:https://www.calendrierdesbrocantes.fr/wp-content/uploads/2026/04/menton.png
GEO:43.7722096;7.498037
X-APPLE-STRUCTURED-LOCATION;VALUE=URI;X-ADDRESS=Menton Promenade du Soleil Menton 06500 France;X-APPLE-RADIUS=500;X-TITLE=Promenade du Soleil:geo:7.498037,43.7722096
END:VEVENT
BEGIN:VEVENT
DTSTART;TZID=Europe/Paris:20270822T080000
DTEND;TZID=Europe/Paris:20270822T160000
DTSTAMP:20260419T233258
CREATED:20260418T214830Z
LAST-MODIFIED:20260418T221654Z
UID:10024572-1818921600-1818950400@www.calendrierdesbrocantes.fr
SUMMARY:Brocante de Menton (professionnel)
DESCRIPTION:Brocante de Menton (professionnel) \nBrocante réservée aux professionnels. Tirage 7 H 30 \nPromenade du Soleil
URL:https://www.calendrierdesbrocantes.fr/event/brocante-de-menton-professionnel-2/2027-08-22/
LOCATION:Menton\, Promenade du Soleil\, Menton\, 06500\, France
CATEGORIES:Brocante
ATTACH;FMTTYPE=image/png:https://www.calendrierdesbrocantes.fr/wp-content/uploads/2026/04/menton.png
GEO:43.7722096;7.498037
X-APPLE-STRUCTURED-LOCATION;VALUE=URI;X-ADDRESS=Menton Promenade du Soleil Menton 06500 France;X-APPLE-RADIUS=500;X-TITLE=Promenade du Soleil:geo:7.498037,43.7722096
END:VEVENT
BEGIN:VEVENT
DTSTART;TZID=Europe/Paris:20270827T080000
DTEND;TZID=Europe/Paris:20270827T160000
DTSTAMP:20260419T233258
CREATED:20260418T221044Z
LAST-MODIFIED:20260418T221044Z
UID:10025614-1819353600-1819382400@www.calendrierdesbrocantes.fr
SUMMARY:Brocante de Menton (professionnel)
DESCRIPTION:Brocante de Menton (professionnel) \nBrocante réservée aux professionnels. Tirage 7 H 30 \nPromenade du Soleil
URL:https://www.calendrierdesbrocantes.fr/event/brocante-de-menton-professionnel/2027-08-27/
LOCATION:Menton\, Promenade du Soleil\, Menton\, 06500\, France
CATEGORIES:Brocante
ATTACH;FMTTYPE=image/png:https://www.calendrierdesbrocantes.fr/wp-content/uploads/2026/04/menton.png
GEO:43.7722096;7.498037
X-APPLE-STRUCTURED-LOCATION;VALUE=URI;X-ADDRESS=Menton Promenade du Soleil Menton 06500 France;X-APPLE-RADIUS=500;X-TITLE=Promenade du Soleil:geo:7.498037,43.7722096
END:VEVENT
BEGIN:VEVENT
DTSTART;TZID=Europe/Paris:20270829T080000
DTEND;TZID=Europe/Paris:20270829T160000
DTSTAMP:20260419T233258
CREATED:20260418T214830Z
LAST-MODIFIED:20260418T221654Z
UID:10024573-1819526400-1819555200@www.calendrierdesbrocantes.fr
SUMMARY:Brocante de Menton (professionnel)
DESCRIPTION:Brocante de Menton (professionnel) \nBrocante réservée aux professionnels. Tirage 7 H 30 \nPromenade du Soleil
URL:https://www.calendrierdesbrocantes.fr/event/brocante-de-menton-professionnel-2/2027-08-29/
LOCATION:Menton\, Promenade du Soleil\, Menton\, 06500\, France
CATEGORIES:Brocante
ATTACH;FMTTYPE=image/png:https://www.calendrierdesbrocantes.fr/wp-content/uploads/2026/04/menton.png
GEO:43.7722096;7.498037
X-APPLE-STRUCTURED-LOCATION;VALUE=URI;X-ADDRESS=Menton Promenade du Soleil Menton 06500 France;X-APPLE-RADIUS=500;X-TITLE=Promenade du Soleil:geo:7.498037,43.7722096
END:VEVENT
BEGIN:VEVENT
DTSTART;TZID=Europe/Paris:20270903T080000
DTEND;TZID=Europe/Paris:20270903T160000
DTSTAMP:20260419T233258
CREATED:20260418T221044Z
LAST-MODIFIED:20260418T221044Z
UID:10025615-1819958400-1819987200@www.calendrierdesbrocantes.fr
SUMMARY:Brocante de Menton (professionnel)
DESCRIPTION:Brocante de Menton (professionnel) \nBrocante réservée aux professionnels. Tirage 7 H 30 \nPromenade du Soleil
URL:https://www.calendrierdesbrocantes.fr/event/brocante-de-menton-professionnel/2027-09-03/
LOCATION:Menton\, Promenade du Soleil\, Menton\, 06500\, France
CATEGORIES:Brocante
ATTACH;FMTTYPE=image/png:https://www.calendrierdesbrocantes.fr/wp-content/uploads/2026/04/menton.png
GEO:43.7722096;7.498037
X-APPLE-STRUCTURED-LOCATION;VALUE=URI;X-ADDRESS=Menton Promenade du Soleil Menton 06500 France;X-APPLE-RADIUS=500;X-TITLE=Promenade du Soleil:geo:7.498037,43.7722096
END:VEVENT
BEGIN:VEVENT
DTSTART;TZID=Europe/Paris:20270905T080000
DTEND;TZID=Europe/Paris:20270905T160000
DTSTAMP:20260419T233258
CREATED:20260418T214830Z
LAST-MODIFIED:20260418T221654Z
UID:10024574-1820131200-1820160000@www.calendrierdesbrocantes.fr
SUMMARY:Brocante de Menton (professionnel)
DESCRIPTION:Brocante de Menton (professionnel) \nBrocante réservée aux professionnels. Tirage 7 H 30 \nPromenade du Soleil
URL:https://www.calendrierdesbrocantes.fr/event/brocante-de-menton-professionnel-2/2027-09-05/
LOCATION:Menton\, Promenade du Soleil\, Menton\, 06500\, France
CATEGORIES:Brocante
ATTACH;FMTTYPE=image/png:https://www.calendrierdesbrocantes.fr/wp-content/uploads/2026/04/menton.png
GEO:43.7722096;7.498037
X-APPLE-STRUCTURED-LOCATION;VALUE=URI;X-ADDRESS=Menton Promenade du Soleil Menton 06500 France;X-APPLE-RADIUS=500;X-TITLE=Promenade du Soleil:geo:7.498037,43.7722096
END:VEVENT
BEGIN:VEVENT
DTSTART;TZID=Europe/Paris:20270910T080000
DTEND;TZID=Europe/Paris:20270910T160000
DTSTAMP:20260419T233258
CREATED:20260418T221044Z
LAST-MODIFIED:20260418T221044Z
UID:10025616-1820563200-1820592000@www.calendrierdesbrocantes.fr
SUMMARY:Brocante de Menton (professionnel)
DESCRIPTION:Brocante de Menton (professionnel) \nBrocante réservée aux professionnels. Tirage 7 H 30 \nPromenade du Soleil
URL:https://www.calendrierdesbrocantes.fr/event/brocante-de-menton-professionnel/2027-09-10/
LOCATION:Menton\, Promenade du Soleil\, Menton\, 06500\, France
CATEGORIES:Brocante
ATTACH;FMTTYPE=image/png:https://www.calendrierdesbrocantes.fr/wp-content/uploads/2026/04/menton.png
GEO:43.7722096;7.498037
X-APPLE-STRUCTURED-LOCATION;VALUE=URI;X-ADDRESS=Menton Promenade du Soleil Menton 06500 France;X-APPLE-RADIUS=500;X-TITLE=Promenade du Soleil:geo:7.498037,43.7722096
END:VEVENT
BEGIN:VEVENT
DTSTART;TZID=Europe/Paris:20270912T080000
DTEND;TZID=Europe/Paris:20270912T160000
DTSTAMP:20260419T233258
CREATED:20260418T214830Z
LAST-MODIFIED:20260418T221654Z
UID:10024575-1820736000-1820764800@www.calendrierdesbrocantes.fr
SUMMARY:Brocante de Menton (professionnel)
DESCRIPTION:Brocante de Menton (professionnel) \nBrocante réservée aux professionnels. Tirage 7 H 30 \nPromenade du Soleil
URL:https://www.calendrierdesbrocantes.fr/event/brocante-de-menton-professionnel-2/2027-09-12/
LOCATION:Menton\, Promenade du Soleil\, Menton\, 06500\, France
CATEGORIES:Brocante
ATTACH;FMTTYPE=image/png:https://www.calendrierdesbrocantes.fr/wp-content/uploads/2026/04/menton.png
GEO:43.7722096;7.498037
X-APPLE-STRUCTURED-LOCATION;VALUE=URI;X-ADDRESS=Menton Promenade du Soleil Menton 06500 France;X-APPLE-RADIUS=500;X-TITLE=Promenade du Soleil:geo:7.498037,43.7722096
END:VEVENT
BEGIN:VEVENT
DTSTART;TZID=Europe/Paris:20270917T080000
DTEND;TZID=Europe/Paris:20270917T160000
DTSTAMP:20260419T233258
CREATED:20260418T221044Z
LAST-MODIFIED:20260418T221044Z
UID:10025617-1821168000-1821196800@www.calendrierdesbrocantes.fr
SUMMARY:Brocante de Menton (professionnel)
DESCRIPTION:Brocante de Menton (professionnel) \nBrocante réservée aux professionnels. Tirage 7 H 30 \nPromenade du Soleil
URL:https://www.calendrierdesbrocantes.fr/event/brocante-de-menton-professionnel/2027-09-17/
LOCATION:Menton\, Promenade du Soleil\, Menton\, 06500\, France
CATEGORIES:Brocante
ATTACH;FMTTYPE=image/png:https://www.calendrierdesbrocantes.fr/wp-content/uploads/2026/04/menton.png
GEO:43.7722096;7.498037
X-APPLE-STRUCTURED-LOCATION;VALUE=URI;X-ADDRESS=Menton Promenade du Soleil Menton 06500 France;X-APPLE-RADIUS=500;X-TITLE=Promenade du Soleil:geo:7.498037,43.7722096
END:VEVENT
BEGIN:VEVENT
DTSTART;TZID=Europe/Paris:20270919T080000
DTEND;TZID=Europe/Paris:20270919T160000
DTSTAMP:20260419T233258
CREATED:20260418T214830Z
LAST-MODIFIED:20260418T221654Z
UID:10024576-1821340800-1821369600@www.calendrierdesbrocantes.fr
SUMMARY:Brocante de Menton (professionnel)
DESCRIPTION:Brocante de Menton (professionnel) \nBrocante réservée aux professionnels. Tirage 7 H 30 \nPromenade du Soleil
URL:https://www.calendrierdesbrocantes.fr/event/brocante-de-menton-professionnel-2/2027-09-19/
LOCATION:Menton\, Promenade du Soleil\, Menton\, 06500\, France
CATEGORIES:Brocante
ATTACH;FMTTYPE=image/png:https://www.calendrierdesbrocantes.fr/wp-content/uploads/2026/04/menton.png
GEO:43.7722096;7.498037
X-APPLE-STRUCTURED-LOCATION;VALUE=URI;X-ADDRESS=Menton Promenade du Soleil Menton 06500 France;X-APPLE-RADIUS=500;X-TITLE=Promenade du Soleil:geo:7.498037,43.7722096
END:VEVENT
BEGIN:VEVENT
DTSTART;TZID=Europe/Paris:20270924T080000
DTEND;TZID=Europe/Paris:20270924T160000
DTSTAMP:20260419T233258
CREATED:20260418T221044Z
LAST-MODIFIED:20260418T221044Z
UID:10025618-1821772800-1821801600@www.calendrierdesbrocantes.fr
SUMMARY:Brocante de Menton (professionnel)
DESCRIPTION:Brocante de Menton (professionnel) \nBrocante réservée aux professionnels. Tirage 7 H 30 \nPromenade du Soleil
URL:https://www.calendrierdesbrocantes.fr/event/brocante-de-menton-professionnel/2027-09-24/
LOCATION:Menton\, Promenade du Soleil\, Menton\, 06500\, France
CATEGORIES:Brocante
ATTACH;FMTTYPE=image/png:https://www.calendrierdesbrocantes.fr/wp-content/uploads/2026/04/menton.png
GEO:43.7722096;7.498037
X-APPLE-STRUCTURED-LOCATION;VALUE=URI;X-ADDRESS=Menton Promenade du Soleil Menton 06500 France;X-APPLE-RADIUS=500;X-TITLE=Promenade du Soleil:geo:7.498037,43.7722096
END:VEVENT
BEGIN:VEVENT
DTSTART;TZID=Europe/Paris:20270926T080000
DTEND;TZID=Europe/Paris:20270926T160000
DTSTAMP:20260419T233258
CREATED:20260418T214830Z
LAST-MODIFIED:20260418T221654Z
UID:10024577-1821945600-1821974400@www.calendrierdesbrocantes.fr
SUMMARY:Brocante de Menton (professionnel)
DESCRIPTION:Brocante de Menton (professionnel) \nBrocante réservée aux professionnels. Tirage 7 H 30 \nPromenade du Soleil
URL:https://www.calendrierdesbrocantes.fr/event/brocante-de-menton-professionnel-2/2027-09-26/
LOCATION:Menton\, Promenade du Soleil\, Menton\, 06500\, France
CATEGORIES:Brocante
ATTACH;FMTTYPE=image/png:https://www.calendrierdesbrocantes.fr/wp-content/uploads/2026/04/menton.png
GEO:43.7722096;7.498037
X-APPLE-STRUCTURED-LOCATION;VALUE=URI;X-ADDRESS=Menton Promenade du Soleil Menton 06500 France;X-APPLE-RADIUS=500;X-TITLE=Promenade du Soleil:geo:7.498037,43.7722096
END:VEVENT
BEGIN:VEVENT
DTSTART;TZID=Europe/Paris:20271001T080000
DTEND;TZID=Europe/Paris:20271001T160000
DTSTAMP:20260419T233258
CREATED:20260418T221044Z
LAST-MODIFIED:20260418T221044Z
UID:10025619-1822377600-1822406400@www.calendrierdesbrocantes.fr
SUMMARY:Brocante de Menton (professionnel)
DESCRIPTION:Brocante de Menton (professionnel) \nBrocante réservée aux professionnels. Tirage 7 H 30 \nPromenade du Soleil
URL:https://www.calendrierdesbrocantes.fr/event/brocante-de-menton-professionnel/2027-10-01/
LOCATION:Menton\, Promenade du Soleil\, Menton\, 06500\, France
CATEGORIES:Brocante
ATTACH;FMTTYPE=image/png:https://www.calendrierdesbrocantes.fr/wp-content/uploads/2026/04/menton.png
GEO:43.7722096;7.498037
X-APPLE-STRUCTURED-LOCATION;VALUE=URI;X-ADDRESS=Menton Promenade du Soleil Menton 06500 France;X-APPLE-RADIUS=500;X-TITLE=Promenade du Soleil:geo:7.498037,43.7722096
END:VEVENT
BEGIN:VEVENT
DTSTART;TZID=Europe/Paris:20271003T080000
DTEND;TZID=Europe/Paris:20271003T160000
DTSTAMP:20260419T233258
CREATED:20260418T214830Z
LAST-MODIFIED:20260418T221654Z
UID:10024578-1822550400-1822579200@www.calendrierdesbrocantes.fr
SUMMARY:Brocante de Menton (professionnel)
DESCRIPTION:Brocante de Menton (professionnel) \nBrocante réservée aux professionnels. Tirage 7 H 30 \nPromenade du Soleil
URL:https://www.calendrierdesbrocantes.fr/event/brocante-de-menton-professionnel-2/2027-10-03/
LOCATION:Menton\, Promenade du Soleil\, Menton\, 06500\, France
CATEGORIES:Brocante
ATTACH;FMTTYPE=image/png:https://www.calendrierdesbrocantes.fr/wp-content/uploads/2026/04/menton.png
GEO:43.7722096;7.498037
X-APPLE-STRUCTURED-LOCATION;VALUE=URI;X-ADDRESS=Menton Promenade du Soleil Menton 06500 France;X-APPLE-RADIUS=500;X-TITLE=Promenade du Soleil:geo:7.498037,43.7722096
END:VEVENT
BEGIN:VEVENT
DTSTART;TZID=Europe/Paris:20271008T080000
DTEND;TZID=Europe/Paris:20271008T160000
DTSTAMP:20260419T233258
CREATED:20260418T221044Z
LAST-MODIFIED:20260418T221044Z
UID:10025620-1822982400-1823011200@www.calendrierdesbrocantes.fr
SUMMARY:Brocante de Menton (professionnel)
DESCRIPTION:Brocante de Menton (professionnel) \nBrocante réservée aux professionnels. Tirage 7 H 30 \nPromenade du Soleil
URL:https://www.calendrierdesbrocantes.fr/event/brocante-de-menton-professionnel/2027-10-08/
LOCATION:Menton\, Promenade du Soleil\, Menton\, 06500\, France
CATEGORIES:Brocante
ATTACH;FMTTYPE=image/png:https://www.calendrierdesbrocantes.fr/wp-content/uploads/2026/04/menton.png
GEO:43.7722096;7.498037
X-APPLE-STRUCTURED-LOCATION;VALUE=URI;X-ADDRESS=Menton Promenade du Soleil Menton 06500 France;X-APPLE-RADIUS=500;X-TITLE=Promenade du Soleil:geo:7.498037,43.7722096
END:VEVENT
BEGIN:VEVENT
DTSTART;TZID=Europe/Paris:20271010T080000
DTEND;TZID=Europe/Paris:20271010T160000
DTSTAMP:20260419T233258
CREATED:20260418T214830Z
LAST-MODIFIED:20260418T221654Z
UID:10024579-1823155200-1823184000@www.calendrierdesbrocantes.fr
SUMMARY:Brocante de Menton (professionnel)
DESCRIPTION:Brocante de Menton (professionnel) \nBrocante réservée aux professionnels. Tirage 7 H 30 \nPromenade du Soleil
URL:https://www.calendrierdesbrocantes.fr/event/brocante-de-menton-professionnel-2/2027-10-10/
LOCATION:Menton\, Promenade du Soleil\, Menton\, 06500\, France
CATEGORIES:Brocante
ATTACH;FMTTYPE=image/png:https://www.calendrierdesbrocantes.fr/wp-content/uploads/2026/04/menton.png
GEO:43.7722096;7.498037
X-APPLE-STRUCTURED-LOCATION;VALUE=URI;X-ADDRESS=Menton Promenade du Soleil Menton 06500 France;X-APPLE-RADIUS=500;X-TITLE=Promenade du Soleil:geo:7.498037,43.7722096
END:VEVENT
BEGIN:VEVENT
DTSTART;TZID=Europe/Paris:20271015T080000
DTEND;TZID=Europe/Paris:20271015T160000
DTSTAMP:20260419T233258
CREATED:20260418T221044Z
LAST-MODIFIED:20260418T221044Z
UID:10025621-1823587200-1823616000@www.calendrierdesbrocantes.fr
SUMMARY:Brocante de Menton (professionnel)
DESCRIPTION:Brocante de Menton (professionnel) \nBrocante réservée aux professionnels. Tirage 7 H 30 \nPromenade du Soleil
URL:https://www.calendrierdesbrocantes.fr/event/brocante-de-menton-professionnel/2027-10-15/
LOCATION:Menton\, Promenade du Soleil\, Menton\, 06500\, France
CATEGORIES:Brocante
ATTACH;FMTTYPE=image/png:https://www.calendrierdesbrocantes.fr/wp-content/uploads/2026/04/menton.png
GEO:43.7722096;7.498037
X-APPLE-STRUCTURED-LOCATION;VALUE=URI;X-ADDRESS=Menton Promenade du Soleil Menton 06500 France;X-APPLE-RADIUS=500;X-TITLE=Promenade du Soleil:geo:7.498037,43.7722096
END:VEVENT
BEGIN:VEVENT
DTSTART;TZID=Europe/Paris:20271017T080000
DTEND;TZID=Europe/Paris:20271017T160000
DTSTAMP:20260419T233258
CREATED:20260418T214830Z
LAST-MODIFIED:20260418T221654Z
UID:10024580-1823760000-1823788800@www.calendrierdesbrocantes.fr
SUMMARY:Brocante de Menton (professionnel)
DESCRIPTION:Brocante de Menton (professionnel) \nBrocante réservée aux professionnels. Tirage 7 H 30 \nPromenade du Soleil
URL:https://www.calendrierdesbrocantes.fr/event/brocante-de-menton-professionnel-2/2027-10-17/
LOCATION:Menton\, Promenade du Soleil\, Menton\, 06500\, France
CATEGORIES:Brocante
ATTACH;FMTTYPE=image/png:https://www.calendrierdesbrocantes.fr/wp-content/uploads/2026/04/menton.png
GEO:43.7722096;7.498037
X-APPLE-STRUCTURED-LOCATION;VALUE=URI;X-ADDRESS=Menton Promenade du Soleil Menton 06500 France;X-APPLE-RADIUS=500;X-TITLE=Promenade du Soleil:geo:7.498037,43.7722096
END:VEVENT
BEGIN:VEVENT
DTSTART;TZID=Europe/Paris:20271022T080000
DTEND;TZID=Europe/Paris:20271022T160000
DTSTAMP:20260419T233258
CREATED:20260418T221044Z
LAST-MODIFIED:20260418T221044Z
UID:10025622-1824192000-1824220800@www.calendrierdesbrocantes.fr
SUMMARY:Brocante de Menton (professionnel)
DESCRIPTION:Brocante de Menton (professionnel) \nBrocante réservée aux professionnels. Tirage 7 H 30 \nPromenade du Soleil
URL:https://www.calendrierdesbrocantes.fr/event/brocante-de-menton-professionnel/2027-10-22/
LOCATION:Menton\, Promenade du Soleil\, Menton\, 06500\, France
CATEGORIES:Brocante
ATTACH;FMTTYPE=image/png:https://www.calendrierdesbrocantes.fr/wp-content/uploads/2026/04/menton.png
GEO:43.7722096;7.498037
X-APPLE-STRUCTURED-LOCATION;VALUE=URI;X-ADDRESS=Menton Promenade du Soleil Menton 06500 France;X-APPLE-RADIUS=500;X-TITLE=Promenade du Soleil:geo:7.498037,43.7722096
END:VEVENT
BEGIN:VEVENT
DTSTART;TZID=Europe/Paris:20271024T080000
DTEND;TZID=Europe/Paris:20271024T160000
DTSTAMP:20260419T233258
CREATED:20260418T214830Z
LAST-MODIFIED:20260418T221654Z
UID:10024581-1824364800-1824393600@www.calendrierdesbrocantes.fr
SUMMARY:Brocante de Menton (professionnel)
DESCRIPTION:Brocante de Menton (professionnel) \nBrocante réservée aux professionnels. Tirage 7 H 30 \nPromenade du Soleil
URL:https://www.calendrierdesbrocantes.fr/event/brocante-de-menton-professionnel-2/2027-10-24/
LOCATION:Menton\, Promenade du Soleil\, Menton\, 06500\, France
CATEGORIES:Brocante
ATTACH;FMTTYPE=image/png:https://www.calendrierdesbrocantes.fr/wp-content/uploads/2026/04/menton.png
GEO:43.7722096;7.498037
X-APPLE-STRUCTURED-LOCATION;VALUE=URI;X-ADDRESS=Menton Promenade du Soleil Menton 06500 France;X-APPLE-RADIUS=500;X-TITLE=Promenade du Soleil:geo:7.498037,43.7722096
END:VEVENT
BEGIN:VEVENT
DTSTART;TZID=Europe/Paris:20271029T080000
DTEND;TZID=Europe/Paris:20271029T160000
DTSTAMP:20260419T233258
CREATED:20260418T221044Z
LAST-MODIFIED:20260418T221044Z
UID:10025623-1824796800-1824825600@www.calendrierdesbrocantes.fr
SUMMARY:Brocante de Menton (professionnel)
DESCRIPTION:Brocante de Menton (professionnel) \nBrocante réservée aux professionnels. Tirage 7 H 30 \nPromenade du Soleil
URL:https://www.calendrierdesbrocantes.fr/event/brocante-de-menton-professionnel/2027-10-29/
LOCATION:Menton\, Promenade du Soleil\, Menton\, 06500\, France
CATEGORIES:Brocante
ATTACH;FMTTYPE=image/png:https://www.calendrierdesbrocantes.fr/wp-content/uploads/2026/04/menton.png
GEO:43.7722096;7.498037
X-APPLE-STRUCTURED-LOCATION;VALUE=URI;X-ADDRESS=Menton Promenade du Soleil Menton 06500 France;X-APPLE-RADIUS=500;X-TITLE=Promenade du Soleil:geo:7.498037,43.7722096
END:VEVENT
BEGIN:VEVENT
DTSTART;TZID=Europe/Paris:20271031T080000
DTEND;TZID=Europe/Paris:20271031T160000
DTSTAMP:20260419T233258
CREATED:20260418T214830Z
LAST-MODIFIED:20260418T221654Z
UID:10024582-1824969600-1824998400@www.calendrierdesbrocantes.fr
SUMMARY:Brocante de Menton (professionnel)
DESCRIPTION:Brocante de Menton (professionnel) \nBrocante réservée aux professionnels. Tirage 7 H 30 \nPromenade du Soleil
URL:https://www.calendrierdesbrocantes.fr/event/brocante-de-menton-professionnel-2/2027-10-31/
LOCATION:Menton\, Promenade du Soleil\, Menton\, 06500\, France
CATEGORIES:Brocante
ATTACH;FMTTYPE=image/png:https://www.calendrierdesbrocantes.fr/wp-content/uploads/2026/04/menton.png
GEO:43.7722096;7.498037
X-APPLE-STRUCTURED-LOCATION;VALUE=URI;X-ADDRESS=Menton Promenade du Soleil Menton 06500 France;X-APPLE-RADIUS=500;X-TITLE=Promenade du Soleil:geo:7.498037,43.7722096
END:VEVENT
END:VCALENDAR