BEGIN:VCALENDAR
VERSION:2.0
PRODID:-//Calendrier des brocantes - ECPv6.15.20//NONSGML v1.0//EN
CALSCALE:GREGORIAN
METHOD:PUBLISH
X-ORIGINAL-URL:https://www.calendrierdesbrocantes.fr
X-WR-CALDESC:Évènements pour Calendrier des brocantes
REFRESH-INTERVAL;VALUE=DURATION:PT1H
X-Robots-Tag:noindex
X-PUBLISHED-TTL:PT1H
BEGIN:VTIMEZONE
TZID:Europe/Paris
BEGIN:DAYLIGHT
TZOFFSETFROM:+0100
TZOFFSETTO:+0200
TZNAME:CEST
DTSTART:20280326T010000
END:DAYLIGHT
BEGIN:STANDARD
TZOFFSETFROM:+0200
TZOFFSETTO:+0100
TZNAME:CET
DTSTART:20281029T010000
END:STANDARD
BEGIN:DAYLIGHT
TZOFFSETFROM:+0100
TZOFFSETTO:+0200
TZNAME:CEST
DTSTART:20290325T010000
END:DAYLIGHT
BEGIN:STANDARD
TZOFFSETFROM:+0200
TZOFFSETTO:+0100
TZNAME:CET
DTSTART:20291028T010000
END:STANDARD
BEGIN:DAYLIGHT
TZOFFSETFROM:+0100
TZOFFSETTO:+0200
TZNAME:CEST
DTSTART:20300331T010000
END:DAYLIGHT
BEGIN:STANDARD
TZOFFSETFROM:+0200
TZOFFSETTO:+0100
TZNAME:CET
DTSTART:20301027T010000
END:STANDARD
BEGIN:DAYLIGHT
TZOFFSETFROM:+0100
TZOFFSETTO:+0200
TZNAME:CEST
DTSTART:20310330T010000
END:DAYLIGHT
BEGIN:STANDARD
TZOFFSETFROM:+0200
TZOFFSETTO:+0100
TZNAME:CET
DTSTART:20311026T010000
END:STANDARD
END:VTIMEZONE
BEGIN:VEVENT
DTSTART;TZID=Europe/Paris:20290729T080000
DTEND;TZID=Europe/Paris:20290729T173000
DTSTAMP:20260423T084926
CREATED:20260421T220111Z
LAST-MODIFIED:20260421T220149Z
UID:10026245-1880006400-1880040600@www.calendrierdesbrocantes.fr
SUMMARY:Brocante de Foix
DESCRIPTION:La brocante du carrefour contact de Foix \n4\, Rue Des Bruilhols\, carrefour contact parking
URL:https://www.calendrierdesbrocantes.fr/event/brocante-de-foix/2029-07-29/
LOCATION:Foix\, 4\, Rue Des Bruilhols\, carrefour contact parking\, Foix\, 09000\, France
CATEGORIES:Brocante
ATTACH;FMTTYPE=image/png:https://www.calendrierdesbrocantes.fr/wp-content/uploads/2026/04/foix.png
GEO:42.975703;1.60806
X-APPLE-STRUCTURED-LOCATION;VALUE=URI;X-ADDRESS=Foix 4 Rue Des Bruilhols carrefour contact parking Foix 09000 France;X-APPLE-RADIUS=500;X-TITLE=4\, Rue Des Bruilhols\, carrefour contact parking:geo:1.60806,42.975703
END:VEVENT
BEGIN:VEVENT
DTSTART;TZID=Europe/Paris:20290805T080000
DTEND;TZID=Europe/Paris:20290805T173000
DTSTAMP:20260423T084926
CREATED:20260421T220111Z
LAST-MODIFIED:20260421T220149Z
UID:10026246-1880611200-1880645400@www.calendrierdesbrocantes.fr
SUMMARY:Brocante de Foix
DESCRIPTION:La brocante du carrefour contact de Foix \n4\, Rue Des Bruilhols\, carrefour contact parking
URL:https://www.calendrierdesbrocantes.fr/event/brocante-de-foix/2029-08-05/
LOCATION:Foix\, 4\, Rue Des Bruilhols\, carrefour contact parking\, Foix\, 09000\, France
CATEGORIES:Brocante
ATTACH;FMTTYPE=image/png:https://www.calendrierdesbrocantes.fr/wp-content/uploads/2026/04/foix.png
GEO:42.975703;1.60806
X-APPLE-STRUCTURED-LOCATION;VALUE=URI;X-ADDRESS=Foix 4 Rue Des Bruilhols carrefour contact parking Foix 09000 France;X-APPLE-RADIUS=500;X-TITLE=4\, Rue Des Bruilhols\, carrefour contact parking:geo:1.60806,42.975703
END:VEVENT
BEGIN:VEVENT
DTSTART;TZID=Europe/Paris:20290812T080000
DTEND;TZID=Europe/Paris:20290812T173000
DTSTAMP:20260423T084926
CREATED:20260421T220111Z
LAST-MODIFIED:20260421T220149Z
UID:10026247-1881216000-1881250200@www.calendrierdesbrocantes.fr
SUMMARY:Brocante de Foix
DESCRIPTION:La brocante du carrefour contact de Foix \n4\, Rue Des Bruilhols\, carrefour contact parking
URL:https://www.calendrierdesbrocantes.fr/event/brocante-de-foix/2029-08-12/
LOCATION:Foix\, 4\, Rue Des Bruilhols\, carrefour contact parking\, Foix\, 09000\, France
CATEGORIES:Brocante
ATTACH;FMTTYPE=image/png:https://www.calendrierdesbrocantes.fr/wp-content/uploads/2026/04/foix.png
GEO:42.975703;1.60806
X-APPLE-STRUCTURED-LOCATION;VALUE=URI;X-ADDRESS=Foix 4 Rue Des Bruilhols carrefour contact parking Foix 09000 France;X-APPLE-RADIUS=500;X-TITLE=4\, Rue Des Bruilhols\, carrefour contact parking:geo:1.60806,42.975703
END:VEVENT
BEGIN:VEVENT
DTSTART;TZID=Europe/Paris:20290819T080000
DTEND;TZID=Europe/Paris:20290819T173000
DTSTAMP:20260423T084926
CREATED:20260421T220111Z
LAST-MODIFIED:20260421T220149Z
UID:10026248-1881820800-1881855000@www.calendrierdesbrocantes.fr
SUMMARY:Brocante de Foix
DESCRIPTION:La brocante du carrefour contact de Foix \n4\, Rue Des Bruilhols\, carrefour contact parking
URL:https://www.calendrierdesbrocantes.fr/event/brocante-de-foix/2029-08-19/
LOCATION:Foix\, 4\, Rue Des Bruilhols\, carrefour contact parking\, Foix\, 09000\, France
CATEGORIES:Brocante
ATTACH;FMTTYPE=image/png:https://www.calendrierdesbrocantes.fr/wp-content/uploads/2026/04/foix.png
GEO:42.975703;1.60806
X-APPLE-STRUCTURED-LOCATION;VALUE=URI;X-ADDRESS=Foix 4 Rue Des Bruilhols carrefour contact parking Foix 09000 France;X-APPLE-RADIUS=500;X-TITLE=4\, Rue Des Bruilhols\, carrefour contact parking:geo:1.60806,42.975703
END:VEVENT
BEGIN:VEVENT
DTSTART;TZID=Europe/Paris:20290826T080000
DTEND;TZID=Europe/Paris:20290826T173000
DTSTAMP:20260423T084926
CREATED:20260421T220111Z
LAST-MODIFIED:20260421T220149Z
UID:10026249-1882425600-1882459800@www.calendrierdesbrocantes.fr
SUMMARY:Brocante de Foix
DESCRIPTION:La brocante du carrefour contact de Foix \n4\, Rue Des Bruilhols\, carrefour contact parking
URL:https://www.calendrierdesbrocantes.fr/event/brocante-de-foix/2029-08-26/
LOCATION:Foix\, 4\, Rue Des Bruilhols\, carrefour contact parking\, Foix\, 09000\, France
CATEGORIES:Brocante
ATTACH;FMTTYPE=image/png:https://www.calendrierdesbrocantes.fr/wp-content/uploads/2026/04/foix.png
GEO:42.975703;1.60806
X-APPLE-STRUCTURED-LOCATION;VALUE=URI;X-ADDRESS=Foix 4 Rue Des Bruilhols carrefour contact parking Foix 09000 France;X-APPLE-RADIUS=500;X-TITLE=4\, Rue Des Bruilhols\, carrefour contact parking:geo:1.60806,42.975703
END:VEVENT
BEGIN:VEVENT
DTSTART;TZID=Europe/Paris:20290902T080000
DTEND;TZID=Europe/Paris:20290902T173000
DTSTAMP:20260423T084926
CREATED:20260421T220111Z
LAST-MODIFIED:20260421T220149Z
UID:10026250-1883030400-1883064600@www.calendrierdesbrocantes.fr
SUMMARY:Brocante de Foix
DESCRIPTION:La brocante du carrefour contact de Foix \n4\, Rue Des Bruilhols\, carrefour contact parking
URL:https://www.calendrierdesbrocantes.fr/event/brocante-de-foix/2029-09-02/
LOCATION:Foix\, 4\, Rue Des Bruilhols\, carrefour contact parking\, Foix\, 09000\, France
CATEGORIES:Brocante
ATTACH;FMTTYPE=image/png:https://www.calendrierdesbrocantes.fr/wp-content/uploads/2026/04/foix.png
GEO:42.975703;1.60806
X-APPLE-STRUCTURED-LOCATION;VALUE=URI;X-ADDRESS=Foix 4 Rue Des Bruilhols carrefour contact parking Foix 09000 France;X-APPLE-RADIUS=500;X-TITLE=4\, Rue Des Bruilhols\, carrefour contact parking:geo:1.60806,42.975703
END:VEVENT
BEGIN:VEVENT
DTSTART;TZID=Europe/Paris:20290909T080000
DTEND;TZID=Europe/Paris:20290909T173000
DTSTAMP:20260423T084926
CREATED:20260421T220111Z
LAST-MODIFIED:20260421T220149Z
UID:10026251-1883635200-1883669400@www.calendrierdesbrocantes.fr
SUMMARY:Brocante de Foix
DESCRIPTION:La brocante du carrefour contact de Foix \n4\, Rue Des Bruilhols\, carrefour contact parking
URL:https://www.calendrierdesbrocantes.fr/event/brocante-de-foix/2029-09-09/
LOCATION:Foix\, 4\, Rue Des Bruilhols\, carrefour contact parking\, Foix\, 09000\, France
CATEGORIES:Brocante
ATTACH;FMTTYPE=image/png:https://www.calendrierdesbrocantes.fr/wp-content/uploads/2026/04/foix.png
GEO:42.975703;1.60806
X-APPLE-STRUCTURED-LOCATION;VALUE=URI;X-ADDRESS=Foix 4 Rue Des Bruilhols carrefour contact parking Foix 09000 France;X-APPLE-RADIUS=500;X-TITLE=4\, Rue Des Bruilhols\, carrefour contact parking:geo:1.60806,42.975703
END:VEVENT
BEGIN:VEVENT
DTSTART;TZID=Europe/Paris:20290916T080000
DTEND;TZID=Europe/Paris:20290916T173000
DTSTAMP:20260423T084926
CREATED:20260421T220111Z
LAST-MODIFIED:20260421T220149Z
UID:10026252-1884240000-1884274200@www.calendrierdesbrocantes.fr
SUMMARY:Brocante de Foix
DESCRIPTION:La brocante du carrefour contact de Foix \n4\, Rue Des Bruilhols\, carrefour contact parking
URL:https://www.calendrierdesbrocantes.fr/event/brocante-de-foix/2029-09-16/
LOCATION:Foix\, 4\, Rue Des Bruilhols\, carrefour contact parking\, Foix\, 09000\, France
CATEGORIES:Brocante
ATTACH;FMTTYPE=image/png:https://www.calendrierdesbrocantes.fr/wp-content/uploads/2026/04/foix.png
GEO:42.975703;1.60806
X-APPLE-STRUCTURED-LOCATION;VALUE=URI;X-ADDRESS=Foix 4 Rue Des Bruilhols carrefour contact parking Foix 09000 France;X-APPLE-RADIUS=500;X-TITLE=4\, Rue Des Bruilhols\, carrefour contact parking:geo:1.60806,42.975703
END:VEVENT
BEGIN:VEVENT
DTSTART;TZID=Europe/Paris:20290923T080000
DTEND;TZID=Europe/Paris:20290923T173000
DTSTAMP:20260423T084926
CREATED:20260421T220111Z
LAST-MODIFIED:20260421T220149Z
UID:10026253-1884844800-1884879000@www.calendrierdesbrocantes.fr
SUMMARY:Brocante de Foix
DESCRIPTION:La brocante du carrefour contact de Foix \n4\, Rue Des Bruilhols\, carrefour contact parking
URL:https://www.calendrierdesbrocantes.fr/event/brocante-de-foix/2029-09-23/
LOCATION:Foix\, 4\, Rue Des Bruilhols\, carrefour contact parking\, Foix\, 09000\, France
CATEGORIES:Brocante
ATTACH;FMTTYPE=image/png:https://www.calendrierdesbrocantes.fr/wp-content/uploads/2026/04/foix.png
GEO:42.975703;1.60806
X-APPLE-STRUCTURED-LOCATION;VALUE=URI;X-ADDRESS=Foix 4 Rue Des Bruilhols carrefour contact parking Foix 09000 France;X-APPLE-RADIUS=500;X-TITLE=4\, Rue Des Bruilhols\, carrefour contact parking:geo:1.60806,42.975703
END:VEVENT
BEGIN:VEVENT
DTSTART;TZID=Europe/Paris:20290930T080000
DTEND;TZID=Europe/Paris:20290930T173000
DTSTAMP:20260423T084926
CREATED:20260421T220111Z
LAST-MODIFIED:20260421T220149Z
UID:10026254-1885449600-1885483800@www.calendrierdesbrocantes.fr
SUMMARY:Brocante de Foix
DESCRIPTION:La brocante du carrefour contact de Foix \n4\, Rue Des Bruilhols\, carrefour contact parking
URL:https://www.calendrierdesbrocantes.fr/event/brocante-de-foix/2029-09-30/
LOCATION:Foix\, 4\, Rue Des Bruilhols\, carrefour contact parking\, Foix\, 09000\, France
CATEGORIES:Brocante
ATTACH;FMTTYPE=image/png:https://www.calendrierdesbrocantes.fr/wp-content/uploads/2026/04/foix.png
GEO:42.975703;1.60806
X-APPLE-STRUCTURED-LOCATION;VALUE=URI;X-ADDRESS=Foix 4 Rue Des Bruilhols carrefour contact parking Foix 09000 France;X-APPLE-RADIUS=500;X-TITLE=4\, Rue Des Bruilhols\, carrefour contact parking:geo:1.60806,42.975703
END:VEVENT
BEGIN:VEVENT
DTSTART;TZID=Europe/Paris:20291007T080000
DTEND;TZID=Europe/Paris:20291007T173000
DTSTAMP:20260423T084926
CREATED:20260421T220111Z
LAST-MODIFIED:20260421T220149Z
UID:10026255-1886054400-1886088600@www.calendrierdesbrocantes.fr
SUMMARY:Brocante de Foix
DESCRIPTION:La brocante du carrefour contact de Foix \n4\, Rue Des Bruilhols\, carrefour contact parking
URL:https://www.calendrierdesbrocantes.fr/event/brocante-de-foix/2029-10-07/
LOCATION:Foix\, 4\, Rue Des Bruilhols\, carrefour contact parking\, Foix\, 09000\, France
CATEGORIES:Brocante
ATTACH;FMTTYPE=image/png:https://www.calendrierdesbrocantes.fr/wp-content/uploads/2026/04/foix.png
GEO:42.975703;1.60806
X-APPLE-STRUCTURED-LOCATION;VALUE=URI;X-ADDRESS=Foix 4 Rue Des Bruilhols carrefour contact parking Foix 09000 France;X-APPLE-RADIUS=500;X-TITLE=4\, Rue Des Bruilhols\, carrefour contact parking:geo:1.60806,42.975703
END:VEVENT
BEGIN:VEVENT
DTSTART;TZID=Europe/Paris:20291014T080000
DTEND;TZID=Europe/Paris:20291014T173000
DTSTAMP:20260423T084926
CREATED:20260421T220111Z
LAST-MODIFIED:20260421T220149Z
UID:10026256-1886659200-1886693400@www.calendrierdesbrocantes.fr
SUMMARY:Brocante de Foix
DESCRIPTION:La brocante du carrefour contact de Foix \n4\, Rue Des Bruilhols\, carrefour contact parking
URL:https://www.calendrierdesbrocantes.fr/event/brocante-de-foix/2029-10-14/
LOCATION:Foix\, 4\, Rue Des Bruilhols\, carrefour contact parking\, Foix\, 09000\, France
CATEGORIES:Brocante
ATTACH;FMTTYPE=image/png:https://www.calendrierdesbrocantes.fr/wp-content/uploads/2026/04/foix.png
GEO:42.975703;1.60806
X-APPLE-STRUCTURED-LOCATION;VALUE=URI;X-ADDRESS=Foix 4 Rue Des Bruilhols carrefour contact parking Foix 09000 France;X-APPLE-RADIUS=500;X-TITLE=4\, Rue Des Bruilhols\, carrefour contact parking:geo:1.60806,42.975703
END:VEVENT
BEGIN:VEVENT
DTSTART;TZID=Europe/Paris:20291021T080000
DTEND;TZID=Europe/Paris:20291021T173000
DTSTAMP:20260423T084926
CREATED:20260421T220111Z
LAST-MODIFIED:20260421T220149Z
UID:10026257-1887264000-1887298200@www.calendrierdesbrocantes.fr
SUMMARY:Brocante de Foix
DESCRIPTION:La brocante du carrefour contact de Foix \n4\, Rue Des Bruilhols\, carrefour contact parking
URL:https://www.calendrierdesbrocantes.fr/event/brocante-de-foix/2029-10-21/
LOCATION:Foix\, 4\, Rue Des Bruilhols\, carrefour contact parking\, Foix\, 09000\, France
CATEGORIES:Brocante
ATTACH;FMTTYPE=image/png:https://www.calendrierdesbrocantes.fr/wp-content/uploads/2026/04/foix.png
GEO:42.975703;1.60806
X-APPLE-STRUCTURED-LOCATION;VALUE=URI;X-ADDRESS=Foix 4 Rue Des Bruilhols carrefour contact parking Foix 09000 France;X-APPLE-RADIUS=500;X-TITLE=4\, Rue Des Bruilhols\, carrefour contact parking:geo:1.60806,42.975703
END:VEVENT
BEGIN:VEVENT
DTSTART;TZID=Europe/Paris:20291028T080000
DTEND;TZID=Europe/Paris:20291028T173000
DTSTAMP:20260423T084926
CREATED:20260421T220111Z
LAST-MODIFIED:20260421T220149Z
UID:10026258-1887868800-1887903000@www.calendrierdesbrocantes.fr
SUMMARY:Brocante de Foix
DESCRIPTION:La brocante du carrefour contact de Foix \n4\, Rue Des Bruilhols\, carrefour contact parking
URL:https://www.calendrierdesbrocantes.fr/event/brocante-de-foix/2029-10-28/
LOCATION:Foix\, 4\, Rue Des Bruilhols\, carrefour contact parking\, Foix\, 09000\, France
CATEGORIES:Brocante
ATTACH;FMTTYPE=image/png:https://www.calendrierdesbrocantes.fr/wp-content/uploads/2026/04/foix.png
GEO:42.975703;1.60806
X-APPLE-STRUCTURED-LOCATION;VALUE=URI;X-ADDRESS=Foix 4 Rue Des Bruilhols carrefour contact parking Foix 09000 France;X-APPLE-RADIUS=500;X-TITLE=4\, Rue Des Bruilhols\, carrefour contact parking:geo:1.60806,42.975703
END:VEVENT
BEGIN:VEVENT
DTSTART;TZID=Europe/Paris:20291104T080000
DTEND;TZID=Europe/Paris:20291104T173000
DTSTAMP:20260423T084926
CREATED:20260421T220111Z
LAST-MODIFIED:20260421T220149Z
UID:10026259-1888473600-1888507800@www.calendrierdesbrocantes.fr
SUMMARY:Brocante de Foix
DESCRIPTION:La brocante du carrefour contact de Foix \n4\, Rue Des Bruilhols\, carrefour contact parking
URL:https://www.calendrierdesbrocantes.fr/event/brocante-de-foix/2029-11-04/
LOCATION:Foix\, 4\, Rue Des Bruilhols\, carrefour contact parking\, Foix\, 09000\, France
CATEGORIES:Brocante
ATTACH;FMTTYPE=image/png:https://www.calendrierdesbrocantes.fr/wp-content/uploads/2026/04/foix.png
GEO:42.975703;1.60806
X-APPLE-STRUCTURED-LOCATION;VALUE=URI;X-ADDRESS=Foix 4 Rue Des Bruilhols carrefour contact parking Foix 09000 France;X-APPLE-RADIUS=500;X-TITLE=4\, Rue Des Bruilhols\, carrefour contact parking:geo:1.60806,42.975703
END:VEVENT
BEGIN:VEVENT
DTSTART;TZID=Europe/Paris:20291111T080000
DTEND;TZID=Europe/Paris:20291111T173000
DTSTAMP:20260423T084926
CREATED:20260421T220111Z
LAST-MODIFIED:20260421T220149Z
UID:10026260-1889078400-1889112600@www.calendrierdesbrocantes.fr
SUMMARY:Brocante de Foix
DESCRIPTION:La brocante du carrefour contact de Foix \n4\, Rue Des Bruilhols\, carrefour contact parking
URL:https://www.calendrierdesbrocantes.fr/event/brocante-de-foix/2029-11-11/
LOCATION:Foix\, 4\, Rue Des Bruilhols\, carrefour contact parking\, Foix\, 09000\, France
CATEGORIES:Brocante
ATTACH;FMTTYPE=image/png:https://www.calendrierdesbrocantes.fr/wp-content/uploads/2026/04/foix.png
GEO:42.975703;1.60806
X-APPLE-STRUCTURED-LOCATION;VALUE=URI;X-ADDRESS=Foix 4 Rue Des Bruilhols carrefour contact parking Foix 09000 France;X-APPLE-RADIUS=500;X-TITLE=4\, Rue Des Bruilhols\, carrefour contact parking:geo:1.60806,42.975703
END:VEVENT
BEGIN:VEVENT
DTSTART;TZID=Europe/Paris:20291118T080000
DTEND;TZID=Europe/Paris:20291118T173000
DTSTAMP:20260423T084926
CREATED:20260421T220111Z
LAST-MODIFIED:20260421T220149Z
UID:10026261-1889683200-1889717400@www.calendrierdesbrocantes.fr
SUMMARY:Brocante de Foix
DESCRIPTION:La brocante du carrefour contact de Foix \n4\, Rue Des Bruilhols\, carrefour contact parking
URL:https://www.calendrierdesbrocantes.fr/event/brocante-de-foix/2029-11-18/
LOCATION:Foix\, 4\, Rue Des Bruilhols\, carrefour contact parking\, Foix\, 09000\, France
CATEGORIES:Brocante
ATTACH;FMTTYPE=image/png:https://www.calendrierdesbrocantes.fr/wp-content/uploads/2026/04/foix.png
GEO:42.975703;1.60806
X-APPLE-STRUCTURED-LOCATION;VALUE=URI;X-ADDRESS=Foix 4 Rue Des Bruilhols carrefour contact parking Foix 09000 France;X-APPLE-RADIUS=500;X-TITLE=4\, Rue Des Bruilhols\, carrefour contact parking:geo:1.60806,42.975703
END:VEVENT
BEGIN:VEVENT
DTSTART;TZID=Europe/Paris:20291125T080000
DTEND;TZID=Europe/Paris:20291125T173000
DTSTAMP:20260423T084926
CREATED:20260421T220111Z
LAST-MODIFIED:20260421T220149Z
UID:10026262-1890288000-1890322200@www.calendrierdesbrocantes.fr
SUMMARY:Brocante de Foix
DESCRIPTION:La brocante du carrefour contact de Foix \n4\, Rue Des Bruilhols\, carrefour contact parking
URL:https://www.calendrierdesbrocantes.fr/event/brocante-de-foix/2029-11-25/
LOCATION:Foix\, 4\, Rue Des Bruilhols\, carrefour contact parking\, Foix\, 09000\, France
CATEGORIES:Brocante
ATTACH;FMTTYPE=image/png:https://www.calendrierdesbrocantes.fr/wp-content/uploads/2026/04/foix.png
GEO:42.975703;1.60806
X-APPLE-STRUCTURED-LOCATION;VALUE=URI;X-ADDRESS=Foix 4 Rue Des Bruilhols carrefour contact parking Foix 09000 France;X-APPLE-RADIUS=500;X-TITLE=4\, Rue Des Bruilhols\, carrefour contact parking:geo:1.60806,42.975703
END:VEVENT
BEGIN:VEVENT
DTSTART;TZID=Europe/Paris:20291202T080000
DTEND;TZID=Europe/Paris:20291202T173000
DTSTAMP:20260423T084926
CREATED:20260421T220111Z
LAST-MODIFIED:20260421T220149Z
UID:10026263-1890892800-1890927000@www.calendrierdesbrocantes.fr
SUMMARY:Brocante de Foix
DESCRIPTION:La brocante du carrefour contact de Foix \n4\, Rue Des Bruilhols\, carrefour contact parking
URL:https://www.calendrierdesbrocantes.fr/event/brocante-de-foix/2029-12-02/
LOCATION:Foix\, 4\, Rue Des Bruilhols\, carrefour contact parking\, Foix\, 09000\, France
CATEGORIES:Brocante
ATTACH;FMTTYPE=image/png:https://www.calendrierdesbrocantes.fr/wp-content/uploads/2026/04/foix.png
GEO:42.975703;1.60806
X-APPLE-STRUCTURED-LOCATION;VALUE=URI;X-ADDRESS=Foix 4 Rue Des Bruilhols carrefour contact parking Foix 09000 France;X-APPLE-RADIUS=500;X-TITLE=4\, Rue Des Bruilhols\, carrefour contact parking:geo:1.60806,42.975703
END:VEVENT
BEGIN:VEVENT
DTSTART;TZID=Europe/Paris:20291209T080000
DTEND;TZID=Europe/Paris:20291209T173000
DTSTAMP:20260423T084926
CREATED:20260421T220111Z
LAST-MODIFIED:20260421T220149Z
UID:10026264-1891497600-1891531800@www.calendrierdesbrocantes.fr
SUMMARY:Brocante de Foix
DESCRIPTION:La brocante du carrefour contact de Foix \n4\, Rue Des Bruilhols\, carrefour contact parking
URL:https://www.calendrierdesbrocantes.fr/event/brocante-de-foix/2029-12-09/
LOCATION:Foix\, 4\, Rue Des Bruilhols\, carrefour contact parking\, Foix\, 09000\, France
CATEGORIES:Brocante
ATTACH;FMTTYPE=image/png:https://www.calendrierdesbrocantes.fr/wp-content/uploads/2026/04/foix.png
GEO:42.975703;1.60806
X-APPLE-STRUCTURED-LOCATION;VALUE=URI;X-ADDRESS=Foix 4 Rue Des Bruilhols carrefour contact parking Foix 09000 France;X-APPLE-RADIUS=500;X-TITLE=4\, Rue Des Bruilhols\, carrefour contact parking:geo:1.60806,42.975703
END:VEVENT
BEGIN:VEVENT
DTSTART;TZID=Europe/Paris:20291216T080000
DTEND;TZID=Europe/Paris:20291216T173000
DTSTAMP:20260423T084926
CREATED:20260421T220111Z
LAST-MODIFIED:20260421T220149Z
UID:10026265-1892102400-1892136600@www.calendrierdesbrocantes.fr
SUMMARY:Brocante de Foix
DESCRIPTION:La brocante du carrefour contact de Foix \n4\, Rue Des Bruilhols\, carrefour contact parking
URL:https://www.calendrierdesbrocantes.fr/event/brocante-de-foix/2029-12-16/
LOCATION:Foix\, 4\, Rue Des Bruilhols\, carrefour contact parking\, Foix\, 09000\, France
CATEGORIES:Brocante
ATTACH;FMTTYPE=image/png:https://www.calendrierdesbrocantes.fr/wp-content/uploads/2026/04/foix.png
GEO:42.975703;1.60806
X-APPLE-STRUCTURED-LOCATION;VALUE=URI;X-ADDRESS=Foix 4 Rue Des Bruilhols carrefour contact parking Foix 09000 France;X-APPLE-RADIUS=500;X-TITLE=4\, Rue Des Bruilhols\, carrefour contact parking:geo:1.60806,42.975703
END:VEVENT
BEGIN:VEVENT
DTSTART;TZID=Europe/Paris:20291223T080000
DTEND;TZID=Europe/Paris:20291223T173000
DTSTAMP:20260423T084926
CREATED:20260421T220111Z
LAST-MODIFIED:20260421T220149Z
UID:10026266-1892707200-1892741400@www.calendrierdesbrocantes.fr
SUMMARY:Brocante de Foix
DESCRIPTION:La brocante du carrefour contact de Foix \n4\, Rue Des Bruilhols\, carrefour contact parking
URL:https://www.calendrierdesbrocantes.fr/event/brocante-de-foix/2029-12-23/
LOCATION:Foix\, 4\, Rue Des Bruilhols\, carrefour contact parking\, Foix\, 09000\, France
CATEGORIES:Brocante
ATTACH;FMTTYPE=image/png:https://www.calendrierdesbrocantes.fr/wp-content/uploads/2026/04/foix.png
GEO:42.975703;1.60806
X-APPLE-STRUCTURED-LOCATION;VALUE=URI;X-ADDRESS=Foix 4 Rue Des Bruilhols carrefour contact parking Foix 09000 France;X-APPLE-RADIUS=500;X-TITLE=4\, Rue Des Bruilhols\, carrefour contact parking:geo:1.60806,42.975703
END:VEVENT
BEGIN:VEVENT
DTSTART;TZID=Europe/Paris:20291230T080000
DTEND;TZID=Europe/Paris:20291230T173000
DTSTAMP:20260423T084926
CREATED:20260421T220111Z
LAST-MODIFIED:20260421T220149Z
UID:10026267-1893312000-1893346200@www.calendrierdesbrocantes.fr
SUMMARY:Brocante de Foix
DESCRIPTION:La brocante du carrefour contact de Foix \n4\, Rue Des Bruilhols\, carrefour contact parking
URL:https://www.calendrierdesbrocantes.fr/event/brocante-de-foix/2029-12-30/
LOCATION:Foix\, 4\, Rue Des Bruilhols\, carrefour contact parking\, Foix\, 09000\, France
CATEGORIES:Brocante
ATTACH;FMTTYPE=image/png:https://www.calendrierdesbrocantes.fr/wp-content/uploads/2026/04/foix.png
GEO:42.975703;1.60806
X-APPLE-STRUCTURED-LOCATION;VALUE=URI;X-ADDRESS=Foix 4 Rue Des Bruilhols carrefour contact parking Foix 09000 France;X-APPLE-RADIUS=500;X-TITLE=4\, Rue Des Bruilhols\, carrefour contact parking:geo:1.60806,42.975703
END:VEVENT
BEGIN:VEVENT
DTSTART;TZID=Europe/Paris:20300106T080000
DTEND;TZID=Europe/Paris:20300106T173000
DTSTAMP:20260423T084926
CREATED:20260421T220111Z
LAST-MODIFIED:20260421T220149Z
UID:10026268-1893916800-1893951000@www.calendrierdesbrocantes.fr
SUMMARY:Brocante de Foix
DESCRIPTION:La brocante du carrefour contact de Foix \n4\, Rue Des Bruilhols\, carrefour contact parking
URL:https://www.calendrierdesbrocantes.fr/event/brocante-de-foix/2030-01-06/
LOCATION:Foix\, 4\, Rue Des Bruilhols\, carrefour contact parking\, Foix\, 09000\, France
CATEGORIES:Brocante
ATTACH;FMTTYPE=image/png:https://www.calendrierdesbrocantes.fr/wp-content/uploads/2026/04/foix.png
GEO:42.975703;1.60806
X-APPLE-STRUCTURED-LOCATION;VALUE=URI;X-ADDRESS=Foix 4 Rue Des Bruilhols carrefour contact parking Foix 09000 France;X-APPLE-RADIUS=500;X-TITLE=4\, Rue Des Bruilhols\, carrefour contact parking:geo:1.60806,42.975703
END:VEVENT
BEGIN:VEVENT
DTSTART;TZID=Europe/Paris:20300113T080000
DTEND;TZID=Europe/Paris:20300113T173000
DTSTAMP:20260423T084926
CREATED:20260421T220111Z
LAST-MODIFIED:20260421T220149Z
UID:10026269-1894521600-1894555800@www.calendrierdesbrocantes.fr
SUMMARY:Brocante de Foix
DESCRIPTION:La brocante du carrefour contact de Foix \n4\, Rue Des Bruilhols\, carrefour contact parking
URL:https://www.calendrierdesbrocantes.fr/event/brocante-de-foix/2030-01-13/
LOCATION:Foix\, 4\, Rue Des Bruilhols\, carrefour contact parking\, Foix\, 09000\, France
CATEGORIES:Brocante
ATTACH;FMTTYPE=image/png:https://www.calendrierdesbrocantes.fr/wp-content/uploads/2026/04/foix.png
GEO:42.975703;1.60806
X-APPLE-STRUCTURED-LOCATION;VALUE=URI;X-ADDRESS=Foix 4 Rue Des Bruilhols carrefour contact parking Foix 09000 France;X-APPLE-RADIUS=500;X-TITLE=4\, Rue Des Bruilhols\, carrefour contact parking:geo:1.60806,42.975703
END:VEVENT
BEGIN:VEVENT
DTSTART;TZID=Europe/Paris:20300120T080000
DTEND;TZID=Europe/Paris:20300120T173000
DTSTAMP:20260423T084926
CREATED:20260421T220111Z
LAST-MODIFIED:20260421T220149Z
UID:10026270-1895126400-1895160600@www.calendrierdesbrocantes.fr
SUMMARY:Brocante de Foix
DESCRIPTION:La brocante du carrefour contact de Foix \n4\, Rue Des Bruilhols\, carrefour contact parking
URL:https://www.calendrierdesbrocantes.fr/event/brocante-de-foix/2030-01-20/
LOCATION:Foix\, 4\, Rue Des Bruilhols\, carrefour contact parking\, Foix\, 09000\, France
CATEGORIES:Brocante
ATTACH;FMTTYPE=image/png:https://www.calendrierdesbrocantes.fr/wp-content/uploads/2026/04/foix.png
GEO:42.975703;1.60806
X-APPLE-STRUCTURED-LOCATION;VALUE=URI;X-ADDRESS=Foix 4 Rue Des Bruilhols carrefour contact parking Foix 09000 France;X-APPLE-RADIUS=500;X-TITLE=4\, Rue Des Bruilhols\, carrefour contact parking:geo:1.60806,42.975703
END:VEVENT
BEGIN:VEVENT
DTSTART;TZID=Europe/Paris:20300127T080000
DTEND;TZID=Europe/Paris:20300127T173000
DTSTAMP:20260423T084926
CREATED:20260421T220111Z
LAST-MODIFIED:20260421T220149Z
UID:10026271-1895731200-1895765400@www.calendrierdesbrocantes.fr
SUMMARY:Brocante de Foix
DESCRIPTION:La brocante du carrefour contact de Foix \n4\, Rue Des Bruilhols\, carrefour contact parking
URL:https://www.calendrierdesbrocantes.fr/event/brocante-de-foix/2030-01-27/
LOCATION:Foix\, 4\, Rue Des Bruilhols\, carrefour contact parking\, Foix\, 09000\, France
CATEGORIES:Brocante
ATTACH;FMTTYPE=image/png:https://www.calendrierdesbrocantes.fr/wp-content/uploads/2026/04/foix.png
GEO:42.975703;1.60806
X-APPLE-STRUCTURED-LOCATION;VALUE=URI;X-ADDRESS=Foix 4 Rue Des Bruilhols carrefour contact parking Foix 09000 France;X-APPLE-RADIUS=500;X-TITLE=4\, Rue Des Bruilhols\, carrefour contact parking:geo:1.60806,42.975703
END:VEVENT
BEGIN:VEVENT
DTSTART;TZID=Europe/Paris:20300203T080000
DTEND;TZID=Europe/Paris:20300203T173000
DTSTAMP:20260423T084926
CREATED:20260421T220111Z
LAST-MODIFIED:20260421T220149Z
UID:10026272-1896336000-1896370200@www.calendrierdesbrocantes.fr
SUMMARY:Brocante de Foix
DESCRIPTION:La brocante du carrefour contact de Foix \n4\, Rue Des Bruilhols\, carrefour contact parking
URL:https://www.calendrierdesbrocantes.fr/event/brocante-de-foix/2030-02-03/
LOCATION:Foix\, 4\, Rue Des Bruilhols\, carrefour contact parking\, Foix\, 09000\, France
CATEGORIES:Brocante
ATTACH;FMTTYPE=image/png:https://www.calendrierdesbrocantes.fr/wp-content/uploads/2026/04/foix.png
GEO:42.975703;1.60806
X-APPLE-STRUCTURED-LOCATION;VALUE=URI;X-ADDRESS=Foix 4 Rue Des Bruilhols carrefour contact parking Foix 09000 France;X-APPLE-RADIUS=500;X-TITLE=4\, Rue Des Bruilhols\, carrefour contact parking:geo:1.60806,42.975703
END:VEVENT
BEGIN:VEVENT
DTSTART;TZID=Europe/Paris:20300210T080000
DTEND;TZID=Europe/Paris:20300210T173000
DTSTAMP:20260423T084926
CREATED:20260421T220111Z
LAST-MODIFIED:20260421T220149Z
UID:10026273-1896940800-1896975000@www.calendrierdesbrocantes.fr
SUMMARY:Brocante de Foix
DESCRIPTION:La brocante du carrefour contact de Foix \n4\, Rue Des Bruilhols\, carrefour contact parking
URL:https://www.calendrierdesbrocantes.fr/event/brocante-de-foix/2030-02-10/
LOCATION:Foix\, 4\, Rue Des Bruilhols\, carrefour contact parking\, Foix\, 09000\, France
CATEGORIES:Brocante
ATTACH;FMTTYPE=image/png:https://www.calendrierdesbrocantes.fr/wp-content/uploads/2026/04/foix.png
GEO:42.975703;1.60806
X-APPLE-STRUCTURED-LOCATION;VALUE=URI;X-ADDRESS=Foix 4 Rue Des Bruilhols carrefour contact parking Foix 09000 France;X-APPLE-RADIUS=500;X-TITLE=4\, Rue Des Bruilhols\, carrefour contact parking:geo:1.60806,42.975703
END:VEVENT
BEGIN:VEVENT
DTSTART;TZID=Europe/Paris:20300217T080000
DTEND;TZID=Europe/Paris:20300217T173000
DTSTAMP:20260423T084926
CREATED:20260421T220111Z
LAST-MODIFIED:20260421T220149Z
UID:10026274-1897545600-1897579800@www.calendrierdesbrocantes.fr
SUMMARY:Brocante de Foix
DESCRIPTION:La brocante du carrefour contact de Foix \n4\, Rue Des Bruilhols\, carrefour contact parking
URL:https://www.calendrierdesbrocantes.fr/event/brocante-de-foix/2030-02-17/
LOCATION:Foix\, 4\, Rue Des Bruilhols\, carrefour contact parking\, Foix\, 09000\, France
CATEGORIES:Brocante
ATTACH;FMTTYPE=image/png:https://www.calendrierdesbrocantes.fr/wp-content/uploads/2026/04/foix.png
GEO:42.975703;1.60806
X-APPLE-STRUCTURED-LOCATION;VALUE=URI;X-ADDRESS=Foix 4 Rue Des Bruilhols carrefour contact parking Foix 09000 France;X-APPLE-RADIUS=500;X-TITLE=4\, Rue Des Bruilhols\, carrefour contact parking:geo:1.60806,42.975703
END:VEVENT
END:VCALENDAR