BEGIN:VCALENDAR
VERSION:2.0
PRODID:-//Calendrier des brocantes - ECPv6.15.20//NONSGML v1.0//EN
CALSCALE:GREGORIAN
METHOD:PUBLISH
X-WR-CALNAME:Calendrier des brocantes
X-ORIGINAL-URL:https://www.calendrierdesbrocantes.fr
X-WR-CALDESC:Évènements pour Calendrier des brocantes
REFRESH-INTERVAL;VALUE=DURATION:PT1H
X-Robots-Tag:noindex
X-PUBLISHED-TTL:PT1H
BEGIN:VTIMEZONE
TZID:Europe/Paris
BEGIN:DAYLIGHT
TZOFFSETFROM:+0100
TZOFFSETTO:+0200
TZNAME:CEST
DTSTART:20270328T010000
END:DAYLIGHT
BEGIN:STANDARD
TZOFFSETFROM:+0200
TZOFFSETTO:+0100
TZNAME:CET
DTSTART:20271031T010000
END:STANDARD
BEGIN:DAYLIGHT
TZOFFSETFROM:+0100
TZOFFSETTO:+0200
TZNAME:CEST
DTSTART:20280326T010000
END:DAYLIGHT
BEGIN:STANDARD
TZOFFSETFROM:+0200
TZOFFSETTO:+0100
TZNAME:CET
DTSTART:20281029T010000
END:STANDARD
BEGIN:DAYLIGHT
TZOFFSETFROM:+0100
TZOFFSETTO:+0200
TZNAME:CEST
DTSTART:20290325T010000
END:DAYLIGHT
BEGIN:STANDARD
TZOFFSETFROM:+0200
TZOFFSETTO:+0100
TZNAME:CET
DTSTART:20291028T010000
END:STANDARD
END:VTIMEZONE
BEGIN:VEVENT
DTSTART;TZID=Europe/Paris:20280114T080000
DTEND;TZID=Europe/Paris:20280114T160000
DTSTAMP:20260420T074146
CREATED:20260418T221044Z
LAST-MODIFIED:20260418T221044Z
UID:10025634-1831449600-1831478400@www.calendrierdesbrocantes.fr
SUMMARY:Brocante de Menton (professionnel)
DESCRIPTION:Brocante de Menton (professionnel) \nBrocante réservée aux professionnels. Tirage 7 H 30 \nPromenade du Soleil
URL:https://www.calendrierdesbrocantes.fr/event/brocante-de-menton-professionnel/2028-01-14/
LOCATION:Menton\, Promenade du Soleil\, Menton\, 06500\, France
CATEGORIES:Brocante
ATTACH;FMTTYPE=image/png:https://www.calendrierdesbrocantes.fr/wp-content/uploads/2026/04/menton.png
GEO:43.7722096;7.498037
X-APPLE-STRUCTURED-LOCATION;VALUE=URI;X-ADDRESS=Menton Promenade du Soleil Menton 06500 France;X-APPLE-RADIUS=500;X-TITLE=Promenade du Soleil:geo:7.498037,43.7722096
END:VEVENT
BEGIN:VEVENT
DTSTART;TZID=Europe/Paris:20280116T080000
DTEND;TZID=Europe/Paris:20280116T160000
DTSTAMP:20260420T074146
CREATED:20260418T214830Z
LAST-MODIFIED:20260418T221654Z
UID:10024593-1831622400-1831651200@www.calendrierdesbrocantes.fr
SUMMARY:Brocante de Menton (professionnel)
DESCRIPTION:Brocante de Menton (professionnel) \nBrocante réservée aux professionnels. Tirage 7 H 30 \nPromenade du Soleil
URL:https://www.calendrierdesbrocantes.fr/event/brocante-de-menton-professionnel-2/2028-01-16/
LOCATION:Menton\, Promenade du Soleil\, Menton\, 06500\, France
CATEGORIES:Brocante
ATTACH;FMTTYPE=image/png:https://www.calendrierdesbrocantes.fr/wp-content/uploads/2026/04/menton.png
GEO:43.7722096;7.498037
X-APPLE-STRUCTURED-LOCATION;VALUE=URI;X-ADDRESS=Menton Promenade du Soleil Menton 06500 France;X-APPLE-RADIUS=500;X-TITLE=Promenade du Soleil:geo:7.498037,43.7722096
END:VEVENT
BEGIN:VEVENT
DTSTART;TZID=Europe/Paris:20280121T080000
DTEND;TZID=Europe/Paris:20280121T160000
DTSTAMP:20260420T074146
CREATED:20260418T221044Z
LAST-MODIFIED:20260418T221044Z
UID:10025635-1832054400-1832083200@www.calendrierdesbrocantes.fr
SUMMARY:Brocante de Menton (professionnel)
DESCRIPTION:Brocante de Menton (professionnel) \nBrocante réservée aux professionnels. Tirage 7 H 30 \nPromenade du Soleil
URL:https://www.calendrierdesbrocantes.fr/event/brocante-de-menton-professionnel/2028-01-21/
LOCATION:Menton\, Promenade du Soleil\, Menton\, 06500\, France
CATEGORIES:Brocante
ATTACH;FMTTYPE=image/png:https://www.calendrierdesbrocantes.fr/wp-content/uploads/2026/04/menton.png
GEO:43.7722096;7.498037
X-APPLE-STRUCTURED-LOCATION;VALUE=URI;X-ADDRESS=Menton Promenade du Soleil Menton 06500 France;X-APPLE-RADIUS=500;X-TITLE=Promenade du Soleil:geo:7.498037,43.7722096
END:VEVENT
BEGIN:VEVENT
DTSTART;TZID=Europe/Paris:20280123T080000
DTEND;TZID=Europe/Paris:20280123T160000
DTSTAMP:20260420T074146
CREATED:20260418T214830Z
LAST-MODIFIED:20260418T221654Z
UID:10024594-1832227200-1832256000@www.calendrierdesbrocantes.fr
SUMMARY:Brocante de Menton (professionnel)
DESCRIPTION:Brocante de Menton (professionnel) \nBrocante réservée aux professionnels. Tirage 7 H 30 \nPromenade du Soleil
URL:https://www.calendrierdesbrocantes.fr/event/brocante-de-menton-professionnel-2/2028-01-23/
LOCATION:Menton\, Promenade du Soleil\, Menton\, 06500\, France
CATEGORIES:Brocante
ATTACH;FMTTYPE=image/png:https://www.calendrierdesbrocantes.fr/wp-content/uploads/2026/04/menton.png
GEO:43.7722096;7.498037
X-APPLE-STRUCTURED-LOCATION;VALUE=URI;X-ADDRESS=Menton Promenade du Soleil Menton 06500 France;X-APPLE-RADIUS=500;X-TITLE=Promenade du Soleil:geo:7.498037,43.7722096
END:VEVENT
BEGIN:VEVENT
DTSTART;TZID=Europe/Paris:20280128T080000
DTEND;TZID=Europe/Paris:20280128T160000
DTSTAMP:20260420T074146
CREATED:20260418T221044Z
LAST-MODIFIED:20260418T221044Z
UID:10025636-1832659200-1832688000@www.calendrierdesbrocantes.fr
SUMMARY:Brocante de Menton (professionnel)
DESCRIPTION:Brocante de Menton (professionnel) \nBrocante réservée aux professionnels. Tirage 7 H 30 \nPromenade du Soleil
URL:https://www.calendrierdesbrocantes.fr/event/brocante-de-menton-professionnel/2028-01-28/
LOCATION:Menton\, Promenade du Soleil\, Menton\, 06500\, France
CATEGORIES:Brocante
ATTACH;FMTTYPE=image/png:https://www.calendrierdesbrocantes.fr/wp-content/uploads/2026/04/menton.png
GEO:43.7722096;7.498037
X-APPLE-STRUCTURED-LOCATION;VALUE=URI;X-ADDRESS=Menton Promenade du Soleil Menton 06500 France;X-APPLE-RADIUS=500;X-TITLE=Promenade du Soleil:geo:7.498037,43.7722096
END:VEVENT
BEGIN:VEVENT
DTSTART;TZID=Europe/Paris:20280130T080000
DTEND;TZID=Europe/Paris:20280130T160000
DTSTAMP:20260420T074146
CREATED:20260418T214830Z
LAST-MODIFIED:20260418T221654Z
UID:10024595-1832832000-1832860800@www.calendrierdesbrocantes.fr
SUMMARY:Brocante de Menton (professionnel)
DESCRIPTION:Brocante de Menton (professionnel) \nBrocante réservée aux professionnels. Tirage 7 H 30 \nPromenade du Soleil
URL:https://www.calendrierdesbrocantes.fr/event/brocante-de-menton-professionnel-2/2028-01-30/
LOCATION:Menton\, Promenade du Soleil\, Menton\, 06500\, France
CATEGORIES:Brocante
ATTACH;FMTTYPE=image/png:https://www.calendrierdesbrocantes.fr/wp-content/uploads/2026/04/menton.png
GEO:43.7722096;7.498037
X-APPLE-STRUCTURED-LOCATION;VALUE=URI;X-ADDRESS=Menton Promenade du Soleil Menton 06500 France;X-APPLE-RADIUS=500;X-TITLE=Promenade du Soleil:geo:7.498037,43.7722096
END:VEVENT
BEGIN:VEVENT
DTSTART;TZID=Europe/Paris:20280204T080000
DTEND;TZID=Europe/Paris:20280204T160000
DTSTAMP:20260420T074146
CREATED:20260418T221044Z
LAST-MODIFIED:20260418T221044Z
UID:10025637-1833264000-1833292800@www.calendrierdesbrocantes.fr
SUMMARY:Brocante de Menton (professionnel)
DESCRIPTION:Brocante de Menton (professionnel) \nBrocante réservée aux professionnels. Tirage 7 H 30 \nPromenade du Soleil
URL:https://www.calendrierdesbrocantes.fr/event/brocante-de-menton-professionnel/2028-02-04/
LOCATION:Menton\, Promenade du Soleil\, Menton\, 06500\, France
CATEGORIES:Brocante
ATTACH;FMTTYPE=image/png:https://www.calendrierdesbrocantes.fr/wp-content/uploads/2026/04/menton.png
GEO:43.7722096;7.498037
X-APPLE-STRUCTURED-LOCATION;VALUE=URI;X-ADDRESS=Menton Promenade du Soleil Menton 06500 France;X-APPLE-RADIUS=500;X-TITLE=Promenade du Soleil:geo:7.498037,43.7722096
END:VEVENT
BEGIN:VEVENT
DTSTART;TZID=Europe/Paris:20280206T080000
DTEND;TZID=Europe/Paris:20280206T160000
DTSTAMP:20260420T074146
CREATED:20260418T214830Z
LAST-MODIFIED:20260418T221654Z
UID:10024596-1833436800-1833465600@www.calendrierdesbrocantes.fr
SUMMARY:Brocante de Menton (professionnel)
DESCRIPTION:Brocante de Menton (professionnel) \nBrocante réservée aux professionnels. Tirage 7 H 30 \nPromenade du Soleil
URL:https://www.calendrierdesbrocantes.fr/event/brocante-de-menton-professionnel-2/2028-02-06/
LOCATION:Menton\, Promenade du Soleil\, Menton\, 06500\, France
CATEGORIES:Brocante
ATTACH;FMTTYPE=image/png:https://www.calendrierdesbrocantes.fr/wp-content/uploads/2026/04/menton.png
GEO:43.7722096;7.498037
X-APPLE-STRUCTURED-LOCATION;VALUE=URI;X-ADDRESS=Menton Promenade du Soleil Menton 06500 France;X-APPLE-RADIUS=500;X-TITLE=Promenade du Soleil:geo:7.498037,43.7722096
END:VEVENT
BEGIN:VEVENT
DTSTART;TZID=Europe/Paris:20280211T080000
DTEND;TZID=Europe/Paris:20280211T160000
DTSTAMP:20260420T074146
CREATED:20260418T221044Z
LAST-MODIFIED:20260418T221044Z
UID:10025638-1833868800-1833897600@www.calendrierdesbrocantes.fr
SUMMARY:Brocante de Menton (professionnel)
DESCRIPTION:Brocante de Menton (professionnel) \nBrocante réservée aux professionnels. Tirage 7 H 30 \nPromenade du Soleil
URL:https://www.calendrierdesbrocantes.fr/event/brocante-de-menton-professionnel/2028-02-11/
LOCATION:Menton\, Promenade du Soleil\, Menton\, 06500\, France
CATEGORIES:Brocante
ATTACH;FMTTYPE=image/png:https://www.calendrierdesbrocantes.fr/wp-content/uploads/2026/04/menton.png
GEO:43.7722096;7.498037
X-APPLE-STRUCTURED-LOCATION;VALUE=URI;X-ADDRESS=Menton Promenade du Soleil Menton 06500 France;X-APPLE-RADIUS=500;X-TITLE=Promenade du Soleil:geo:7.498037,43.7722096
END:VEVENT
BEGIN:VEVENT
DTSTART;TZID=Europe/Paris:20280213T080000
DTEND;TZID=Europe/Paris:20280213T160000
DTSTAMP:20260420T074146
CREATED:20260418T214830Z
LAST-MODIFIED:20260418T221654Z
UID:10024597-1834041600-1834070400@www.calendrierdesbrocantes.fr
SUMMARY:Brocante de Menton (professionnel)
DESCRIPTION:Brocante de Menton (professionnel) \nBrocante réservée aux professionnels. Tirage 7 H 30 \nPromenade du Soleil
URL:https://www.calendrierdesbrocantes.fr/event/brocante-de-menton-professionnel-2/2028-02-13/
LOCATION:Menton\, Promenade du Soleil\, Menton\, 06500\, France
CATEGORIES:Brocante
ATTACH;FMTTYPE=image/png:https://www.calendrierdesbrocantes.fr/wp-content/uploads/2026/04/menton.png
GEO:43.7722096;7.498037
X-APPLE-STRUCTURED-LOCATION;VALUE=URI;X-ADDRESS=Menton Promenade du Soleil Menton 06500 France;X-APPLE-RADIUS=500;X-TITLE=Promenade du Soleil:geo:7.498037,43.7722096
END:VEVENT
BEGIN:VEVENT
DTSTART;TZID=Europe/Paris:20280218T080000
DTEND;TZID=Europe/Paris:20280218T160000
DTSTAMP:20260420T074146
CREATED:20260418T221044Z
LAST-MODIFIED:20260418T221044Z
UID:10025639-1834473600-1834502400@www.calendrierdesbrocantes.fr
SUMMARY:Brocante de Menton (professionnel)
DESCRIPTION:Brocante de Menton (professionnel) \nBrocante réservée aux professionnels. Tirage 7 H 30 \nPromenade du Soleil
URL:https://www.calendrierdesbrocantes.fr/event/brocante-de-menton-professionnel/2028-02-18/
LOCATION:Menton\, Promenade du Soleil\, Menton\, 06500\, France
CATEGORIES:Brocante
ATTACH;FMTTYPE=image/png:https://www.calendrierdesbrocantes.fr/wp-content/uploads/2026/04/menton.png
GEO:43.7722096;7.498037
X-APPLE-STRUCTURED-LOCATION;VALUE=URI;X-ADDRESS=Menton Promenade du Soleil Menton 06500 France;X-APPLE-RADIUS=500;X-TITLE=Promenade du Soleil:geo:7.498037,43.7722096
END:VEVENT
BEGIN:VEVENT
DTSTART;TZID=Europe/Paris:20280220T080000
DTEND;TZID=Europe/Paris:20280220T160000
DTSTAMP:20260420T074146
CREATED:20260418T214830Z
LAST-MODIFIED:20260418T221654Z
UID:10024598-1834646400-1834675200@www.calendrierdesbrocantes.fr
SUMMARY:Brocante de Menton (professionnel)
DESCRIPTION:Brocante de Menton (professionnel) \nBrocante réservée aux professionnels. Tirage 7 H 30 \nPromenade du Soleil
URL:https://www.calendrierdesbrocantes.fr/event/brocante-de-menton-professionnel-2/2028-02-20/
LOCATION:Menton\, Promenade du Soleil\, Menton\, 06500\, France
CATEGORIES:Brocante
ATTACH;FMTTYPE=image/png:https://www.calendrierdesbrocantes.fr/wp-content/uploads/2026/04/menton.png
GEO:43.7722096;7.498037
X-APPLE-STRUCTURED-LOCATION;VALUE=URI;X-ADDRESS=Menton Promenade du Soleil Menton 06500 France;X-APPLE-RADIUS=500;X-TITLE=Promenade du Soleil:geo:7.498037,43.7722096
END:VEVENT
BEGIN:VEVENT
DTSTART;TZID=Europe/Paris:20280225T080000
DTEND;TZID=Europe/Paris:20280225T160000
DTSTAMP:20260420T074146
CREATED:20260418T221044Z
LAST-MODIFIED:20260418T221044Z
UID:10025640-1835078400-1835107200@www.calendrierdesbrocantes.fr
SUMMARY:Brocante de Menton (professionnel)
DESCRIPTION:Brocante de Menton (professionnel) \nBrocante réservée aux professionnels. Tirage 7 H 30 \nPromenade du Soleil
URL:https://www.calendrierdesbrocantes.fr/event/brocante-de-menton-professionnel/2028-02-25/
LOCATION:Menton\, Promenade du Soleil\, Menton\, 06500\, France
CATEGORIES:Brocante
ATTACH;FMTTYPE=image/png:https://www.calendrierdesbrocantes.fr/wp-content/uploads/2026/04/menton.png
GEO:43.7722096;7.498037
X-APPLE-STRUCTURED-LOCATION;VALUE=URI;X-ADDRESS=Menton Promenade du Soleil Menton 06500 France;X-APPLE-RADIUS=500;X-TITLE=Promenade du Soleil:geo:7.498037,43.7722096
END:VEVENT
BEGIN:VEVENT
DTSTART;TZID=Europe/Paris:20280227T080000
DTEND;TZID=Europe/Paris:20280227T160000
DTSTAMP:20260420T074146
CREATED:20260418T214830Z
LAST-MODIFIED:20260418T221654Z
UID:10024599-1835251200-1835280000@www.calendrierdesbrocantes.fr
SUMMARY:Brocante de Menton (professionnel)
DESCRIPTION:Brocante de Menton (professionnel) \nBrocante réservée aux professionnels. Tirage 7 H 30 \nPromenade du Soleil
URL:https://www.calendrierdesbrocantes.fr/event/brocante-de-menton-professionnel-2/2028-02-27/
LOCATION:Menton\, Promenade du Soleil\, Menton\, 06500\, France
CATEGORIES:Brocante
ATTACH;FMTTYPE=image/png:https://www.calendrierdesbrocantes.fr/wp-content/uploads/2026/04/menton.png
GEO:43.7722096;7.498037
X-APPLE-STRUCTURED-LOCATION;VALUE=URI;X-ADDRESS=Menton Promenade du Soleil Menton 06500 France;X-APPLE-RADIUS=500;X-TITLE=Promenade du Soleil:geo:7.498037,43.7722096
END:VEVENT
BEGIN:VEVENT
DTSTART;TZID=Europe/Paris:20280303T080000
DTEND;TZID=Europe/Paris:20280303T160000
DTSTAMP:20260420T074146
CREATED:20260418T221044Z
LAST-MODIFIED:20260418T221044Z
UID:10025641-1835683200-1835712000@www.calendrierdesbrocantes.fr
SUMMARY:Brocante de Menton (professionnel)
DESCRIPTION:Brocante de Menton (professionnel) \nBrocante réservée aux professionnels. Tirage 7 H 30 \nPromenade du Soleil
URL:https://www.calendrierdesbrocantes.fr/event/brocante-de-menton-professionnel/2028-03-03/
LOCATION:Menton\, Promenade du Soleil\, Menton\, 06500\, France
CATEGORIES:Brocante
ATTACH;FMTTYPE=image/png:https://www.calendrierdesbrocantes.fr/wp-content/uploads/2026/04/menton.png
GEO:43.7722096;7.498037
X-APPLE-STRUCTURED-LOCATION;VALUE=URI;X-ADDRESS=Menton Promenade du Soleil Menton 06500 France;X-APPLE-RADIUS=500;X-TITLE=Promenade du Soleil:geo:7.498037,43.7722096
END:VEVENT
BEGIN:VEVENT
DTSTART;TZID=Europe/Paris:20280305T080000
DTEND;TZID=Europe/Paris:20280305T160000
DTSTAMP:20260420T074146
CREATED:20260418T214830Z
LAST-MODIFIED:20260418T221654Z
UID:10024600-1835856000-1835884800@www.calendrierdesbrocantes.fr
SUMMARY:Brocante de Menton (professionnel)
DESCRIPTION:Brocante de Menton (professionnel) \nBrocante réservée aux professionnels. Tirage 7 H 30 \nPromenade du Soleil
URL:https://www.calendrierdesbrocantes.fr/event/brocante-de-menton-professionnel-2/2028-03-05/
LOCATION:Menton\, Promenade du Soleil\, Menton\, 06500\, France
CATEGORIES:Brocante
ATTACH;FMTTYPE=image/png:https://www.calendrierdesbrocantes.fr/wp-content/uploads/2026/04/menton.png
GEO:43.7722096;7.498037
X-APPLE-STRUCTURED-LOCATION;VALUE=URI;X-ADDRESS=Menton Promenade du Soleil Menton 06500 France;X-APPLE-RADIUS=500;X-TITLE=Promenade du Soleil:geo:7.498037,43.7722096
END:VEVENT
BEGIN:VEVENT
DTSTART;TZID=Europe/Paris:20280310T080000
DTEND;TZID=Europe/Paris:20280310T160000
DTSTAMP:20260420T074146
CREATED:20260418T221044Z
LAST-MODIFIED:20260418T221044Z
UID:10025642-1836288000-1836316800@www.calendrierdesbrocantes.fr
SUMMARY:Brocante de Menton (professionnel)
DESCRIPTION:Brocante de Menton (professionnel) \nBrocante réservée aux professionnels. Tirage 7 H 30 \nPromenade du Soleil
URL:https://www.calendrierdesbrocantes.fr/event/brocante-de-menton-professionnel/2028-03-10/
LOCATION:Menton\, Promenade du Soleil\, Menton\, 06500\, France
CATEGORIES:Brocante
ATTACH;FMTTYPE=image/png:https://www.calendrierdesbrocantes.fr/wp-content/uploads/2026/04/menton.png
GEO:43.7722096;7.498037
X-APPLE-STRUCTURED-LOCATION;VALUE=URI;X-ADDRESS=Menton Promenade du Soleil Menton 06500 France;X-APPLE-RADIUS=500;X-TITLE=Promenade du Soleil:geo:7.498037,43.7722096
END:VEVENT
BEGIN:VEVENT
DTSTART;TZID=Europe/Paris:20280312T080000
DTEND;TZID=Europe/Paris:20280312T160000
DTSTAMP:20260420T074146
CREATED:20260418T214830Z
LAST-MODIFIED:20260418T221654Z
UID:10024601-1836460800-1836489600@www.calendrierdesbrocantes.fr
SUMMARY:Brocante de Menton (professionnel)
DESCRIPTION:Brocante de Menton (professionnel) \nBrocante réservée aux professionnels. Tirage 7 H 30 \nPromenade du Soleil
URL:https://www.calendrierdesbrocantes.fr/event/brocante-de-menton-professionnel-2/2028-03-12/
LOCATION:Menton\, Promenade du Soleil\, Menton\, 06500\, France
CATEGORIES:Brocante
ATTACH;FMTTYPE=image/png:https://www.calendrierdesbrocantes.fr/wp-content/uploads/2026/04/menton.png
GEO:43.7722096;7.498037
X-APPLE-STRUCTURED-LOCATION;VALUE=URI;X-ADDRESS=Menton Promenade du Soleil Menton 06500 France;X-APPLE-RADIUS=500;X-TITLE=Promenade du Soleil:geo:7.498037,43.7722096
END:VEVENT
BEGIN:VEVENT
DTSTART;TZID=Europe/Paris:20280317T080000
DTEND;TZID=Europe/Paris:20280317T160000
DTSTAMP:20260420T074146
CREATED:20260418T221044Z
LAST-MODIFIED:20260418T221044Z
UID:10025643-1836892800-1836921600@www.calendrierdesbrocantes.fr
SUMMARY:Brocante de Menton (professionnel)
DESCRIPTION:Brocante de Menton (professionnel) \nBrocante réservée aux professionnels. Tirage 7 H 30 \nPromenade du Soleil
URL:https://www.calendrierdesbrocantes.fr/event/brocante-de-menton-professionnel/2028-03-17/
LOCATION:Menton\, Promenade du Soleil\, Menton\, 06500\, France
CATEGORIES:Brocante
ATTACH;FMTTYPE=image/png:https://www.calendrierdesbrocantes.fr/wp-content/uploads/2026/04/menton.png
GEO:43.7722096;7.498037
X-APPLE-STRUCTURED-LOCATION;VALUE=URI;X-ADDRESS=Menton Promenade du Soleil Menton 06500 France;X-APPLE-RADIUS=500;X-TITLE=Promenade du Soleil:geo:7.498037,43.7722096
END:VEVENT
BEGIN:VEVENT
DTSTART;TZID=Europe/Paris:20280319T080000
DTEND;TZID=Europe/Paris:20280319T160000
DTSTAMP:20260420T074146
CREATED:20260418T214830Z
LAST-MODIFIED:20260418T221654Z
UID:10024602-1837065600-1837094400@www.calendrierdesbrocantes.fr
SUMMARY:Brocante de Menton (professionnel)
DESCRIPTION:Brocante de Menton (professionnel) \nBrocante réservée aux professionnels. Tirage 7 H 30 \nPromenade du Soleil
URL:https://www.calendrierdesbrocantes.fr/event/brocante-de-menton-professionnel-2/2028-03-19/
LOCATION:Menton\, Promenade du Soleil\, Menton\, 06500\, France
CATEGORIES:Brocante
ATTACH;FMTTYPE=image/png:https://www.calendrierdesbrocantes.fr/wp-content/uploads/2026/04/menton.png
GEO:43.7722096;7.498037
X-APPLE-STRUCTURED-LOCATION;VALUE=URI;X-ADDRESS=Menton Promenade du Soleil Menton 06500 France;X-APPLE-RADIUS=500;X-TITLE=Promenade du Soleil:geo:7.498037,43.7722096
END:VEVENT
BEGIN:VEVENT
DTSTART;TZID=Europe/Paris:20280324T080000
DTEND;TZID=Europe/Paris:20280324T160000
DTSTAMP:20260420T074146
CREATED:20260418T221044Z
LAST-MODIFIED:20260418T221044Z
UID:10025644-1837497600-1837526400@www.calendrierdesbrocantes.fr
SUMMARY:Brocante de Menton (professionnel)
DESCRIPTION:Brocante de Menton (professionnel) \nBrocante réservée aux professionnels. Tirage 7 H 30 \nPromenade du Soleil
URL:https://www.calendrierdesbrocantes.fr/event/brocante-de-menton-professionnel/2028-03-24/
LOCATION:Menton\, Promenade du Soleil\, Menton\, 06500\, France
CATEGORIES:Brocante
ATTACH;FMTTYPE=image/png:https://www.calendrierdesbrocantes.fr/wp-content/uploads/2026/04/menton.png
GEO:43.7722096;7.498037
X-APPLE-STRUCTURED-LOCATION;VALUE=URI;X-ADDRESS=Menton Promenade du Soleil Menton 06500 France;X-APPLE-RADIUS=500;X-TITLE=Promenade du Soleil:geo:7.498037,43.7722096
END:VEVENT
BEGIN:VEVENT
DTSTART;TZID=Europe/Paris:20280326T080000
DTEND;TZID=Europe/Paris:20280326T160000
DTSTAMP:20260420T074146
CREATED:20260418T214830Z
LAST-MODIFIED:20260418T221654Z
UID:10024603-1837670400-1837699200@www.calendrierdesbrocantes.fr
SUMMARY:Brocante de Menton (professionnel)
DESCRIPTION:Brocante de Menton (professionnel) \nBrocante réservée aux professionnels. Tirage 7 H 30 \nPromenade du Soleil
URL:https://www.calendrierdesbrocantes.fr/event/brocante-de-menton-professionnel-2/2028-03-26/
LOCATION:Menton\, Promenade du Soleil\, Menton\, 06500\, France
CATEGORIES:Brocante
ATTACH;FMTTYPE=image/png:https://www.calendrierdesbrocantes.fr/wp-content/uploads/2026/04/menton.png
GEO:43.7722096;7.498037
X-APPLE-STRUCTURED-LOCATION;VALUE=URI;X-ADDRESS=Menton Promenade du Soleil Menton 06500 France;X-APPLE-RADIUS=500;X-TITLE=Promenade du Soleil:geo:7.498037,43.7722096
END:VEVENT
BEGIN:VEVENT
DTSTART;TZID=Europe/Paris:20280331T080000
DTEND;TZID=Europe/Paris:20280331T160000
DTSTAMP:20260420T074146
CREATED:20260418T221044Z
LAST-MODIFIED:20260418T221044Z
UID:10025645-1838102400-1838131200@www.calendrierdesbrocantes.fr
SUMMARY:Brocante de Menton (professionnel)
DESCRIPTION:Brocante de Menton (professionnel) \nBrocante réservée aux professionnels. Tirage 7 H 30 \nPromenade du Soleil
URL:https://www.calendrierdesbrocantes.fr/event/brocante-de-menton-professionnel/2028-03-31/
LOCATION:Menton\, Promenade du Soleil\, Menton\, 06500\, France
CATEGORIES:Brocante
ATTACH;FMTTYPE=image/png:https://www.calendrierdesbrocantes.fr/wp-content/uploads/2026/04/menton.png
GEO:43.7722096;7.498037
X-APPLE-STRUCTURED-LOCATION;VALUE=URI;X-ADDRESS=Menton Promenade du Soleil Menton 06500 France;X-APPLE-RADIUS=500;X-TITLE=Promenade du Soleil:geo:7.498037,43.7722096
END:VEVENT
BEGIN:VEVENT
DTSTART;TZID=Europe/Paris:20280402T080000
DTEND;TZID=Europe/Paris:20280402T160000
DTSTAMP:20260420T074146
CREATED:20260418T214830Z
LAST-MODIFIED:20260418T221654Z
UID:10024604-1838275200-1838304000@www.calendrierdesbrocantes.fr
SUMMARY:Brocante de Menton (professionnel)
DESCRIPTION:Brocante de Menton (professionnel) \nBrocante réservée aux professionnels. Tirage 7 H 30 \nPromenade du Soleil
URL:https://www.calendrierdesbrocantes.fr/event/brocante-de-menton-professionnel-2/2028-04-02/
LOCATION:Menton\, Promenade du Soleil\, Menton\, 06500\, France
CATEGORIES:Brocante
ATTACH;FMTTYPE=image/png:https://www.calendrierdesbrocantes.fr/wp-content/uploads/2026/04/menton.png
GEO:43.7722096;7.498037
X-APPLE-STRUCTURED-LOCATION;VALUE=URI;X-ADDRESS=Menton Promenade du Soleil Menton 06500 France;X-APPLE-RADIUS=500;X-TITLE=Promenade du Soleil:geo:7.498037,43.7722096
END:VEVENT
BEGIN:VEVENT
DTSTART;TZID=Europe/Paris:20280407T080000
DTEND;TZID=Europe/Paris:20280407T160000
DTSTAMP:20260420T074146
CREATED:20260418T221044Z
LAST-MODIFIED:20260418T221044Z
UID:10025646-1838707200-1838736000@www.calendrierdesbrocantes.fr
SUMMARY:Brocante de Menton (professionnel)
DESCRIPTION:Brocante de Menton (professionnel) \nBrocante réservée aux professionnels. Tirage 7 H 30 \nPromenade du Soleil
URL:https://www.calendrierdesbrocantes.fr/event/brocante-de-menton-professionnel/2028-04-07/
LOCATION:Menton\, Promenade du Soleil\, Menton\, 06500\, France
CATEGORIES:Brocante
ATTACH;FMTTYPE=image/png:https://www.calendrierdesbrocantes.fr/wp-content/uploads/2026/04/menton.png
GEO:43.7722096;7.498037
X-APPLE-STRUCTURED-LOCATION;VALUE=URI;X-ADDRESS=Menton Promenade du Soleil Menton 06500 France;X-APPLE-RADIUS=500;X-TITLE=Promenade du Soleil:geo:7.498037,43.7722096
END:VEVENT
BEGIN:VEVENT
DTSTART;TZID=Europe/Paris:20280409T080000
DTEND;TZID=Europe/Paris:20280409T160000
DTSTAMP:20260420T074146
CREATED:20260418T214830Z
LAST-MODIFIED:20260418T221654Z
UID:10024605-1838880000-1838908800@www.calendrierdesbrocantes.fr
SUMMARY:Brocante de Menton (professionnel)
DESCRIPTION:Brocante de Menton (professionnel) \nBrocante réservée aux professionnels. Tirage 7 H 30 \nPromenade du Soleil
URL:https://www.calendrierdesbrocantes.fr/event/brocante-de-menton-professionnel-2/2028-04-09/
LOCATION:Menton\, Promenade du Soleil\, Menton\, 06500\, France
CATEGORIES:Brocante
ATTACH;FMTTYPE=image/png:https://www.calendrierdesbrocantes.fr/wp-content/uploads/2026/04/menton.png
GEO:43.7722096;7.498037
X-APPLE-STRUCTURED-LOCATION;VALUE=URI;X-ADDRESS=Menton Promenade du Soleil Menton 06500 France;X-APPLE-RADIUS=500;X-TITLE=Promenade du Soleil:geo:7.498037,43.7722096
END:VEVENT
BEGIN:VEVENT
DTSTART;TZID=Europe/Paris:20280414T080000
DTEND;TZID=Europe/Paris:20280414T160000
DTSTAMP:20260420T074146
CREATED:20260418T221044Z
LAST-MODIFIED:20260418T221044Z
UID:10025647-1839312000-1839340800@www.calendrierdesbrocantes.fr
SUMMARY:Brocante de Menton (professionnel)
DESCRIPTION:Brocante de Menton (professionnel) \nBrocante réservée aux professionnels. Tirage 7 H 30 \nPromenade du Soleil
URL:https://www.calendrierdesbrocantes.fr/event/brocante-de-menton-professionnel/2028-04-14/
LOCATION:Menton\, Promenade du Soleil\, Menton\, 06500\, France
CATEGORIES:Brocante
ATTACH;FMTTYPE=image/png:https://www.calendrierdesbrocantes.fr/wp-content/uploads/2026/04/menton.png
GEO:43.7722096;7.498037
X-APPLE-STRUCTURED-LOCATION;VALUE=URI;X-ADDRESS=Menton Promenade du Soleil Menton 06500 France;X-APPLE-RADIUS=500;X-TITLE=Promenade du Soleil:geo:7.498037,43.7722096
END:VEVENT
BEGIN:VEVENT
DTSTART;TZID=Europe/Paris:20280416T080000
DTEND;TZID=Europe/Paris:20280416T160000
DTSTAMP:20260420T074146
CREATED:20260418T214830Z
LAST-MODIFIED:20260418T221654Z
UID:10024606-1839484800-1839513600@www.calendrierdesbrocantes.fr
SUMMARY:Brocante de Menton (professionnel)
DESCRIPTION:Brocante de Menton (professionnel) \nBrocante réservée aux professionnels. Tirage 7 H 30 \nPromenade du Soleil
URL:https://www.calendrierdesbrocantes.fr/event/brocante-de-menton-professionnel-2/2028-04-16/
LOCATION:Menton\, Promenade du Soleil\, Menton\, 06500\, France
CATEGORIES:Brocante
ATTACH;FMTTYPE=image/png:https://www.calendrierdesbrocantes.fr/wp-content/uploads/2026/04/menton.png
GEO:43.7722096;7.498037
X-APPLE-STRUCTURED-LOCATION;VALUE=URI;X-ADDRESS=Menton Promenade du Soleil Menton 06500 France;X-APPLE-RADIUS=500;X-TITLE=Promenade du Soleil:geo:7.498037,43.7722096
END:VEVENT
BEGIN:VEVENT
DTSTART;TZID=Europe/Paris:20280421T080000
DTEND;TZID=Europe/Paris:20280421T160000
DTSTAMP:20260420T074146
CREATED:20260418T221044Z
LAST-MODIFIED:20260418T221044Z
UID:10025648-1839916800-1839945600@www.calendrierdesbrocantes.fr
SUMMARY:Brocante de Menton (professionnel)
DESCRIPTION:Brocante de Menton (professionnel) \nBrocante réservée aux professionnels. Tirage 7 H 30 \nPromenade du Soleil
URL:https://www.calendrierdesbrocantes.fr/event/brocante-de-menton-professionnel/2028-04-21/
LOCATION:Menton\, Promenade du Soleil\, Menton\, 06500\, France
CATEGORIES:Brocante
ATTACH;FMTTYPE=image/png:https://www.calendrierdesbrocantes.fr/wp-content/uploads/2026/04/menton.png
GEO:43.7722096;7.498037
X-APPLE-STRUCTURED-LOCATION;VALUE=URI;X-ADDRESS=Menton Promenade du Soleil Menton 06500 France;X-APPLE-RADIUS=500;X-TITLE=Promenade du Soleil:geo:7.498037,43.7722096
END:VEVENT
BEGIN:VEVENT
DTSTART;TZID=Europe/Paris:20280423T080000
DTEND;TZID=Europe/Paris:20280423T160000
DTSTAMP:20260420T074146
CREATED:20260418T214830Z
LAST-MODIFIED:20260418T221654Z
UID:10024607-1840089600-1840118400@www.calendrierdesbrocantes.fr
SUMMARY:Brocante de Menton (professionnel)
DESCRIPTION:Brocante de Menton (professionnel) \nBrocante réservée aux professionnels. Tirage 7 H 30 \nPromenade du Soleil
URL:https://www.calendrierdesbrocantes.fr/event/brocante-de-menton-professionnel-2/2028-04-23/
LOCATION:Menton\, Promenade du Soleil\, Menton\, 06500\, France
CATEGORIES:Brocante
ATTACH;FMTTYPE=image/png:https://www.calendrierdesbrocantes.fr/wp-content/uploads/2026/04/menton.png
GEO:43.7722096;7.498037
X-APPLE-STRUCTURED-LOCATION;VALUE=URI;X-ADDRESS=Menton Promenade du Soleil Menton 06500 France;X-APPLE-RADIUS=500;X-TITLE=Promenade du Soleil:geo:7.498037,43.7722096
END:VEVENT
END:VCALENDAR