BEGIN:VCALENDAR
VERSION:2.0
PRODID:-//Calendrier des brocantes - ECPv6.15.20//NONSGML v1.0//EN
CALSCALE:GREGORIAN
METHOD:PUBLISH
X-ORIGINAL-URL:https://www.calendrierdesbrocantes.fr
X-WR-CALDESC:Évènements pour Calendrier des brocantes
REFRESH-INTERVAL;VALUE=DURATION:PT1H
X-Robots-Tag:noindex
X-PUBLISHED-TTL:PT1H
BEGIN:VTIMEZONE
TZID:Europe/Paris
BEGIN:DAYLIGHT
TZOFFSETFROM:+0100
TZOFFSETTO:+0200
TZNAME:CEST
DTSTART:20290325T010000
END:DAYLIGHT
BEGIN:STANDARD
TZOFFSETFROM:+0200
TZOFFSETTO:+0100
TZNAME:CET
DTSTART:20291028T010000
END:STANDARD
BEGIN:DAYLIGHT
TZOFFSETFROM:+0100
TZOFFSETTO:+0200
TZNAME:CEST
DTSTART:20300331T010000
END:DAYLIGHT
BEGIN:STANDARD
TZOFFSETFROM:+0200
TZOFFSETTO:+0100
TZNAME:CET
DTSTART:20301027T010000
END:STANDARD
BEGIN:DAYLIGHT
TZOFFSETFROM:+0100
TZOFFSETTO:+0200
TZNAME:CEST
DTSTART:20310330T010000
END:DAYLIGHT
BEGIN:STANDARD
TZOFFSETFROM:+0200
TZOFFSETTO:+0100
TZNAME:CET
DTSTART:20311026T010000
END:STANDARD
END:VTIMEZONE
BEGIN:VEVENT
DTSTART;TZID=Europe/Paris:20300224T080000
DTEND;TZID=Europe/Paris:20300224T173000
DTSTAMP:20260423T132904
CREATED:20260421T220111Z
LAST-MODIFIED:20260421T220149Z
UID:10026275-1898150400-1898184600@www.calendrierdesbrocantes.fr
SUMMARY:Brocante de Foix
DESCRIPTION:La brocante du carrefour contact de Foix \n4\, Rue Des Bruilhols\, carrefour contact parking
URL:https://www.calendrierdesbrocantes.fr/event/brocante-de-foix/2030-02-24/
LOCATION:Foix\, 4\, Rue Des Bruilhols\, carrefour contact parking\, Foix\, 09000\, France
CATEGORIES:Brocante
ATTACH;FMTTYPE=image/png:https://www.calendrierdesbrocantes.fr/wp-content/uploads/2026/04/foix.png
GEO:42.975703;1.60806
X-APPLE-STRUCTURED-LOCATION;VALUE=URI;X-ADDRESS=Foix 4 Rue Des Bruilhols carrefour contact parking Foix 09000 France;X-APPLE-RADIUS=500;X-TITLE=4\, Rue Des Bruilhols\, carrefour contact parking:geo:1.60806,42.975703
END:VEVENT
BEGIN:VEVENT
DTSTART;TZID=Europe/Paris:20300303T080000
DTEND;TZID=Europe/Paris:20300303T173000
DTSTAMP:20260423T132904
CREATED:20260421T220111Z
LAST-MODIFIED:20260421T220149Z
UID:10026276-1898755200-1898789400@www.calendrierdesbrocantes.fr
SUMMARY:Brocante de Foix
DESCRIPTION:La brocante du carrefour contact de Foix \n4\, Rue Des Bruilhols\, carrefour contact parking
URL:https://www.calendrierdesbrocantes.fr/event/brocante-de-foix/2030-03-03/
LOCATION:Foix\, 4\, Rue Des Bruilhols\, carrefour contact parking\, Foix\, 09000\, France
CATEGORIES:Brocante
ATTACH;FMTTYPE=image/png:https://www.calendrierdesbrocantes.fr/wp-content/uploads/2026/04/foix.png
GEO:42.975703;1.60806
X-APPLE-STRUCTURED-LOCATION;VALUE=URI;X-ADDRESS=Foix 4 Rue Des Bruilhols carrefour contact parking Foix 09000 France;X-APPLE-RADIUS=500;X-TITLE=4\, Rue Des Bruilhols\, carrefour contact parking:geo:1.60806,42.975703
END:VEVENT
BEGIN:VEVENT
DTSTART;TZID=Europe/Paris:20300310T080000
DTEND;TZID=Europe/Paris:20300310T173000
DTSTAMP:20260423T132904
CREATED:20260421T220111Z
LAST-MODIFIED:20260421T220149Z
UID:10026277-1899360000-1899394200@www.calendrierdesbrocantes.fr
SUMMARY:Brocante de Foix
DESCRIPTION:La brocante du carrefour contact de Foix \n4\, Rue Des Bruilhols\, carrefour contact parking
URL:https://www.calendrierdesbrocantes.fr/event/brocante-de-foix/2030-03-10/
LOCATION:Foix\, 4\, Rue Des Bruilhols\, carrefour contact parking\, Foix\, 09000\, France
CATEGORIES:Brocante
ATTACH;FMTTYPE=image/png:https://www.calendrierdesbrocantes.fr/wp-content/uploads/2026/04/foix.png
GEO:42.975703;1.60806
X-APPLE-STRUCTURED-LOCATION;VALUE=URI;X-ADDRESS=Foix 4 Rue Des Bruilhols carrefour contact parking Foix 09000 France;X-APPLE-RADIUS=500;X-TITLE=4\, Rue Des Bruilhols\, carrefour contact parking:geo:1.60806,42.975703
END:VEVENT
BEGIN:VEVENT
DTSTART;TZID=Europe/Paris:20300317T080000
DTEND;TZID=Europe/Paris:20300317T173000
DTSTAMP:20260423T132904
CREATED:20260421T220111Z
LAST-MODIFIED:20260421T220149Z
UID:10026278-1899964800-1899999000@www.calendrierdesbrocantes.fr
SUMMARY:Brocante de Foix
DESCRIPTION:La brocante du carrefour contact de Foix \n4\, Rue Des Bruilhols\, carrefour contact parking
URL:https://www.calendrierdesbrocantes.fr/event/brocante-de-foix/2030-03-17/
LOCATION:Foix\, 4\, Rue Des Bruilhols\, carrefour contact parking\, Foix\, 09000\, France
CATEGORIES:Brocante
ATTACH;FMTTYPE=image/png:https://www.calendrierdesbrocantes.fr/wp-content/uploads/2026/04/foix.png
GEO:42.975703;1.60806
X-APPLE-STRUCTURED-LOCATION;VALUE=URI;X-ADDRESS=Foix 4 Rue Des Bruilhols carrefour contact parking Foix 09000 France;X-APPLE-RADIUS=500;X-TITLE=4\, Rue Des Bruilhols\, carrefour contact parking:geo:1.60806,42.975703
END:VEVENT
BEGIN:VEVENT
DTSTART;TZID=Europe/Paris:20300324T080000
DTEND;TZID=Europe/Paris:20300324T173000
DTSTAMP:20260423T132904
CREATED:20260421T220111Z
LAST-MODIFIED:20260421T220149Z
UID:10026279-1900569600-1900603800@www.calendrierdesbrocantes.fr
SUMMARY:Brocante de Foix
DESCRIPTION:La brocante du carrefour contact de Foix \n4\, Rue Des Bruilhols\, carrefour contact parking
URL:https://www.calendrierdesbrocantes.fr/event/brocante-de-foix/2030-03-24/
LOCATION:Foix\, 4\, Rue Des Bruilhols\, carrefour contact parking\, Foix\, 09000\, France
CATEGORIES:Brocante
ATTACH;FMTTYPE=image/png:https://www.calendrierdesbrocantes.fr/wp-content/uploads/2026/04/foix.png
GEO:42.975703;1.60806
X-APPLE-STRUCTURED-LOCATION;VALUE=URI;X-ADDRESS=Foix 4 Rue Des Bruilhols carrefour contact parking Foix 09000 France;X-APPLE-RADIUS=500;X-TITLE=4\, Rue Des Bruilhols\, carrefour contact parking:geo:1.60806,42.975703
END:VEVENT
BEGIN:VEVENT
DTSTART;TZID=Europe/Paris:20300331T080000
DTEND;TZID=Europe/Paris:20300331T173000
DTSTAMP:20260423T132904
CREATED:20260421T220111Z
LAST-MODIFIED:20260421T220149Z
UID:10026280-1901174400-1901208600@www.calendrierdesbrocantes.fr
SUMMARY:Brocante de Foix
DESCRIPTION:La brocante du carrefour contact de Foix \n4\, Rue Des Bruilhols\, carrefour contact parking
URL:https://www.calendrierdesbrocantes.fr/event/brocante-de-foix/2030-03-31/
LOCATION:Foix\, 4\, Rue Des Bruilhols\, carrefour contact parking\, Foix\, 09000\, France
CATEGORIES:Brocante
ATTACH;FMTTYPE=image/png:https://www.calendrierdesbrocantes.fr/wp-content/uploads/2026/04/foix.png
GEO:42.975703;1.60806
X-APPLE-STRUCTURED-LOCATION;VALUE=URI;X-ADDRESS=Foix 4 Rue Des Bruilhols carrefour contact parking Foix 09000 France;X-APPLE-RADIUS=500;X-TITLE=4\, Rue Des Bruilhols\, carrefour contact parking:geo:1.60806,42.975703
END:VEVENT
BEGIN:VEVENT
DTSTART;TZID=Europe/Paris:20300407T080000
DTEND;TZID=Europe/Paris:20300407T173000
DTSTAMP:20260423T132904
CREATED:20260421T220111Z
LAST-MODIFIED:20260421T220149Z
UID:10026281-1901779200-1901813400@www.calendrierdesbrocantes.fr
SUMMARY:Brocante de Foix
DESCRIPTION:La brocante du carrefour contact de Foix \n4\, Rue Des Bruilhols\, carrefour contact parking
URL:https://www.calendrierdesbrocantes.fr/event/brocante-de-foix/2030-04-07/
LOCATION:Foix\, 4\, Rue Des Bruilhols\, carrefour contact parking\, Foix\, 09000\, France
CATEGORIES:Brocante
ATTACH;FMTTYPE=image/png:https://www.calendrierdesbrocantes.fr/wp-content/uploads/2026/04/foix.png
GEO:42.975703;1.60806
X-APPLE-STRUCTURED-LOCATION;VALUE=URI;X-ADDRESS=Foix 4 Rue Des Bruilhols carrefour contact parking Foix 09000 France;X-APPLE-RADIUS=500;X-TITLE=4\, Rue Des Bruilhols\, carrefour contact parking:geo:1.60806,42.975703
END:VEVENT
BEGIN:VEVENT
DTSTART;TZID=Europe/Paris:20300414T080000
DTEND;TZID=Europe/Paris:20300414T173000
DTSTAMP:20260423T132904
CREATED:20260421T220111Z
LAST-MODIFIED:20260421T220149Z
UID:10026282-1902384000-1902418200@www.calendrierdesbrocantes.fr
SUMMARY:Brocante de Foix
DESCRIPTION:La brocante du carrefour contact de Foix \n4\, Rue Des Bruilhols\, carrefour contact parking
URL:https://www.calendrierdesbrocantes.fr/event/brocante-de-foix/2030-04-14/
LOCATION:Foix\, 4\, Rue Des Bruilhols\, carrefour contact parking\, Foix\, 09000\, France
CATEGORIES:Brocante
ATTACH;FMTTYPE=image/png:https://www.calendrierdesbrocantes.fr/wp-content/uploads/2026/04/foix.png
GEO:42.975703;1.60806
X-APPLE-STRUCTURED-LOCATION;VALUE=URI;X-ADDRESS=Foix 4 Rue Des Bruilhols carrefour contact parking Foix 09000 France;X-APPLE-RADIUS=500;X-TITLE=4\, Rue Des Bruilhols\, carrefour contact parking:geo:1.60806,42.975703
END:VEVENT
BEGIN:VEVENT
DTSTART;TZID=Europe/Paris:20300421T080000
DTEND;TZID=Europe/Paris:20300421T173000
DTSTAMP:20260423T132904
CREATED:20260421T220111Z
LAST-MODIFIED:20260421T220149Z
UID:10026283-1902988800-1903023000@www.calendrierdesbrocantes.fr
SUMMARY:Brocante de Foix
DESCRIPTION:La brocante du carrefour contact de Foix \n4\, Rue Des Bruilhols\, carrefour contact parking
URL:https://www.calendrierdesbrocantes.fr/event/brocante-de-foix/2030-04-21/
LOCATION:Foix\, 4\, Rue Des Bruilhols\, carrefour contact parking\, Foix\, 09000\, France
CATEGORIES:Brocante
ATTACH;FMTTYPE=image/png:https://www.calendrierdesbrocantes.fr/wp-content/uploads/2026/04/foix.png
GEO:42.975703;1.60806
X-APPLE-STRUCTURED-LOCATION;VALUE=URI;X-ADDRESS=Foix 4 Rue Des Bruilhols carrefour contact parking Foix 09000 France;X-APPLE-RADIUS=500;X-TITLE=4\, Rue Des Bruilhols\, carrefour contact parking:geo:1.60806,42.975703
END:VEVENT
BEGIN:VEVENT
DTSTART;TZID=Europe/Paris:20300428T080000
DTEND;TZID=Europe/Paris:20300428T173000
DTSTAMP:20260423T132904
CREATED:20260421T220111Z
LAST-MODIFIED:20260421T220149Z
UID:10026284-1903593600-1903627800@www.calendrierdesbrocantes.fr
SUMMARY:Brocante de Foix
DESCRIPTION:La brocante du carrefour contact de Foix \n4\, Rue Des Bruilhols\, carrefour contact parking
URL:https://www.calendrierdesbrocantes.fr/event/brocante-de-foix/2030-04-28/
LOCATION:Foix\, 4\, Rue Des Bruilhols\, carrefour contact parking\, Foix\, 09000\, France
CATEGORIES:Brocante
ATTACH;FMTTYPE=image/png:https://www.calendrierdesbrocantes.fr/wp-content/uploads/2026/04/foix.png
GEO:42.975703;1.60806
X-APPLE-STRUCTURED-LOCATION;VALUE=URI;X-ADDRESS=Foix 4 Rue Des Bruilhols carrefour contact parking Foix 09000 France;X-APPLE-RADIUS=500;X-TITLE=4\, Rue Des Bruilhols\, carrefour contact parking:geo:1.60806,42.975703
END:VEVENT
BEGIN:VEVENT
DTSTART;TZID=Europe/Paris:20300505T080000
DTEND;TZID=Europe/Paris:20300505T173000
DTSTAMP:20260423T132904
CREATED:20260421T220111Z
LAST-MODIFIED:20260421T220149Z
UID:10026285-1904198400-1904232600@www.calendrierdesbrocantes.fr
SUMMARY:Brocante de Foix
DESCRIPTION:La brocante du carrefour contact de Foix \n4\, Rue Des Bruilhols\, carrefour contact parking
URL:https://www.calendrierdesbrocantes.fr/event/brocante-de-foix/2030-05-05/
LOCATION:Foix\, 4\, Rue Des Bruilhols\, carrefour contact parking\, Foix\, 09000\, France
CATEGORIES:Brocante
ATTACH;FMTTYPE=image/png:https://www.calendrierdesbrocantes.fr/wp-content/uploads/2026/04/foix.png
GEO:42.975703;1.60806
X-APPLE-STRUCTURED-LOCATION;VALUE=URI;X-ADDRESS=Foix 4 Rue Des Bruilhols carrefour contact parking Foix 09000 France;X-APPLE-RADIUS=500;X-TITLE=4\, Rue Des Bruilhols\, carrefour contact parking:geo:1.60806,42.975703
END:VEVENT
BEGIN:VEVENT
DTSTART;TZID=Europe/Paris:20300512T080000
DTEND;TZID=Europe/Paris:20300512T173000
DTSTAMP:20260423T132904
CREATED:20260421T220111Z
LAST-MODIFIED:20260421T220149Z
UID:10026286-1904803200-1904837400@www.calendrierdesbrocantes.fr
SUMMARY:Brocante de Foix
DESCRIPTION:La brocante du carrefour contact de Foix \n4\, Rue Des Bruilhols\, carrefour contact parking
URL:https://www.calendrierdesbrocantes.fr/event/brocante-de-foix/2030-05-12/
LOCATION:Foix\, 4\, Rue Des Bruilhols\, carrefour contact parking\, Foix\, 09000\, France
CATEGORIES:Brocante
ATTACH;FMTTYPE=image/png:https://www.calendrierdesbrocantes.fr/wp-content/uploads/2026/04/foix.png
GEO:42.975703;1.60806
X-APPLE-STRUCTURED-LOCATION;VALUE=URI;X-ADDRESS=Foix 4 Rue Des Bruilhols carrefour contact parking Foix 09000 France;X-APPLE-RADIUS=500;X-TITLE=4\, Rue Des Bruilhols\, carrefour contact parking:geo:1.60806,42.975703
END:VEVENT
BEGIN:VEVENT
DTSTART;TZID=Europe/Paris:20300519T080000
DTEND;TZID=Europe/Paris:20300519T173000
DTSTAMP:20260423T132904
CREATED:20260421T220111Z
LAST-MODIFIED:20260421T220149Z
UID:10026287-1905408000-1905442200@www.calendrierdesbrocantes.fr
SUMMARY:Brocante de Foix
DESCRIPTION:La brocante du carrefour contact de Foix \n4\, Rue Des Bruilhols\, carrefour contact parking
URL:https://www.calendrierdesbrocantes.fr/event/brocante-de-foix/2030-05-19/
LOCATION:Foix\, 4\, Rue Des Bruilhols\, carrefour contact parking\, Foix\, 09000\, France
CATEGORIES:Brocante
ATTACH;FMTTYPE=image/png:https://www.calendrierdesbrocantes.fr/wp-content/uploads/2026/04/foix.png
GEO:42.975703;1.60806
X-APPLE-STRUCTURED-LOCATION;VALUE=URI;X-ADDRESS=Foix 4 Rue Des Bruilhols carrefour contact parking Foix 09000 France;X-APPLE-RADIUS=500;X-TITLE=4\, Rue Des Bruilhols\, carrefour contact parking:geo:1.60806,42.975703
END:VEVENT
BEGIN:VEVENT
DTSTART;TZID=Europe/Paris:20300526T080000
DTEND;TZID=Europe/Paris:20300526T173000
DTSTAMP:20260423T132904
CREATED:20260421T220111Z
LAST-MODIFIED:20260421T220149Z
UID:10026288-1906012800-1906047000@www.calendrierdesbrocantes.fr
SUMMARY:Brocante de Foix
DESCRIPTION:La brocante du carrefour contact de Foix \n4\, Rue Des Bruilhols\, carrefour contact parking
URL:https://www.calendrierdesbrocantes.fr/event/brocante-de-foix/2030-05-26/
LOCATION:Foix\, 4\, Rue Des Bruilhols\, carrefour contact parking\, Foix\, 09000\, France
CATEGORIES:Brocante
ATTACH;FMTTYPE=image/png:https://www.calendrierdesbrocantes.fr/wp-content/uploads/2026/04/foix.png
GEO:42.975703;1.60806
X-APPLE-STRUCTURED-LOCATION;VALUE=URI;X-ADDRESS=Foix 4 Rue Des Bruilhols carrefour contact parking Foix 09000 France;X-APPLE-RADIUS=500;X-TITLE=4\, Rue Des Bruilhols\, carrefour contact parking:geo:1.60806,42.975703
END:VEVENT
BEGIN:VEVENT
DTSTART;TZID=Europe/Paris:20300602T080000
DTEND;TZID=Europe/Paris:20300602T173000
DTSTAMP:20260423T132904
CREATED:20260421T220111Z
LAST-MODIFIED:20260421T220149Z
UID:10026289-1906617600-1906651800@www.calendrierdesbrocantes.fr
SUMMARY:Brocante de Foix
DESCRIPTION:La brocante du carrefour contact de Foix \n4\, Rue Des Bruilhols\, carrefour contact parking
URL:https://www.calendrierdesbrocantes.fr/event/brocante-de-foix/2030-06-02/
LOCATION:Foix\, 4\, Rue Des Bruilhols\, carrefour contact parking\, Foix\, 09000\, France
CATEGORIES:Brocante
ATTACH;FMTTYPE=image/png:https://www.calendrierdesbrocantes.fr/wp-content/uploads/2026/04/foix.png
GEO:42.975703;1.60806
X-APPLE-STRUCTURED-LOCATION;VALUE=URI;X-ADDRESS=Foix 4 Rue Des Bruilhols carrefour contact parking Foix 09000 France;X-APPLE-RADIUS=500;X-TITLE=4\, Rue Des Bruilhols\, carrefour contact parking:geo:1.60806,42.975703
END:VEVENT
BEGIN:VEVENT
DTSTART;TZID=Europe/Paris:20300609T080000
DTEND;TZID=Europe/Paris:20300609T173000
DTSTAMP:20260423T132904
CREATED:20260421T220111Z
LAST-MODIFIED:20260421T220149Z
UID:10026290-1907222400-1907256600@www.calendrierdesbrocantes.fr
SUMMARY:Brocante de Foix
DESCRIPTION:La brocante du carrefour contact de Foix \n4\, Rue Des Bruilhols\, carrefour contact parking
URL:https://www.calendrierdesbrocantes.fr/event/brocante-de-foix/2030-06-09/
LOCATION:Foix\, 4\, Rue Des Bruilhols\, carrefour contact parking\, Foix\, 09000\, France
CATEGORIES:Brocante
ATTACH;FMTTYPE=image/png:https://www.calendrierdesbrocantes.fr/wp-content/uploads/2026/04/foix.png
GEO:42.975703;1.60806
X-APPLE-STRUCTURED-LOCATION;VALUE=URI;X-ADDRESS=Foix 4 Rue Des Bruilhols carrefour contact parking Foix 09000 France;X-APPLE-RADIUS=500;X-TITLE=4\, Rue Des Bruilhols\, carrefour contact parking:geo:1.60806,42.975703
END:VEVENT
BEGIN:VEVENT
DTSTART;TZID=Europe/Paris:20300616T080000
DTEND;TZID=Europe/Paris:20300616T173000
DTSTAMP:20260423T132904
CREATED:20260421T220111Z
LAST-MODIFIED:20260421T220149Z
UID:10026291-1907827200-1907861400@www.calendrierdesbrocantes.fr
SUMMARY:Brocante de Foix
DESCRIPTION:La brocante du carrefour contact de Foix \n4\, Rue Des Bruilhols\, carrefour contact parking
URL:https://www.calendrierdesbrocantes.fr/event/brocante-de-foix/2030-06-16/
LOCATION:Foix\, 4\, Rue Des Bruilhols\, carrefour contact parking\, Foix\, 09000\, France
CATEGORIES:Brocante
ATTACH;FMTTYPE=image/png:https://www.calendrierdesbrocantes.fr/wp-content/uploads/2026/04/foix.png
GEO:42.975703;1.60806
X-APPLE-STRUCTURED-LOCATION;VALUE=URI;X-ADDRESS=Foix 4 Rue Des Bruilhols carrefour contact parking Foix 09000 France;X-APPLE-RADIUS=500;X-TITLE=4\, Rue Des Bruilhols\, carrefour contact parking:geo:1.60806,42.975703
END:VEVENT
BEGIN:VEVENT
DTSTART;TZID=Europe/Paris:20300623T080000
DTEND;TZID=Europe/Paris:20300623T173000
DTSTAMP:20260423T132904
CREATED:20260421T220111Z
LAST-MODIFIED:20260421T220149Z
UID:10026292-1908432000-1908466200@www.calendrierdesbrocantes.fr
SUMMARY:Brocante de Foix
DESCRIPTION:La brocante du carrefour contact de Foix \n4\, Rue Des Bruilhols\, carrefour contact parking
URL:https://www.calendrierdesbrocantes.fr/event/brocante-de-foix/2030-06-23/
LOCATION:Foix\, 4\, Rue Des Bruilhols\, carrefour contact parking\, Foix\, 09000\, France
CATEGORIES:Brocante
ATTACH;FMTTYPE=image/png:https://www.calendrierdesbrocantes.fr/wp-content/uploads/2026/04/foix.png
GEO:42.975703;1.60806
X-APPLE-STRUCTURED-LOCATION;VALUE=URI;X-ADDRESS=Foix 4 Rue Des Bruilhols carrefour contact parking Foix 09000 France;X-APPLE-RADIUS=500;X-TITLE=4\, Rue Des Bruilhols\, carrefour contact parking:geo:1.60806,42.975703
END:VEVENT
BEGIN:VEVENT
DTSTART;TZID=Europe/Paris:20300630T080000
DTEND;TZID=Europe/Paris:20300630T173000
DTSTAMP:20260423T132904
CREATED:20260421T220111Z
LAST-MODIFIED:20260421T220149Z
UID:10026293-1909036800-1909071000@www.calendrierdesbrocantes.fr
SUMMARY:Brocante de Foix
DESCRIPTION:La brocante du carrefour contact de Foix \n4\, Rue Des Bruilhols\, carrefour contact parking
URL:https://www.calendrierdesbrocantes.fr/event/brocante-de-foix/2030-06-30/
LOCATION:Foix\, 4\, Rue Des Bruilhols\, carrefour contact parking\, Foix\, 09000\, France
CATEGORIES:Brocante
ATTACH;FMTTYPE=image/png:https://www.calendrierdesbrocantes.fr/wp-content/uploads/2026/04/foix.png
GEO:42.975703;1.60806
X-APPLE-STRUCTURED-LOCATION;VALUE=URI;X-ADDRESS=Foix 4 Rue Des Bruilhols carrefour contact parking Foix 09000 France;X-APPLE-RADIUS=500;X-TITLE=4\, Rue Des Bruilhols\, carrefour contact parking:geo:1.60806,42.975703
END:VEVENT
BEGIN:VEVENT
DTSTART;TZID=Europe/Paris:20300707T080000
DTEND;TZID=Europe/Paris:20300707T173000
DTSTAMP:20260423T132904
CREATED:20260421T220111Z
LAST-MODIFIED:20260421T220149Z
UID:10026294-1909641600-1909675800@www.calendrierdesbrocantes.fr
SUMMARY:Brocante de Foix
DESCRIPTION:La brocante du carrefour contact de Foix \n4\, Rue Des Bruilhols\, carrefour contact parking
URL:https://www.calendrierdesbrocantes.fr/event/brocante-de-foix/2030-07-07/
LOCATION:Foix\, 4\, Rue Des Bruilhols\, carrefour contact parking\, Foix\, 09000\, France
CATEGORIES:Brocante
ATTACH;FMTTYPE=image/png:https://www.calendrierdesbrocantes.fr/wp-content/uploads/2026/04/foix.png
GEO:42.975703;1.60806
X-APPLE-STRUCTURED-LOCATION;VALUE=URI;X-ADDRESS=Foix 4 Rue Des Bruilhols carrefour contact parking Foix 09000 France;X-APPLE-RADIUS=500;X-TITLE=4\, Rue Des Bruilhols\, carrefour contact parking:geo:1.60806,42.975703
END:VEVENT
BEGIN:VEVENT
DTSTART;TZID=Europe/Paris:20300714T080000
DTEND;TZID=Europe/Paris:20300714T173000
DTSTAMP:20260423T132904
CREATED:20260421T220111Z
LAST-MODIFIED:20260421T220149Z
UID:10026295-1910246400-1910280600@www.calendrierdesbrocantes.fr
SUMMARY:Brocante de Foix
DESCRIPTION:La brocante du carrefour contact de Foix \n4\, Rue Des Bruilhols\, carrefour contact parking
URL:https://www.calendrierdesbrocantes.fr/event/brocante-de-foix/2030-07-14/
LOCATION:Foix\, 4\, Rue Des Bruilhols\, carrefour contact parking\, Foix\, 09000\, France
CATEGORIES:Brocante
ATTACH;FMTTYPE=image/png:https://www.calendrierdesbrocantes.fr/wp-content/uploads/2026/04/foix.png
GEO:42.975703;1.60806
X-APPLE-STRUCTURED-LOCATION;VALUE=URI;X-ADDRESS=Foix 4 Rue Des Bruilhols carrefour contact parking Foix 09000 France;X-APPLE-RADIUS=500;X-TITLE=4\, Rue Des Bruilhols\, carrefour contact parking:geo:1.60806,42.975703
END:VEVENT
BEGIN:VEVENT
DTSTART;TZID=Europe/Paris:20300721T080000
DTEND;TZID=Europe/Paris:20300721T173000
DTSTAMP:20260423T132904
CREATED:20260421T220111Z
LAST-MODIFIED:20260421T220149Z
UID:10026296-1910851200-1910885400@www.calendrierdesbrocantes.fr
SUMMARY:Brocante de Foix
DESCRIPTION:La brocante du carrefour contact de Foix \n4\, Rue Des Bruilhols\, carrefour contact parking
URL:https://www.calendrierdesbrocantes.fr/event/brocante-de-foix/2030-07-21/
LOCATION:Foix\, 4\, Rue Des Bruilhols\, carrefour contact parking\, Foix\, 09000\, France
CATEGORIES:Brocante
ATTACH;FMTTYPE=image/png:https://www.calendrierdesbrocantes.fr/wp-content/uploads/2026/04/foix.png
GEO:42.975703;1.60806
X-APPLE-STRUCTURED-LOCATION;VALUE=URI;X-ADDRESS=Foix 4 Rue Des Bruilhols carrefour contact parking Foix 09000 France;X-APPLE-RADIUS=500;X-TITLE=4\, Rue Des Bruilhols\, carrefour contact parking:geo:1.60806,42.975703
END:VEVENT
BEGIN:VEVENT
DTSTART;TZID=Europe/Paris:20300728T080000
DTEND;TZID=Europe/Paris:20300728T173000
DTSTAMP:20260423T132904
CREATED:20260421T220111Z
LAST-MODIFIED:20260421T220149Z
UID:10026297-1911456000-1911490200@www.calendrierdesbrocantes.fr
SUMMARY:Brocante de Foix
DESCRIPTION:La brocante du carrefour contact de Foix \n4\, Rue Des Bruilhols\, carrefour contact parking
URL:https://www.calendrierdesbrocantes.fr/event/brocante-de-foix/2030-07-28/
LOCATION:Foix\, 4\, Rue Des Bruilhols\, carrefour contact parking\, Foix\, 09000\, France
CATEGORIES:Brocante
ATTACH;FMTTYPE=image/png:https://www.calendrierdesbrocantes.fr/wp-content/uploads/2026/04/foix.png
GEO:42.975703;1.60806
X-APPLE-STRUCTURED-LOCATION;VALUE=URI;X-ADDRESS=Foix 4 Rue Des Bruilhols carrefour contact parking Foix 09000 France;X-APPLE-RADIUS=500;X-TITLE=4\, Rue Des Bruilhols\, carrefour contact parking:geo:1.60806,42.975703
END:VEVENT
BEGIN:VEVENT
DTSTART;TZID=Europe/Paris:20300804T080000
DTEND;TZID=Europe/Paris:20300804T173000
DTSTAMP:20260423T132904
CREATED:20260421T220111Z
LAST-MODIFIED:20260421T220149Z
UID:10026298-1912060800-1912095000@www.calendrierdesbrocantes.fr
SUMMARY:Brocante de Foix
DESCRIPTION:La brocante du carrefour contact de Foix \n4\, Rue Des Bruilhols\, carrefour contact parking
URL:https://www.calendrierdesbrocantes.fr/event/brocante-de-foix/2030-08-04/
LOCATION:Foix\, 4\, Rue Des Bruilhols\, carrefour contact parking\, Foix\, 09000\, France
CATEGORIES:Brocante
ATTACH;FMTTYPE=image/png:https://www.calendrierdesbrocantes.fr/wp-content/uploads/2026/04/foix.png
GEO:42.975703;1.60806
X-APPLE-STRUCTURED-LOCATION;VALUE=URI;X-ADDRESS=Foix 4 Rue Des Bruilhols carrefour contact parking Foix 09000 France;X-APPLE-RADIUS=500;X-TITLE=4\, Rue Des Bruilhols\, carrefour contact parking:geo:1.60806,42.975703
END:VEVENT
BEGIN:VEVENT
DTSTART;TZID=Europe/Paris:20300811T080000
DTEND;TZID=Europe/Paris:20300811T173000
DTSTAMP:20260423T132904
CREATED:20260421T220111Z
LAST-MODIFIED:20260421T220149Z
UID:10026299-1912665600-1912699800@www.calendrierdesbrocantes.fr
SUMMARY:Brocante de Foix
DESCRIPTION:La brocante du carrefour contact de Foix \n4\, Rue Des Bruilhols\, carrefour contact parking
URL:https://www.calendrierdesbrocantes.fr/event/brocante-de-foix/2030-08-11/
LOCATION:Foix\, 4\, Rue Des Bruilhols\, carrefour contact parking\, Foix\, 09000\, France
CATEGORIES:Brocante
ATTACH;FMTTYPE=image/png:https://www.calendrierdesbrocantes.fr/wp-content/uploads/2026/04/foix.png
GEO:42.975703;1.60806
X-APPLE-STRUCTURED-LOCATION;VALUE=URI;X-ADDRESS=Foix 4 Rue Des Bruilhols carrefour contact parking Foix 09000 France;X-APPLE-RADIUS=500;X-TITLE=4\, Rue Des Bruilhols\, carrefour contact parking:geo:1.60806,42.975703
END:VEVENT
BEGIN:VEVENT
DTSTART;TZID=Europe/Paris:20300818T080000
DTEND;TZID=Europe/Paris:20300818T173000
DTSTAMP:20260423T132904
CREATED:20260421T220111Z
LAST-MODIFIED:20260421T220149Z
UID:10026300-1913270400-1913304600@www.calendrierdesbrocantes.fr
SUMMARY:Brocante de Foix
DESCRIPTION:La brocante du carrefour contact de Foix \n4\, Rue Des Bruilhols\, carrefour contact parking
URL:https://www.calendrierdesbrocantes.fr/event/brocante-de-foix/2030-08-18/
LOCATION:Foix\, 4\, Rue Des Bruilhols\, carrefour contact parking\, Foix\, 09000\, France
CATEGORIES:Brocante
ATTACH;FMTTYPE=image/png:https://www.calendrierdesbrocantes.fr/wp-content/uploads/2026/04/foix.png
GEO:42.975703;1.60806
X-APPLE-STRUCTURED-LOCATION;VALUE=URI;X-ADDRESS=Foix 4 Rue Des Bruilhols carrefour contact parking Foix 09000 France;X-APPLE-RADIUS=500;X-TITLE=4\, Rue Des Bruilhols\, carrefour contact parking:geo:1.60806,42.975703
END:VEVENT
BEGIN:VEVENT
DTSTART;TZID=Europe/Paris:20300825T080000
DTEND;TZID=Europe/Paris:20300825T173000
DTSTAMP:20260423T132904
CREATED:20260421T220111Z
LAST-MODIFIED:20260421T220149Z
UID:10026301-1913875200-1913909400@www.calendrierdesbrocantes.fr
SUMMARY:Brocante de Foix
DESCRIPTION:La brocante du carrefour contact de Foix \n4\, Rue Des Bruilhols\, carrefour contact parking
URL:https://www.calendrierdesbrocantes.fr/event/brocante-de-foix/2030-08-25/
LOCATION:Foix\, 4\, Rue Des Bruilhols\, carrefour contact parking\, Foix\, 09000\, France
CATEGORIES:Brocante
ATTACH;FMTTYPE=image/png:https://www.calendrierdesbrocantes.fr/wp-content/uploads/2026/04/foix.png
GEO:42.975703;1.60806
X-APPLE-STRUCTURED-LOCATION;VALUE=URI;X-ADDRESS=Foix 4 Rue Des Bruilhols carrefour contact parking Foix 09000 France;X-APPLE-RADIUS=500;X-TITLE=4\, Rue Des Bruilhols\, carrefour contact parking:geo:1.60806,42.975703
END:VEVENT
BEGIN:VEVENT
DTSTART;TZID=Europe/Paris:20300901T080000
DTEND;TZID=Europe/Paris:20300901T173000
DTSTAMP:20260423T132904
CREATED:20260421T220111Z
LAST-MODIFIED:20260421T220149Z
UID:10026302-1914480000-1914514200@www.calendrierdesbrocantes.fr
SUMMARY:Brocante de Foix
DESCRIPTION:La brocante du carrefour contact de Foix \n4\, Rue Des Bruilhols\, carrefour contact parking
URL:https://www.calendrierdesbrocantes.fr/event/brocante-de-foix/2030-09-01/
LOCATION:Foix\, 4\, Rue Des Bruilhols\, carrefour contact parking\, Foix\, 09000\, France
CATEGORIES:Brocante
ATTACH;FMTTYPE=image/png:https://www.calendrierdesbrocantes.fr/wp-content/uploads/2026/04/foix.png
GEO:42.975703;1.60806
X-APPLE-STRUCTURED-LOCATION;VALUE=URI;X-ADDRESS=Foix 4 Rue Des Bruilhols carrefour contact parking Foix 09000 France;X-APPLE-RADIUS=500;X-TITLE=4\, Rue Des Bruilhols\, carrefour contact parking:geo:1.60806,42.975703
END:VEVENT
BEGIN:VEVENT
DTSTART;TZID=Europe/Paris:20300908T080000
DTEND;TZID=Europe/Paris:20300908T173000
DTSTAMP:20260423T132904
CREATED:20260421T220111Z
LAST-MODIFIED:20260421T220149Z
UID:10026303-1915084800-1915119000@www.calendrierdesbrocantes.fr
SUMMARY:Brocante de Foix
DESCRIPTION:La brocante du carrefour contact de Foix \n4\, Rue Des Bruilhols\, carrefour contact parking
URL:https://www.calendrierdesbrocantes.fr/event/brocante-de-foix/2030-09-08/
LOCATION:Foix\, 4\, Rue Des Bruilhols\, carrefour contact parking\, Foix\, 09000\, France
CATEGORIES:Brocante
ATTACH;FMTTYPE=image/png:https://www.calendrierdesbrocantes.fr/wp-content/uploads/2026/04/foix.png
GEO:42.975703;1.60806
X-APPLE-STRUCTURED-LOCATION;VALUE=URI;X-ADDRESS=Foix 4 Rue Des Bruilhols carrefour contact parking Foix 09000 France;X-APPLE-RADIUS=500;X-TITLE=4\, Rue Des Bruilhols\, carrefour contact parking:geo:1.60806,42.975703
END:VEVENT
BEGIN:VEVENT
DTSTART;TZID=Europe/Paris:20300915T080000
DTEND;TZID=Europe/Paris:20300915T173000
DTSTAMP:20260423T132904
CREATED:20260421T220111Z
LAST-MODIFIED:20260421T220149Z
UID:10026304-1915689600-1915723800@www.calendrierdesbrocantes.fr
SUMMARY:Brocante de Foix
DESCRIPTION:La brocante du carrefour contact de Foix \n4\, Rue Des Bruilhols\, carrefour contact parking
URL:https://www.calendrierdesbrocantes.fr/event/brocante-de-foix/2030-09-15/
LOCATION:Foix\, 4\, Rue Des Bruilhols\, carrefour contact parking\, Foix\, 09000\, France
CATEGORIES:Brocante
ATTACH;FMTTYPE=image/png:https://www.calendrierdesbrocantes.fr/wp-content/uploads/2026/04/foix.png
GEO:42.975703;1.60806
X-APPLE-STRUCTURED-LOCATION;VALUE=URI;X-ADDRESS=Foix 4 Rue Des Bruilhols carrefour contact parking Foix 09000 France;X-APPLE-RADIUS=500;X-TITLE=4\, Rue Des Bruilhols\, carrefour contact parking:geo:1.60806,42.975703
END:VEVENT
END:VCALENDAR