BEGIN:VCALENDAR
VERSION:2.0
PRODID:-//Calendrier des brocantes - ECPv6.15.20//NONSGML v1.0//EN
CALSCALE:GREGORIAN
METHOD:PUBLISH
X-WR-CALNAME:Calendrier des brocantes
X-ORIGINAL-URL:https://www.calendrierdesbrocantes.fr
X-WR-CALDESC:Évènements pour Calendrier des brocantes
REFRESH-INTERVAL;VALUE=DURATION:PT1H
X-Robots-Tag:noindex
X-PUBLISHED-TTL:PT1H
BEGIN:VTIMEZONE
TZID:Europe/Paris
BEGIN:DAYLIGHT
TZOFFSETFROM:+0100
TZOFFSETTO:+0200
TZNAME:CEST
DTSTART:20270328T010000
END:DAYLIGHT
BEGIN:STANDARD
TZOFFSETFROM:+0200
TZOFFSETTO:+0100
TZNAME:CET
DTSTART:20271031T010000
END:STANDARD
BEGIN:DAYLIGHT
TZOFFSETFROM:+0100
TZOFFSETTO:+0200
TZNAME:CEST
DTSTART:20280326T010000
END:DAYLIGHT
BEGIN:STANDARD
TZOFFSETFROM:+0200
TZOFFSETTO:+0100
TZNAME:CET
DTSTART:20281029T010000
END:STANDARD
BEGIN:DAYLIGHT
TZOFFSETFROM:+0100
TZOFFSETTO:+0200
TZNAME:CEST
DTSTART:20290325T010000
END:DAYLIGHT
BEGIN:STANDARD
TZOFFSETFROM:+0200
TZOFFSETTO:+0100
TZNAME:CET
DTSTART:20291028T010000
END:STANDARD
END:VTIMEZONE
BEGIN:VEVENT
DTSTART;TZID=Europe/Paris:20280708T070000
DTEND;TZID=Europe/Paris:20280708T170000
DTSTAMP:20260419T171436
CREATED:20260417T223602Z
LAST-MODIFIED:20260417T223602Z
UID:10023314-1846652400-1846688400@www.calendrierdesbrocantes.fr
SUMMARY:Brocante et antiquités à Cannes
DESCRIPTION:Marché et antiquités et brocante de Cannes \nCours Félix Faure
URL:https://www.calendrierdesbrocantes.fr/event/brocante-et-antiquites-a-cannes/2028-07-08/
LOCATION:Cannes\, Cours Félix Faure\, Cannes\, 06400\, France
CATEGORIES:Vide-greniers
GEO:43.5520013;7.0138746
X-APPLE-STRUCTURED-LOCATION;VALUE=URI;X-ADDRESS=Cannes Cours Félix Faure Cannes 06400 France;X-APPLE-RADIUS=500;X-TITLE=Cours Félix Faure:geo:7.0138746,43.5520013
END:VEVENT
BEGIN:VEVENT
DTSTART;TZID=Europe/Paris:20280709T070000
DTEND;TZID=Europe/Paris:20280709T170000
DTSTAMP:20260419T171436
CREATED:20260417T224148Z
LAST-MODIFIED:20260417T224204Z
UID:10023836-1846738800-1846774800@www.calendrierdesbrocantes.fr
SUMMARY:Brocante et antiquités à Cannes
DESCRIPTION:Marché et antiquités et brocante de Cannes \nCours Félix Faure
URL:https://www.calendrierdesbrocantes.fr/event/brocante-et-antiquites-a-cannes-2/2028-07-09/
LOCATION:Cannes\, Cours Félix Faure\, Cannes\, 06400\, France
CATEGORIES:Vide-greniers
GEO:43.5520013;7.0138746
X-APPLE-STRUCTURED-LOCATION;VALUE=URI;X-ADDRESS=Cannes Cours Félix Faure Cannes 06400 France;X-APPLE-RADIUS=500;X-TITLE=Cours Félix Faure:geo:7.0138746,43.5520013
END:VEVENT
BEGIN:VEVENT
DTSTART;TZID=Europe/Paris:20280715T070000
DTEND;TZID=Europe/Paris:20280715T170000
DTSTAMP:20260419T171436
CREATED:20260417T223602Z
LAST-MODIFIED:20260417T223602Z
UID:10023315-1847257200-1847293200@www.calendrierdesbrocantes.fr
SUMMARY:Brocante et antiquités à Cannes
DESCRIPTION:Marché et antiquités et brocante de Cannes \nCours Félix Faure
URL:https://www.calendrierdesbrocantes.fr/event/brocante-et-antiquites-a-cannes/2028-07-15/
LOCATION:Cannes\, Cours Félix Faure\, Cannes\, 06400\, France
CATEGORIES:Vide-greniers
GEO:43.5520013;7.0138746
X-APPLE-STRUCTURED-LOCATION;VALUE=URI;X-ADDRESS=Cannes Cours Félix Faure Cannes 06400 France;X-APPLE-RADIUS=500;X-TITLE=Cours Félix Faure:geo:7.0138746,43.5520013
END:VEVENT
BEGIN:VEVENT
DTSTART;TZID=Europe/Paris:20280716T070000
DTEND;TZID=Europe/Paris:20280716T170000
DTSTAMP:20260419T171436
CREATED:20260417T224148Z
LAST-MODIFIED:20260417T224204Z
UID:10023837-1847343600-1847379600@www.calendrierdesbrocantes.fr
SUMMARY:Brocante et antiquités à Cannes
DESCRIPTION:Marché et antiquités et brocante de Cannes \nCours Félix Faure
URL:https://www.calendrierdesbrocantes.fr/event/brocante-et-antiquites-a-cannes-2/2028-07-16/
LOCATION:Cannes\, Cours Félix Faure\, Cannes\, 06400\, France
CATEGORIES:Vide-greniers
GEO:43.5520013;7.0138746
X-APPLE-STRUCTURED-LOCATION;VALUE=URI;X-ADDRESS=Cannes Cours Félix Faure Cannes 06400 France;X-APPLE-RADIUS=500;X-TITLE=Cours Félix Faure:geo:7.0138746,43.5520013
END:VEVENT
BEGIN:VEVENT
DTSTART;TZID=Europe/Paris:20280722T070000
DTEND;TZID=Europe/Paris:20280722T170000
DTSTAMP:20260419T171436
CREATED:20260417T223602Z
LAST-MODIFIED:20260417T223602Z
UID:10023316-1847862000-1847898000@www.calendrierdesbrocantes.fr
SUMMARY:Brocante et antiquités à Cannes
DESCRIPTION:Marché et antiquités et brocante de Cannes \nCours Félix Faure
URL:https://www.calendrierdesbrocantes.fr/event/brocante-et-antiquites-a-cannes/2028-07-22/
LOCATION:Cannes\, Cours Félix Faure\, Cannes\, 06400\, France
CATEGORIES:Vide-greniers
GEO:43.5520013;7.0138746
X-APPLE-STRUCTURED-LOCATION;VALUE=URI;X-ADDRESS=Cannes Cours Félix Faure Cannes 06400 France;X-APPLE-RADIUS=500;X-TITLE=Cours Félix Faure:geo:7.0138746,43.5520013
END:VEVENT
BEGIN:VEVENT
DTSTART;TZID=Europe/Paris:20280723T070000
DTEND;TZID=Europe/Paris:20280723T170000
DTSTAMP:20260419T171436
CREATED:20260417T224148Z
LAST-MODIFIED:20260417T224204Z
UID:10023838-1847948400-1847984400@www.calendrierdesbrocantes.fr
SUMMARY:Brocante et antiquités à Cannes
DESCRIPTION:Marché et antiquités et brocante de Cannes \nCours Félix Faure
URL:https://www.calendrierdesbrocantes.fr/event/brocante-et-antiquites-a-cannes-2/2028-07-23/
LOCATION:Cannes\, Cours Félix Faure\, Cannes\, 06400\, France
CATEGORIES:Vide-greniers
GEO:43.5520013;7.0138746
X-APPLE-STRUCTURED-LOCATION;VALUE=URI;X-ADDRESS=Cannes Cours Félix Faure Cannes 06400 France;X-APPLE-RADIUS=500;X-TITLE=Cours Félix Faure:geo:7.0138746,43.5520013
END:VEVENT
BEGIN:VEVENT
DTSTART;TZID=Europe/Paris:20280729T070000
DTEND;TZID=Europe/Paris:20280729T170000
DTSTAMP:20260419T171436
CREATED:20260417T223602Z
LAST-MODIFIED:20260417T223602Z
UID:10023317-1848466800-1848502800@www.calendrierdesbrocantes.fr
SUMMARY:Brocante et antiquités à Cannes
DESCRIPTION:Marché et antiquités et brocante de Cannes \nCours Félix Faure
URL:https://www.calendrierdesbrocantes.fr/event/brocante-et-antiquites-a-cannes/2028-07-29/
LOCATION:Cannes\, Cours Félix Faure\, Cannes\, 06400\, France
CATEGORIES:Vide-greniers
GEO:43.5520013;7.0138746
X-APPLE-STRUCTURED-LOCATION;VALUE=URI;X-ADDRESS=Cannes Cours Félix Faure Cannes 06400 France;X-APPLE-RADIUS=500;X-TITLE=Cours Félix Faure:geo:7.0138746,43.5520013
END:VEVENT
BEGIN:VEVENT
DTSTART;TZID=Europe/Paris:20280730T070000
DTEND;TZID=Europe/Paris:20280730T170000
DTSTAMP:20260419T171436
CREATED:20260417T224148Z
LAST-MODIFIED:20260417T224204Z
UID:10023839-1848553200-1848589200@www.calendrierdesbrocantes.fr
SUMMARY:Brocante et antiquités à Cannes
DESCRIPTION:Marché et antiquités et brocante de Cannes \nCours Félix Faure
URL:https://www.calendrierdesbrocantes.fr/event/brocante-et-antiquites-a-cannes-2/2028-07-30/
LOCATION:Cannes\, Cours Félix Faure\, Cannes\, 06400\, France
CATEGORIES:Vide-greniers
GEO:43.5520013;7.0138746
X-APPLE-STRUCTURED-LOCATION;VALUE=URI;X-ADDRESS=Cannes Cours Félix Faure Cannes 06400 France;X-APPLE-RADIUS=500;X-TITLE=Cours Félix Faure:geo:7.0138746,43.5520013
END:VEVENT
BEGIN:VEVENT
DTSTART;TZID=Europe/Paris:20280805T070000
DTEND;TZID=Europe/Paris:20280805T170000
DTSTAMP:20260419T171436
CREATED:20260417T223602Z
LAST-MODIFIED:20260417T223602Z
UID:10023318-1849071600-1849107600@www.calendrierdesbrocantes.fr
SUMMARY:Brocante et antiquités à Cannes
DESCRIPTION:Marché et antiquités et brocante de Cannes \nCours Félix Faure
URL:https://www.calendrierdesbrocantes.fr/event/brocante-et-antiquites-a-cannes/2028-08-05/
LOCATION:Cannes\, Cours Félix Faure\, Cannes\, 06400\, France
CATEGORIES:Vide-greniers
GEO:43.5520013;7.0138746
X-APPLE-STRUCTURED-LOCATION;VALUE=URI;X-ADDRESS=Cannes Cours Félix Faure Cannes 06400 France;X-APPLE-RADIUS=500;X-TITLE=Cours Félix Faure:geo:7.0138746,43.5520013
END:VEVENT
BEGIN:VEVENT
DTSTART;TZID=Europe/Paris:20280806T070000
DTEND;TZID=Europe/Paris:20280806T170000
DTSTAMP:20260419T171436
CREATED:20260417T224148Z
LAST-MODIFIED:20260417T224204Z
UID:10023840-1849158000-1849194000@www.calendrierdesbrocantes.fr
SUMMARY:Brocante et antiquités à Cannes
DESCRIPTION:Marché et antiquités et brocante de Cannes \nCours Félix Faure
URL:https://www.calendrierdesbrocantes.fr/event/brocante-et-antiquites-a-cannes-2/2028-08-06/
LOCATION:Cannes\, Cours Félix Faure\, Cannes\, 06400\, France
CATEGORIES:Vide-greniers
GEO:43.5520013;7.0138746
X-APPLE-STRUCTURED-LOCATION;VALUE=URI;X-ADDRESS=Cannes Cours Félix Faure Cannes 06400 France;X-APPLE-RADIUS=500;X-TITLE=Cours Félix Faure:geo:7.0138746,43.5520013
END:VEVENT
BEGIN:VEVENT
DTSTART;TZID=Europe/Paris:20280812T070000
DTEND;TZID=Europe/Paris:20280812T170000
DTSTAMP:20260419T171436
CREATED:20260417T223602Z
LAST-MODIFIED:20260417T223602Z
UID:10023319-1849676400-1849712400@www.calendrierdesbrocantes.fr
SUMMARY:Brocante et antiquités à Cannes
DESCRIPTION:Marché et antiquités et brocante de Cannes \nCours Félix Faure
URL:https://www.calendrierdesbrocantes.fr/event/brocante-et-antiquites-a-cannes/2028-08-12/
LOCATION:Cannes\, Cours Félix Faure\, Cannes\, 06400\, France
CATEGORIES:Vide-greniers
GEO:43.5520013;7.0138746
X-APPLE-STRUCTURED-LOCATION;VALUE=URI;X-ADDRESS=Cannes Cours Félix Faure Cannes 06400 France;X-APPLE-RADIUS=500;X-TITLE=Cours Félix Faure:geo:7.0138746,43.5520013
END:VEVENT
BEGIN:VEVENT
DTSTART;TZID=Europe/Paris:20280813T070000
DTEND;TZID=Europe/Paris:20280813T170000
DTSTAMP:20260419T171436
CREATED:20260417T224148Z
LAST-MODIFIED:20260417T224204Z
UID:10023841-1849762800-1849798800@www.calendrierdesbrocantes.fr
SUMMARY:Brocante et antiquités à Cannes
DESCRIPTION:Marché et antiquités et brocante de Cannes \nCours Félix Faure
URL:https://www.calendrierdesbrocantes.fr/event/brocante-et-antiquites-a-cannes-2/2028-08-13/
LOCATION:Cannes\, Cours Félix Faure\, Cannes\, 06400\, France
CATEGORIES:Vide-greniers
GEO:43.5520013;7.0138746
X-APPLE-STRUCTURED-LOCATION;VALUE=URI;X-ADDRESS=Cannes Cours Félix Faure Cannes 06400 France;X-APPLE-RADIUS=500;X-TITLE=Cours Félix Faure:geo:7.0138746,43.5520013
END:VEVENT
BEGIN:VEVENT
DTSTART;TZID=Europe/Paris:20280819T070000
DTEND;TZID=Europe/Paris:20280819T170000
DTSTAMP:20260419T171436
CREATED:20260417T223602Z
LAST-MODIFIED:20260417T223602Z
UID:10023320-1850281200-1850317200@www.calendrierdesbrocantes.fr
SUMMARY:Brocante et antiquités à Cannes
DESCRIPTION:Marché et antiquités et brocante de Cannes \nCours Félix Faure
URL:https://www.calendrierdesbrocantes.fr/event/brocante-et-antiquites-a-cannes/2028-08-19/
LOCATION:Cannes\, Cours Félix Faure\, Cannes\, 06400\, France
CATEGORIES:Vide-greniers
GEO:43.5520013;7.0138746
X-APPLE-STRUCTURED-LOCATION;VALUE=URI;X-ADDRESS=Cannes Cours Félix Faure Cannes 06400 France;X-APPLE-RADIUS=500;X-TITLE=Cours Félix Faure:geo:7.0138746,43.5520013
END:VEVENT
BEGIN:VEVENT
DTSTART;TZID=Europe/Paris:20280820T070000
DTEND;TZID=Europe/Paris:20280820T170000
DTSTAMP:20260419T171436
CREATED:20260417T224148Z
LAST-MODIFIED:20260417T224204Z
UID:10023842-1850367600-1850403600@www.calendrierdesbrocantes.fr
SUMMARY:Brocante et antiquités à Cannes
DESCRIPTION:Marché et antiquités et brocante de Cannes \nCours Félix Faure
URL:https://www.calendrierdesbrocantes.fr/event/brocante-et-antiquites-a-cannes-2/2028-08-20/
LOCATION:Cannes\, Cours Félix Faure\, Cannes\, 06400\, France
CATEGORIES:Vide-greniers
GEO:43.5520013;7.0138746
X-APPLE-STRUCTURED-LOCATION;VALUE=URI;X-ADDRESS=Cannes Cours Félix Faure Cannes 06400 France;X-APPLE-RADIUS=500;X-TITLE=Cours Félix Faure:geo:7.0138746,43.5520013
END:VEVENT
BEGIN:VEVENT
DTSTART;TZID=Europe/Paris:20280826T070000
DTEND;TZID=Europe/Paris:20280826T170000
DTSTAMP:20260419T171436
CREATED:20260417T223602Z
LAST-MODIFIED:20260417T223602Z
UID:10023321-1850886000-1850922000@www.calendrierdesbrocantes.fr
SUMMARY:Brocante et antiquités à Cannes
DESCRIPTION:Marché et antiquités et brocante de Cannes \nCours Félix Faure
URL:https://www.calendrierdesbrocantes.fr/event/brocante-et-antiquites-a-cannes/2028-08-26/
LOCATION:Cannes\, Cours Félix Faure\, Cannes\, 06400\, France
CATEGORIES:Vide-greniers
GEO:43.5520013;7.0138746
X-APPLE-STRUCTURED-LOCATION;VALUE=URI;X-ADDRESS=Cannes Cours Félix Faure Cannes 06400 France;X-APPLE-RADIUS=500;X-TITLE=Cours Félix Faure:geo:7.0138746,43.5520013
END:VEVENT
BEGIN:VEVENT
DTSTART;TZID=Europe/Paris:20280827T070000
DTEND;TZID=Europe/Paris:20280827T170000
DTSTAMP:20260419T171436
CREATED:20260417T224148Z
LAST-MODIFIED:20260417T224204Z
UID:10023843-1850972400-1851008400@www.calendrierdesbrocantes.fr
SUMMARY:Brocante et antiquités à Cannes
DESCRIPTION:Marché et antiquités et brocante de Cannes \nCours Félix Faure
URL:https://www.calendrierdesbrocantes.fr/event/brocante-et-antiquites-a-cannes-2/2028-08-27/
LOCATION:Cannes\, Cours Félix Faure\, Cannes\, 06400\, France
CATEGORIES:Vide-greniers
GEO:43.5520013;7.0138746
X-APPLE-STRUCTURED-LOCATION;VALUE=URI;X-ADDRESS=Cannes Cours Félix Faure Cannes 06400 France;X-APPLE-RADIUS=500;X-TITLE=Cours Félix Faure:geo:7.0138746,43.5520013
END:VEVENT
BEGIN:VEVENT
DTSTART;TZID=Europe/Paris:20280902T070000
DTEND;TZID=Europe/Paris:20280902T170000
DTSTAMP:20260419T171436
CREATED:20260417T223602Z
LAST-MODIFIED:20260417T223602Z
UID:10023322-1851490800-1851526800@www.calendrierdesbrocantes.fr
SUMMARY:Brocante et antiquités à Cannes
DESCRIPTION:Marché et antiquités et brocante de Cannes \nCours Félix Faure
URL:https://www.calendrierdesbrocantes.fr/event/brocante-et-antiquites-a-cannes/2028-09-02/
LOCATION:Cannes\, Cours Félix Faure\, Cannes\, 06400\, France
CATEGORIES:Vide-greniers
GEO:43.5520013;7.0138746
X-APPLE-STRUCTURED-LOCATION;VALUE=URI;X-ADDRESS=Cannes Cours Félix Faure Cannes 06400 France;X-APPLE-RADIUS=500;X-TITLE=Cours Félix Faure:geo:7.0138746,43.5520013
END:VEVENT
BEGIN:VEVENT
DTSTART;TZID=Europe/Paris:20280903T070000
DTEND;TZID=Europe/Paris:20280903T170000
DTSTAMP:20260419T171436
CREATED:20260417T224148Z
LAST-MODIFIED:20260417T224204Z
UID:10023844-1851577200-1851613200@www.calendrierdesbrocantes.fr
SUMMARY:Brocante et antiquités à Cannes
DESCRIPTION:Marché et antiquités et brocante de Cannes \nCours Félix Faure
URL:https://www.calendrierdesbrocantes.fr/event/brocante-et-antiquites-a-cannes-2/2028-09-03/
LOCATION:Cannes\, Cours Félix Faure\, Cannes\, 06400\, France
CATEGORIES:Vide-greniers
GEO:43.5520013;7.0138746
X-APPLE-STRUCTURED-LOCATION;VALUE=URI;X-ADDRESS=Cannes Cours Félix Faure Cannes 06400 France;X-APPLE-RADIUS=500;X-TITLE=Cours Félix Faure:geo:7.0138746,43.5520013
END:VEVENT
BEGIN:VEVENT
DTSTART;TZID=Europe/Paris:20280909T070000
DTEND;TZID=Europe/Paris:20280909T170000
DTSTAMP:20260419T171436
CREATED:20260417T223602Z
LAST-MODIFIED:20260417T223602Z
UID:10023323-1852095600-1852131600@www.calendrierdesbrocantes.fr
SUMMARY:Brocante et antiquités à Cannes
DESCRIPTION:Marché et antiquités et brocante de Cannes \nCours Félix Faure
URL:https://www.calendrierdesbrocantes.fr/event/brocante-et-antiquites-a-cannes/2028-09-09/
LOCATION:Cannes\, Cours Félix Faure\, Cannes\, 06400\, France
CATEGORIES:Vide-greniers
GEO:43.5520013;7.0138746
X-APPLE-STRUCTURED-LOCATION;VALUE=URI;X-ADDRESS=Cannes Cours Félix Faure Cannes 06400 France;X-APPLE-RADIUS=500;X-TITLE=Cours Félix Faure:geo:7.0138746,43.5520013
END:VEVENT
BEGIN:VEVENT
DTSTART;TZID=Europe/Paris:20280910T070000
DTEND;TZID=Europe/Paris:20280910T170000
DTSTAMP:20260419T171436
CREATED:20260417T224148Z
LAST-MODIFIED:20260417T224204Z
UID:10023845-1852182000-1852218000@www.calendrierdesbrocantes.fr
SUMMARY:Brocante et antiquités à Cannes
DESCRIPTION:Marché et antiquités et brocante de Cannes \nCours Félix Faure
URL:https://www.calendrierdesbrocantes.fr/event/brocante-et-antiquites-a-cannes-2/2028-09-10/
LOCATION:Cannes\, Cours Félix Faure\, Cannes\, 06400\, France
CATEGORIES:Vide-greniers
GEO:43.5520013;7.0138746
X-APPLE-STRUCTURED-LOCATION;VALUE=URI;X-ADDRESS=Cannes Cours Félix Faure Cannes 06400 France;X-APPLE-RADIUS=500;X-TITLE=Cours Félix Faure:geo:7.0138746,43.5520013
END:VEVENT
BEGIN:VEVENT
DTSTART;TZID=Europe/Paris:20280916T070000
DTEND;TZID=Europe/Paris:20280916T170000
DTSTAMP:20260419T171436
CREATED:20260417T223602Z
LAST-MODIFIED:20260417T223602Z
UID:10023324-1852700400-1852736400@www.calendrierdesbrocantes.fr
SUMMARY:Brocante et antiquités à Cannes
DESCRIPTION:Marché et antiquités et brocante de Cannes \nCours Félix Faure
URL:https://www.calendrierdesbrocantes.fr/event/brocante-et-antiquites-a-cannes/2028-09-16/
LOCATION:Cannes\, Cours Félix Faure\, Cannes\, 06400\, France
CATEGORIES:Vide-greniers
GEO:43.5520013;7.0138746
X-APPLE-STRUCTURED-LOCATION;VALUE=URI;X-ADDRESS=Cannes Cours Félix Faure Cannes 06400 France;X-APPLE-RADIUS=500;X-TITLE=Cours Félix Faure:geo:7.0138746,43.5520013
END:VEVENT
BEGIN:VEVENT
DTSTART;TZID=Europe/Paris:20280917T070000
DTEND;TZID=Europe/Paris:20280917T170000
DTSTAMP:20260419T171436
CREATED:20260417T224148Z
LAST-MODIFIED:20260417T224204Z
UID:10023846-1852786800-1852822800@www.calendrierdesbrocantes.fr
SUMMARY:Brocante et antiquités à Cannes
DESCRIPTION:Marché et antiquités et brocante de Cannes \nCours Félix Faure
URL:https://www.calendrierdesbrocantes.fr/event/brocante-et-antiquites-a-cannes-2/2028-09-17/
LOCATION:Cannes\, Cours Félix Faure\, Cannes\, 06400\, France
CATEGORIES:Vide-greniers
GEO:43.5520013;7.0138746
X-APPLE-STRUCTURED-LOCATION;VALUE=URI;X-ADDRESS=Cannes Cours Félix Faure Cannes 06400 France;X-APPLE-RADIUS=500;X-TITLE=Cours Félix Faure:geo:7.0138746,43.5520013
END:VEVENT
BEGIN:VEVENT
DTSTART;TZID=Europe/Paris:20280923T070000
DTEND;TZID=Europe/Paris:20280923T170000
DTSTAMP:20260419T171436
CREATED:20260417T223602Z
LAST-MODIFIED:20260417T223602Z
UID:10023325-1853305200-1853341200@www.calendrierdesbrocantes.fr
SUMMARY:Brocante et antiquités à Cannes
DESCRIPTION:Marché et antiquités et brocante de Cannes \nCours Félix Faure
URL:https://www.calendrierdesbrocantes.fr/event/brocante-et-antiquites-a-cannes/2028-09-23/
LOCATION:Cannes\, Cours Félix Faure\, Cannes\, 06400\, France
CATEGORIES:Vide-greniers
GEO:43.5520013;7.0138746
X-APPLE-STRUCTURED-LOCATION;VALUE=URI;X-ADDRESS=Cannes Cours Félix Faure Cannes 06400 France;X-APPLE-RADIUS=500;X-TITLE=Cours Félix Faure:geo:7.0138746,43.5520013
END:VEVENT
BEGIN:VEVENT
DTSTART;TZID=Europe/Paris:20280924T070000
DTEND;TZID=Europe/Paris:20280924T170000
DTSTAMP:20260419T171436
CREATED:20260417T224148Z
LAST-MODIFIED:20260417T224204Z
UID:10023847-1853391600-1853427600@www.calendrierdesbrocantes.fr
SUMMARY:Brocante et antiquités à Cannes
DESCRIPTION:Marché et antiquités et brocante de Cannes \nCours Félix Faure
URL:https://www.calendrierdesbrocantes.fr/event/brocante-et-antiquites-a-cannes-2/2028-09-24/
LOCATION:Cannes\, Cours Félix Faure\, Cannes\, 06400\, France
CATEGORIES:Vide-greniers
GEO:43.5520013;7.0138746
X-APPLE-STRUCTURED-LOCATION;VALUE=URI;X-ADDRESS=Cannes Cours Félix Faure Cannes 06400 France;X-APPLE-RADIUS=500;X-TITLE=Cours Félix Faure:geo:7.0138746,43.5520013
END:VEVENT
BEGIN:VEVENT
DTSTART;TZID=Europe/Paris:20280930T070000
DTEND;TZID=Europe/Paris:20280930T170000
DTSTAMP:20260419T171436
CREATED:20260417T223602Z
LAST-MODIFIED:20260417T223602Z
UID:10023326-1853910000-1853946000@www.calendrierdesbrocantes.fr
SUMMARY:Brocante et antiquités à Cannes
DESCRIPTION:Marché et antiquités et brocante de Cannes \nCours Félix Faure
URL:https://www.calendrierdesbrocantes.fr/event/brocante-et-antiquites-a-cannes/2028-09-30/
LOCATION:Cannes\, Cours Félix Faure\, Cannes\, 06400\, France
CATEGORIES:Vide-greniers
GEO:43.5520013;7.0138746
X-APPLE-STRUCTURED-LOCATION;VALUE=URI;X-ADDRESS=Cannes Cours Félix Faure Cannes 06400 France;X-APPLE-RADIUS=500;X-TITLE=Cours Félix Faure:geo:7.0138746,43.5520013
END:VEVENT
BEGIN:VEVENT
DTSTART;TZID=Europe/Paris:20281001T070000
DTEND;TZID=Europe/Paris:20281001T170000
DTSTAMP:20260419T171436
CREATED:20260417T224148Z
LAST-MODIFIED:20260417T224204Z
UID:10023848-1853996400-1854032400@www.calendrierdesbrocantes.fr
SUMMARY:Brocante et antiquités à Cannes
DESCRIPTION:Marché et antiquités et brocante de Cannes \nCours Félix Faure
URL:https://www.calendrierdesbrocantes.fr/event/brocante-et-antiquites-a-cannes-2/2028-10-01/
LOCATION:Cannes\, Cours Félix Faure\, Cannes\, 06400\, France
CATEGORIES:Vide-greniers
GEO:43.5520013;7.0138746
X-APPLE-STRUCTURED-LOCATION;VALUE=URI;X-ADDRESS=Cannes Cours Félix Faure Cannes 06400 France;X-APPLE-RADIUS=500;X-TITLE=Cours Félix Faure:geo:7.0138746,43.5520013
END:VEVENT
BEGIN:VEVENT
DTSTART;TZID=Europe/Paris:20281007T070000
DTEND;TZID=Europe/Paris:20281007T170000
DTSTAMP:20260419T171436
CREATED:20260417T223602Z
LAST-MODIFIED:20260417T223602Z
UID:10023327-1854514800-1854550800@www.calendrierdesbrocantes.fr
SUMMARY:Brocante et antiquités à Cannes
DESCRIPTION:Marché et antiquités et brocante de Cannes \nCours Félix Faure
URL:https://www.calendrierdesbrocantes.fr/event/brocante-et-antiquites-a-cannes/2028-10-07/
LOCATION:Cannes\, Cours Félix Faure\, Cannes\, 06400\, France
CATEGORIES:Vide-greniers
GEO:43.5520013;7.0138746
X-APPLE-STRUCTURED-LOCATION;VALUE=URI;X-ADDRESS=Cannes Cours Félix Faure Cannes 06400 France;X-APPLE-RADIUS=500;X-TITLE=Cours Félix Faure:geo:7.0138746,43.5520013
END:VEVENT
BEGIN:VEVENT
DTSTART;TZID=Europe/Paris:20281008T070000
DTEND;TZID=Europe/Paris:20281008T170000
DTSTAMP:20260419T171436
CREATED:20260417T224148Z
LAST-MODIFIED:20260417T224204Z
UID:10023849-1854601200-1854637200@www.calendrierdesbrocantes.fr
SUMMARY:Brocante et antiquités à Cannes
DESCRIPTION:Marché et antiquités et brocante de Cannes \nCours Félix Faure
URL:https://www.calendrierdesbrocantes.fr/event/brocante-et-antiquites-a-cannes-2/2028-10-08/
LOCATION:Cannes\, Cours Félix Faure\, Cannes\, 06400\, France
CATEGORIES:Vide-greniers
GEO:43.5520013;7.0138746
X-APPLE-STRUCTURED-LOCATION;VALUE=URI;X-ADDRESS=Cannes Cours Félix Faure Cannes 06400 France;X-APPLE-RADIUS=500;X-TITLE=Cours Félix Faure:geo:7.0138746,43.5520013
END:VEVENT
BEGIN:VEVENT
DTSTART;TZID=Europe/Paris:20281014T070000
DTEND;TZID=Europe/Paris:20281014T170000
DTSTAMP:20260419T171436
CREATED:20260417T223602Z
LAST-MODIFIED:20260417T223602Z
UID:10023328-1855119600-1855155600@www.calendrierdesbrocantes.fr
SUMMARY:Brocante et antiquités à Cannes
DESCRIPTION:Marché et antiquités et brocante de Cannes \nCours Félix Faure
URL:https://www.calendrierdesbrocantes.fr/event/brocante-et-antiquites-a-cannes/2028-10-14/
LOCATION:Cannes\, Cours Félix Faure\, Cannes\, 06400\, France
CATEGORIES:Vide-greniers
GEO:43.5520013;7.0138746
X-APPLE-STRUCTURED-LOCATION;VALUE=URI;X-ADDRESS=Cannes Cours Félix Faure Cannes 06400 France;X-APPLE-RADIUS=500;X-TITLE=Cours Félix Faure:geo:7.0138746,43.5520013
END:VEVENT
BEGIN:VEVENT
DTSTART;TZID=Europe/Paris:20281015T070000
DTEND;TZID=Europe/Paris:20281015T170000
DTSTAMP:20260419T171436
CREATED:20260417T224148Z
LAST-MODIFIED:20260417T224204Z
UID:10023850-1855206000-1855242000@www.calendrierdesbrocantes.fr
SUMMARY:Brocante et antiquités à Cannes
DESCRIPTION:Marché et antiquités et brocante de Cannes \nCours Félix Faure
URL:https://www.calendrierdesbrocantes.fr/event/brocante-et-antiquites-a-cannes-2/2028-10-15/
LOCATION:Cannes\, Cours Félix Faure\, Cannes\, 06400\, France
CATEGORIES:Vide-greniers
GEO:43.5520013;7.0138746
X-APPLE-STRUCTURED-LOCATION;VALUE=URI;X-ADDRESS=Cannes Cours Félix Faure Cannes 06400 France;X-APPLE-RADIUS=500;X-TITLE=Cours Félix Faure:geo:7.0138746,43.5520013
END:VEVENT
END:VCALENDAR