BEGIN:VCALENDAR
VERSION:2.0
PRODID:-//Calendrier des brocantes - ECPv6.15.20//NONSGML v1.0//EN
CALSCALE:GREGORIAN
METHOD:PUBLISH
X-ORIGINAL-URL:https://www.calendrierdesbrocantes.fr
X-WR-CALDESC:Évènements pour Calendrier des brocantes
REFRESH-INTERVAL;VALUE=DURATION:PT1H
X-Robots-Tag:noindex
X-PUBLISHED-TTL:PT1H
BEGIN:VTIMEZONE
TZID:Europe/Paris
BEGIN:DAYLIGHT
TZOFFSETFROM:+0100
TZOFFSETTO:+0200
TZNAME:CEST
DTSTART:20300331T010000
END:DAYLIGHT
BEGIN:STANDARD
TZOFFSETFROM:+0200
TZOFFSETTO:+0100
TZNAME:CET
DTSTART:20301027T010000
END:STANDARD
BEGIN:DAYLIGHT
TZOFFSETFROM:+0100
TZOFFSETTO:+0200
TZNAME:CEST
DTSTART:20310330T010000
END:DAYLIGHT
BEGIN:STANDARD
TZOFFSETFROM:+0200
TZOFFSETTO:+0100
TZNAME:CET
DTSTART:20311026T010000
END:STANDARD
BEGIN:DAYLIGHT
TZOFFSETFROM:+0100
TZOFFSETTO:+0200
TZNAME:CEST
DTSTART:20320328T010000
END:DAYLIGHT
BEGIN:STANDARD
TZOFFSETFROM:+0200
TZOFFSETTO:+0100
TZNAME:CET
DTSTART:20321031T010000
END:STANDARD
END:VTIMEZONE
BEGIN:VEVENT
DTSTART;TZID=Europe/Paris:20310209T080000
DTEND;TZID=Europe/Paris:20310209T173000
DTSTAMP:20260423T210928
CREATED:20260421T220111Z
LAST-MODIFIED:20260421T220149Z
UID:10026325-1928390400-1928424600@www.calendrierdesbrocantes.fr
SUMMARY:Brocante de Foix
DESCRIPTION:La brocante du carrefour contact de Foix \n4\, Rue Des Bruilhols\, carrefour contact parking
URL:https://www.calendrierdesbrocantes.fr/event/brocante-de-foix/2031-02-09/
LOCATION:Foix\, 4\, Rue Des Bruilhols\, carrefour contact parking\, Foix\, 09000\, France
CATEGORIES:Brocante
ATTACH;FMTTYPE=image/png:https://www.calendrierdesbrocantes.fr/wp-content/uploads/2026/04/foix.png
GEO:42.975703;1.60806
X-APPLE-STRUCTURED-LOCATION;VALUE=URI;X-ADDRESS=Foix 4 Rue Des Bruilhols carrefour contact parking Foix 09000 France;X-APPLE-RADIUS=500;X-TITLE=4\, Rue Des Bruilhols\, carrefour contact parking:geo:1.60806,42.975703
END:VEVENT
BEGIN:VEVENT
DTSTART;TZID=Europe/Paris:20310216T080000
DTEND;TZID=Europe/Paris:20310216T173000
DTSTAMP:20260423T210928
CREATED:20260421T220111Z
LAST-MODIFIED:20260421T220149Z
UID:10026326-1928995200-1929029400@www.calendrierdesbrocantes.fr
SUMMARY:Brocante de Foix
DESCRIPTION:La brocante du carrefour contact de Foix \n4\, Rue Des Bruilhols\, carrefour contact parking
URL:https://www.calendrierdesbrocantes.fr/event/brocante-de-foix/2031-02-16/
LOCATION:Foix\, 4\, Rue Des Bruilhols\, carrefour contact parking\, Foix\, 09000\, France
CATEGORIES:Brocante
ATTACH;FMTTYPE=image/png:https://www.calendrierdesbrocantes.fr/wp-content/uploads/2026/04/foix.png
GEO:42.975703;1.60806
X-APPLE-STRUCTURED-LOCATION;VALUE=URI;X-ADDRESS=Foix 4 Rue Des Bruilhols carrefour contact parking Foix 09000 France;X-APPLE-RADIUS=500;X-TITLE=4\, Rue Des Bruilhols\, carrefour contact parking:geo:1.60806,42.975703
END:VEVENT
BEGIN:VEVENT
DTSTART;TZID=Europe/Paris:20310223T080000
DTEND;TZID=Europe/Paris:20310223T173000
DTSTAMP:20260423T210928
CREATED:20260421T220111Z
LAST-MODIFIED:20260421T220149Z
UID:10026327-1929600000-1929634200@www.calendrierdesbrocantes.fr
SUMMARY:Brocante de Foix
DESCRIPTION:La brocante du carrefour contact de Foix \n4\, Rue Des Bruilhols\, carrefour contact parking
URL:https://www.calendrierdesbrocantes.fr/event/brocante-de-foix/2031-02-23/
LOCATION:Foix\, 4\, Rue Des Bruilhols\, carrefour contact parking\, Foix\, 09000\, France
CATEGORIES:Brocante
ATTACH;FMTTYPE=image/png:https://www.calendrierdesbrocantes.fr/wp-content/uploads/2026/04/foix.png
GEO:42.975703;1.60806
X-APPLE-STRUCTURED-LOCATION;VALUE=URI;X-ADDRESS=Foix 4 Rue Des Bruilhols carrefour contact parking Foix 09000 France;X-APPLE-RADIUS=500;X-TITLE=4\, Rue Des Bruilhols\, carrefour contact parking:geo:1.60806,42.975703
END:VEVENT
BEGIN:VEVENT
DTSTART;TZID=Europe/Paris:20310302T080000
DTEND;TZID=Europe/Paris:20310302T173000
DTSTAMP:20260423T210928
CREATED:20260421T220111Z
LAST-MODIFIED:20260421T220149Z
UID:10026328-1930204800-1930239000@www.calendrierdesbrocantes.fr
SUMMARY:Brocante de Foix
DESCRIPTION:La brocante du carrefour contact de Foix \n4\, Rue Des Bruilhols\, carrefour contact parking
URL:https://www.calendrierdesbrocantes.fr/event/brocante-de-foix/2031-03-02/
LOCATION:Foix\, 4\, Rue Des Bruilhols\, carrefour contact parking\, Foix\, 09000\, France
CATEGORIES:Brocante
ATTACH;FMTTYPE=image/png:https://www.calendrierdesbrocantes.fr/wp-content/uploads/2026/04/foix.png
GEO:42.975703;1.60806
X-APPLE-STRUCTURED-LOCATION;VALUE=URI;X-ADDRESS=Foix 4 Rue Des Bruilhols carrefour contact parking Foix 09000 France;X-APPLE-RADIUS=500;X-TITLE=4\, Rue Des Bruilhols\, carrefour contact parking:geo:1.60806,42.975703
END:VEVENT
BEGIN:VEVENT
DTSTART;TZID=Europe/Paris:20310309T080000
DTEND;TZID=Europe/Paris:20310309T173000
DTSTAMP:20260423T210928
CREATED:20260421T220111Z
LAST-MODIFIED:20260421T220149Z
UID:10026329-1930809600-1930843800@www.calendrierdesbrocantes.fr
SUMMARY:Brocante de Foix
DESCRIPTION:La brocante du carrefour contact de Foix \n4\, Rue Des Bruilhols\, carrefour contact parking
URL:https://www.calendrierdesbrocantes.fr/event/brocante-de-foix/2031-03-09/
LOCATION:Foix\, 4\, Rue Des Bruilhols\, carrefour contact parking\, Foix\, 09000\, France
CATEGORIES:Brocante
ATTACH;FMTTYPE=image/png:https://www.calendrierdesbrocantes.fr/wp-content/uploads/2026/04/foix.png
GEO:42.975703;1.60806
X-APPLE-STRUCTURED-LOCATION;VALUE=URI;X-ADDRESS=Foix 4 Rue Des Bruilhols carrefour contact parking Foix 09000 France;X-APPLE-RADIUS=500;X-TITLE=4\, Rue Des Bruilhols\, carrefour contact parking:geo:1.60806,42.975703
END:VEVENT
BEGIN:VEVENT
DTSTART;TZID=Europe/Paris:20310316T080000
DTEND;TZID=Europe/Paris:20310316T173000
DTSTAMP:20260423T210928
CREATED:20260421T220111Z
LAST-MODIFIED:20260421T220149Z
UID:10026330-1931414400-1931448600@www.calendrierdesbrocantes.fr
SUMMARY:Brocante de Foix
DESCRIPTION:La brocante du carrefour contact de Foix \n4\, Rue Des Bruilhols\, carrefour contact parking
URL:https://www.calendrierdesbrocantes.fr/event/brocante-de-foix/2031-03-16/
LOCATION:Foix\, 4\, Rue Des Bruilhols\, carrefour contact parking\, Foix\, 09000\, France
CATEGORIES:Brocante
ATTACH;FMTTYPE=image/png:https://www.calendrierdesbrocantes.fr/wp-content/uploads/2026/04/foix.png
GEO:42.975703;1.60806
X-APPLE-STRUCTURED-LOCATION;VALUE=URI;X-ADDRESS=Foix 4 Rue Des Bruilhols carrefour contact parking Foix 09000 France;X-APPLE-RADIUS=500;X-TITLE=4\, Rue Des Bruilhols\, carrefour contact parking:geo:1.60806,42.975703
END:VEVENT
BEGIN:VEVENT
DTSTART;TZID=Europe/Paris:20310323T080000
DTEND;TZID=Europe/Paris:20310323T173000
DTSTAMP:20260423T210928
CREATED:20260421T220111Z
LAST-MODIFIED:20260421T220149Z
UID:10026331-1932019200-1932053400@www.calendrierdesbrocantes.fr
SUMMARY:Brocante de Foix
DESCRIPTION:La brocante du carrefour contact de Foix \n4\, Rue Des Bruilhols\, carrefour contact parking
URL:https://www.calendrierdesbrocantes.fr/event/brocante-de-foix/2031-03-23/
LOCATION:Foix\, 4\, Rue Des Bruilhols\, carrefour contact parking\, Foix\, 09000\, France
CATEGORIES:Brocante
ATTACH;FMTTYPE=image/png:https://www.calendrierdesbrocantes.fr/wp-content/uploads/2026/04/foix.png
GEO:42.975703;1.60806
X-APPLE-STRUCTURED-LOCATION;VALUE=URI;X-ADDRESS=Foix 4 Rue Des Bruilhols carrefour contact parking Foix 09000 France;X-APPLE-RADIUS=500;X-TITLE=4\, Rue Des Bruilhols\, carrefour contact parking:geo:1.60806,42.975703
END:VEVENT
BEGIN:VEVENT
DTSTART;TZID=Europe/Paris:20310330T080000
DTEND;TZID=Europe/Paris:20310330T173000
DTSTAMP:20260423T210928
CREATED:20260421T220111Z
LAST-MODIFIED:20260421T220149Z
UID:10026332-1932624000-1932658200@www.calendrierdesbrocantes.fr
SUMMARY:Brocante de Foix
DESCRIPTION:La brocante du carrefour contact de Foix \n4\, Rue Des Bruilhols\, carrefour contact parking
URL:https://www.calendrierdesbrocantes.fr/event/brocante-de-foix/2031-03-30/
LOCATION:Foix\, 4\, Rue Des Bruilhols\, carrefour contact parking\, Foix\, 09000\, France
CATEGORIES:Brocante
ATTACH;FMTTYPE=image/png:https://www.calendrierdesbrocantes.fr/wp-content/uploads/2026/04/foix.png
GEO:42.975703;1.60806
X-APPLE-STRUCTURED-LOCATION;VALUE=URI;X-ADDRESS=Foix 4 Rue Des Bruilhols carrefour contact parking Foix 09000 France;X-APPLE-RADIUS=500;X-TITLE=4\, Rue Des Bruilhols\, carrefour contact parking:geo:1.60806,42.975703
END:VEVENT
BEGIN:VEVENT
DTSTART;TZID=Europe/Paris:20310406T080000
DTEND;TZID=Europe/Paris:20310406T173000
DTSTAMP:20260423T210928
CREATED:20260421T220111Z
LAST-MODIFIED:20260421T220149Z
UID:10026333-1933228800-1933263000@www.calendrierdesbrocantes.fr
SUMMARY:Brocante de Foix
DESCRIPTION:La brocante du carrefour contact de Foix \n4\, Rue Des Bruilhols\, carrefour contact parking
URL:https://www.calendrierdesbrocantes.fr/event/brocante-de-foix/2031-04-06/
LOCATION:Foix\, 4\, Rue Des Bruilhols\, carrefour contact parking\, Foix\, 09000\, France
CATEGORIES:Brocante
ATTACH;FMTTYPE=image/png:https://www.calendrierdesbrocantes.fr/wp-content/uploads/2026/04/foix.png
GEO:42.975703;1.60806
X-APPLE-STRUCTURED-LOCATION;VALUE=URI;X-ADDRESS=Foix 4 Rue Des Bruilhols carrefour contact parking Foix 09000 France;X-APPLE-RADIUS=500;X-TITLE=4\, Rue Des Bruilhols\, carrefour contact parking:geo:1.60806,42.975703
END:VEVENT
BEGIN:VEVENT
DTSTART;TZID=Europe/Paris:20310413T080000
DTEND;TZID=Europe/Paris:20310413T173000
DTSTAMP:20260423T210928
CREATED:20260421T220111Z
LAST-MODIFIED:20260421T220149Z
UID:10026334-1933833600-1933867800@www.calendrierdesbrocantes.fr
SUMMARY:Brocante de Foix
DESCRIPTION:La brocante du carrefour contact de Foix \n4\, Rue Des Bruilhols\, carrefour contact parking
URL:https://www.calendrierdesbrocantes.fr/event/brocante-de-foix/2031-04-13/
LOCATION:Foix\, 4\, Rue Des Bruilhols\, carrefour contact parking\, Foix\, 09000\, France
CATEGORIES:Brocante
ATTACH;FMTTYPE=image/png:https://www.calendrierdesbrocantes.fr/wp-content/uploads/2026/04/foix.png
GEO:42.975703;1.60806
X-APPLE-STRUCTURED-LOCATION;VALUE=URI;X-ADDRESS=Foix 4 Rue Des Bruilhols carrefour contact parking Foix 09000 France;X-APPLE-RADIUS=500;X-TITLE=4\, Rue Des Bruilhols\, carrefour contact parking:geo:1.60806,42.975703
END:VEVENT
BEGIN:VEVENT
DTSTART;TZID=Europe/Paris:20310420T080000
DTEND;TZID=Europe/Paris:20310420T173000
DTSTAMP:20260423T210928
CREATED:20260421T220111Z
LAST-MODIFIED:20260421T220149Z
UID:10026335-1934438400-1934472600@www.calendrierdesbrocantes.fr
SUMMARY:Brocante de Foix
DESCRIPTION:La brocante du carrefour contact de Foix \n4\, Rue Des Bruilhols\, carrefour contact parking
URL:https://www.calendrierdesbrocantes.fr/event/brocante-de-foix/2031-04-20/
LOCATION:Foix\, 4\, Rue Des Bruilhols\, carrefour contact parking\, Foix\, 09000\, France
CATEGORIES:Brocante
ATTACH;FMTTYPE=image/png:https://www.calendrierdesbrocantes.fr/wp-content/uploads/2026/04/foix.png
GEO:42.975703;1.60806
X-APPLE-STRUCTURED-LOCATION;VALUE=URI;X-ADDRESS=Foix 4 Rue Des Bruilhols carrefour contact parking Foix 09000 France;X-APPLE-RADIUS=500;X-TITLE=4\, Rue Des Bruilhols\, carrefour contact parking:geo:1.60806,42.975703
END:VEVENT
END:VCALENDAR