BEGIN:VCALENDAR
VERSION:2.0
PRODID:-//Calendrier des brocantes - ECPv6.15.20//NONSGML v1.0//EN
CALSCALE:GREGORIAN
METHOD:PUBLISH
X-ORIGINAL-URL:https://www.calendrierdesbrocantes.fr
X-WR-CALDESC:Évènements pour Calendrier des brocantes
REFRESH-INTERVAL;VALUE=DURATION:PT1H
X-Robots-Tag:noindex
X-PUBLISHED-TTL:PT1H
BEGIN:VTIMEZONE
TZID:Europe/Paris
BEGIN:DAYLIGHT
TZOFFSETFROM:+0100
TZOFFSETTO:+0200
TZNAME:CEST
DTSTART:20270328T010000
END:DAYLIGHT
BEGIN:STANDARD
TZOFFSETFROM:+0200
TZOFFSETTO:+0100
TZNAME:CET
DTSTART:20271031T010000
END:STANDARD
BEGIN:DAYLIGHT
TZOFFSETFROM:+0100
TZOFFSETTO:+0200
TZNAME:CEST
DTSTART:20280326T010000
END:DAYLIGHT
BEGIN:STANDARD
TZOFFSETFROM:+0200
TZOFFSETTO:+0100
TZNAME:CET
DTSTART:20281029T010000
END:STANDARD
BEGIN:DAYLIGHT
TZOFFSETFROM:+0100
TZOFFSETTO:+0200
TZNAME:CEST
DTSTART:20290325T010000
END:DAYLIGHT
BEGIN:STANDARD
TZOFFSETFROM:+0200
TZOFFSETTO:+0100
TZNAME:CET
DTSTART:20291028T010000
END:STANDARD
BEGIN:DAYLIGHT
TZOFFSETFROM:+0100
TZOFFSETTO:+0200
TZNAME:CEST
DTSTART:20300331T010000
END:DAYLIGHT
BEGIN:STANDARD
TZOFFSETFROM:+0200
TZOFFSETTO:+0100
TZNAME:CET
DTSTART:20301027T010000
END:STANDARD
END:VTIMEZONE
BEGIN:VEVENT
DTSTART;TZID=Europe/Paris:20281125T070000
DTEND;TZID=Europe/Paris:20281125T170000
DTSTAMP:20260420T015658
CREATED:20260417T223602Z
LAST-MODIFIED:20260417T223602Z
UID:10023334-1858748400-1858784400@www.calendrierdesbrocantes.fr
SUMMARY:Brocante et antiquités à Cannes
DESCRIPTION:Marché et antiquités et brocante de Cannes \nCours Félix Faure
URL:https://www.calendrierdesbrocantes.fr/event/brocante-et-antiquites-a-cannes/2028-11-25/
LOCATION:Cannes\, Cours Félix Faure\, Cannes\, 06400\, France
CATEGORIES:Vide-greniers
GEO:43.5520013;7.0138746
X-APPLE-STRUCTURED-LOCATION;VALUE=URI;X-ADDRESS=Cannes Cours Félix Faure Cannes 06400 France;X-APPLE-RADIUS=500;X-TITLE=Cours Félix Faure:geo:7.0138746,43.5520013
END:VEVENT
BEGIN:VEVENT
DTSTART;TZID=Europe/Paris:20281126T070000
DTEND;TZID=Europe/Paris:20281126T170000
DTSTAMP:20260420T015658
CREATED:20260417T224148Z
LAST-MODIFIED:20260417T224204Z
UID:10023856-1858834800-1858870800@www.calendrierdesbrocantes.fr
SUMMARY:Brocante et antiquités à Cannes
DESCRIPTION:Marché et antiquités et brocante de Cannes \nCours Félix Faure
URL:https://www.calendrierdesbrocantes.fr/event/brocante-et-antiquites-a-cannes-2/2028-11-26/
LOCATION:Cannes\, Cours Félix Faure\, Cannes\, 06400\, France
CATEGORIES:Vide-greniers
GEO:43.5520013;7.0138746
X-APPLE-STRUCTURED-LOCATION;VALUE=URI;X-ADDRESS=Cannes Cours Félix Faure Cannes 06400 France;X-APPLE-RADIUS=500;X-TITLE=Cours Félix Faure:geo:7.0138746,43.5520013
END:VEVENT
BEGIN:VEVENT
DTSTART;TZID=Europe/Paris:20281202T070000
DTEND;TZID=Europe/Paris:20281202T170000
DTSTAMP:20260420T015658
CREATED:20260417T223602Z
LAST-MODIFIED:20260417T223602Z
UID:10023335-1859353200-1859389200@www.calendrierdesbrocantes.fr
SUMMARY:Brocante et antiquités à Cannes
DESCRIPTION:Marché et antiquités et brocante de Cannes \nCours Félix Faure
URL:https://www.calendrierdesbrocantes.fr/event/brocante-et-antiquites-a-cannes/2028-12-02/
LOCATION:Cannes\, Cours Félix Faure\, Cannes\, 06400\, France
CATEGORIES:Vide-greniers
GEO:43.5520013;7.0138746
X-APPLE-STRUCTURED-LOCATION;VALUE=URI;X-ADDRESS=Cannes Cours Félix Faure Cannes 06400 France;X-APPLE-RADIUS=500;X-TITLE=Cours Félix Faure:geo:7.0138746,43.5520013
END:VEVENT
BEGIN:VEVENT
DTSTART;TZID=Europe/Paris:20281203T070000
DTEND;TZID=Europe/Paris:20281203T170000
DTSTAMP:20260420T015658
CREATED:20260417T224148Z
LAST-MODIFIED:20260417T224204Z
UID:10023857-1859439600-1859475600@www.calendrierdesbrocantes.fr
SUMMARY:Brocante et antiquités à Cannes
DESCRIPTION:Marché et antiquités et brocante de Cannes \nCours Félix Faure
URL:https://www.calendrierdesbrocantes.fr/event/brocante-et-antiquites-a-cannes-2/2028-12-03/
LOCATION:Cannes\, Cours Félix Faure\, Cannes\, 06400\, France
CATEGORIES:Vide-greniers
GEO:43.5520013;7.0138746
X-APPLE-STRUCTURED-LOCATION;VALUE=URI;X-ADDRESS=Cannes Cours Félix Faure Cannes 06400 France;X-APPLE-RADIUS=500;X-TITLE=Cours Félix Faure:geo:7.0138746,43.5520013
END:VEVENT
BEGIN:VEVENT
DTSTART;TZID=Europe/Paris:20281209T070000
DTEND;TZID=Europe/Paris:20281209T170000
DTSTAMP:20260420T015658
CREATED:20260417T223602Z
LAST-MODIFIED:20260417T223602Z
UID:10023336-1859958000-1859994000@www.calendrierdesbrocantes.fr
SUMMARY:Brocante et antiquités à Cannes
DESCRIPTION:Marché et antiquités et brocante de Cannes \nCours Félix Faure
URL:https://www.calendrierdesbrocantes.fr/event/brocante-et-antiquites-a-cannes/2028-12-09/
LOCATION:Cannes\, Cours Félix Faure\, Cannes\, 06400\, France
CATEGORIES:Vide-greniers
GEO:43.5520013;7.0138746
X-APPLE-STRUCTURED-LOCATION;VALUE=URI;X-ADDRESS=Cannes Cours Félix Faure Cannes 06400 France;X-APPLE-RADIUS=500;X-TITLE=Cours Félix Faure:geo:7.0138746,43.5520013
END:VEVENT
BEGIN:VEVENT
DTSTART;TZID=Europe/Paris:20281210T070000
DTEND;TZID=Europe/Paris:20281210T170000
DTSTAMP:20260420T015658
CREATED:20260417T224148Z
LAST-MODIFIED:20260417T224204Z
UID:10023858-1860044400-1860080400@www.calendrierdesbrocantes.fr
SUMMARY:Brocante et antiquités à Cannes
DESCRIPTION:Marché et antiquités et brocante de Cannes \nCours Félix Faure
URL:https://www.calendrierdesbrocantes.fr/event/brocante-et-antiquites-a-cannes-2/2028-12-10/
LOCATION:Cannes\, Cours Félix Faure\, Cannes\, 06400\, France
CATEGORIES:Vide-greniers
GEO:43.5520013;7.0138746
X-APPLE-STRUCTURED-LOCATION;VALUE=URI;X-ADDRESS=Cannes Cours Félix Faure Cannes 06400 France;X-APPLE-RADIUS=500;X-TITLE=Cours Félix Faure:geo:7.0138746,43.5520013
END:VEVENT
BEGIN:VEVENT
DTSTART;TZID=Europe/Paris:20281216T070000
DTEND;TZID=Europe/Paris:20281216T170000
DTSTAMP:20260420T015658
CREATED:20260417T223602Z
LAST-MODIFIED:20260417T223602Z
UID:10023337-1860562800-1860598800@www.calendrierdesbrocantes.fr
SUMMARY:Brocante et antiquités à Cannes
DESCRIPTION:Marché et antiquités et brocante de Cannes \nCours Félix Faure
URL:https://www.calendrierdesbrocantes.fr/event/brocante-et-antiquites-a-cannes/2028-12-16/
LOCATION:Cannes\, Cours Félix Faure\, Cannes\, 06400\, France
CATEGORIES:Vide-greniers
GEO:43.5520013;7.0138746
X-APPLE-STRUCTURED-LOCATION;VALUE=URI;X-ADDRESS=Cannes Cours Félix Faure Cannes 06400 France;X-APPLE-RADIUS=500;X-TITLE=Cours Félix Faure:geo:7.0138746,43.5520013
END:VEVENT
BEGIN:VEVENT
DTSTART;TZID=Europe/Paris:20281217T070000
DTEND;TZID=Europe/Paris:20281217T170000
DTSTAMP:20260420T015658
CREATED:20260417T224148Z
LAST-MODIFIED:20260417T224204Z
UID:10023859-1860649200-1860685200@www.calendrierdesbrocantes.fr
SUMMARY:Brocante et antiquités à Cannes
DESCRIPTION:Marché et antiquités et brocante de Cannes \nCours Félix Faure
URL:https://www.calendrierdesbrocantes.fr/event/brocante-et-antiquites-a-cannes-2/2028-12-17/
LOCATION:Cannes\, Cours Félix Faure\, Cannes\, 06400\, France
CATEGORIES:Vide-greniers
GEO:43.5520013;7.0138746
X-APPLE-STRUCTURED-LOCATION;VALUE=URI;X-ADDRESS=Cannes Cours Félix Faure Cannes 06400 France;X-APPLE-RADIUS=500;X-TITLE=Cours Félix Faure:geo:7.0138746,43.5520013
END:VEVENT
BEGIN:VEVENT
DTSTART;TZID=Europe/Paris:20281223T070000
DTEND;TZID=Europe/Paris:20281223T170000
DTSTAMP:20260420T015658
CREATED:20260417T223602Z
LAST-MODIFIED:20260417T223602Z
UID:10023338-1861167600-1861203600@www.calendrierdesbrocantes.fr
SUMMARY:Brocante et antiquités à Cannes
DESCRIPTION:Marché et antiquités et brocante de Cannes \nCours Félix Faure
URL:https://www.calendrierdesbrocantes.fr/event/brocante-et-antiquites-a-cannes/2028-12-23/
LOCATION:Cannes\, Cours Félix Faure\, Cannes\, 06400\, France
CATEGORIES:Vide-greniers
GEO:43.5520013;7.0138746
X-APPLE-STRUCTURED-LOCATION;VALUE=URI;X-ADDRESS=Cannes Cours Félix Faure Cannes 06400 France;X-APPLE-RADIUS=500;X-TITLE=Cours Félix Faure:geo:7.0138746,43.5520013
END:VEVENT
BEGIN:VEVENT
DTSTART;TZID=Europe/Paris:20281224T070000
DTEND;TZID=Europe/Paris:20281224T170000
DTSTAMP:20260420T015658
CREATED:20260417T224148Z
LAST-MODIFIED:20260417T224204Z
UID:10023860-1861254000-1861290000@www.calendrierdesbrocantes.fr
SUMMARY:Brocante et antiquités à Cannes
DESCRIPTION:Marché et antiquités et brocante de Cannes \nCours Félix Faure
URL:https://www.calendrierdesbrocantes.fr/event/brocante-et-antiquites-a-cannes-2/2028-12-24/
LOCATION:Cannes\, Cours Félix Faure\, Cannes\, 06400\, France
CATEGORIES:Vide-greniers
GEO:43.5520013;7.0138746
X-APPLE-STRUCTURED-LOCATION;VALUE=URI;X-ADDRESS=Cannes Cours Félix Faure Cannes 06400 France;X-APPLE-RADIUS=500;X-TITLE=Cours Félix Faure:geo:7.0138746,43.5520013
END:VEVENT
BEGIN:VEVENT
DTSTART;TZID=Europe/Paris:20281230T070000
DTEND;TZID=Europe/Paris:20281230T170000
DTSTAMP:20260420T015658
CREATED:20260417T223602Z
LAST-MODIFIED:20260417T223602Z
UID:10023339-1861772400-1861808400@www.calendrierdesbrocantes.fr
SUMMARY:Brocante et antiquités à Cannes
DESCRIPTION:Marché et antiquités et brocante de Cannes \nCours Félix Faure
URL:https://www.calendrierdesbrocantes.fr/event/brocante-et-antiquites-a-cannes/2028-12-30/
LOCATION:Cannes\, Cours Félix Faure\, Cannes\, 06400\, France
CATEGORIES:Vide-greniers
GEO:43.5520013;7.0138746
X-APPLE-STRUCTURED-LOCATION;VALUE=URI;X-ADDRESS=Cannes Cours Félix Faure Cannes 06400 France;X-APPLE-RADIUS=500;X-TITLE=Cours Félix Faure:geo:7.0138746,43.5520013
END:VEVENT
BEGIN:VEVENT
DTSTART;TZID=Europe/Paris:20281231T070000
DTEND;TZID=Europe/Paris:20281231T170000
DTSTAMP:20260420T015658
CREATED:20260417T224148Z
LAST-MODIFIED:20260417T224204Z
UID:10023861-1861858800-1861894800@www.calendrierdesbrocantes.fr
SUMMARY:Brocante et antiquités à Cannes
DESCRIPTION:Marché et antiquités et brocante de Cannes \nCours Félix Faure
URL:https://www.calendrierdesbrocantes.fr/event/brocante-et-antiquites-a-cannes-2/2028-12-31/
LOCATION:Cannes\, Cours Félix Faure\, Cannes\, 06400\, France
CATEGORIES:Vide-greniers
GEO:43.5520013;7.0138746
X-APPLE-STRUCTURED-LOCATION;VALUE=URI;X-ADDRESS=Cannes Cours Félix Faure Cannes 06400 France;X-APPLE-RADIUS=500;X-TITLE=Cours Félix Faure:geo:7.0138746,43.5520013
END:VEVENT
BEGIN:VEVENT
DTSTART;TZID=Europe/Paris:20290106T070000
DTEND;TZID=Europe/Paris:20290106T170000
DTSTAMP:20260420T015658
CREATED:20260417T223602Z
LAST-MODIFIED:20260417T223602Z
UID:10023340-1862377200-1862413200@www.calendrierdesbrocantes.fr
SUMMARY:Brocante et antiquités à Cannes
DESCRIPTION:Marché et antiquités et brocante de Cannes \nCours Félix Faure
URL:https://www.calendrierdesbrocantes.fr/event/brocante-et-antiquites-a-cannes/2029-01-06/
LOCATION:Cannes\, Cours Félix Faure\, Cannes\, 06400\, France
CATEGORIES:Vide-greniers
GEO:43.5520013;7.0138746
X-APPLE-STRUCTURED-LOCATION;VALUE=URI;X-ADDRESS=Cannes Cours Félix Faure Cannes 06400 France;X-APPLE-RADIUS=500;X-TITLE=Cours Félix Faure:geo:7.0138746,43.5520013
END:VEVENT
BEGIN:VEVENT
DTSTART;TZID=Europe/Paris:20290107T070000
DTEND;TZID=Europe/Paris:20290107T170000
DTSTAMP:20260420T015658
CREATED:20260417T224148Z
LAST-MODIFIED:20260417T224204Z
UID:10023862-1862463600-1862499600@www.calendrierdesbrocantes.fr
SUMMARY:Brocante et antiquités à Cannes
DESCRIPTION:Marché et antiquités et brocante de Cannes \nCours Félix Faure
URL:https://www.calendrierdesbrocantes.fr/event/brocante-et-antiquites-a-cannes-2/2029-01-07/
LOCATION:Cannes\, Cours Félix Faure\, Cannes\, 06400\, France
CATEGORIES:Vide-greniers
GEO:43.5520013;7.0138746
X-APPLE-STRUCTURED-LOCATION;VALUE=URI;X-ADDRESS=Cannes Cours Félix Faure Cannes 06400 France;X-APPLE-RADIUS=500;X-TITLE=Cours Félix Faure:geo:7.0138746,43.5520013
END:VEVENT
BEGIN:VEVENT
DTSTART;TZID=Europe/Paris:20290113T070000
DTEND;TZID=Europe/Paris:20290113T170000
DTSTAMP:20260420T015658
CREATED:20260417T223602Z
LAST-MODIFIED:20260417T223602Z
UID:10023341-1862982000-1863018000@www.calendrierdesbrocantes.fr
SUMMARY:Brocante et antiquités à Cannes
DESCRIPTION:Marché et antiquités et brocante de Cannes \nCours Félix Faure
URL:https://www.calendrierdesbrocantes.fr/event/brocante-et-antiquites-a-cannes/2029-01-13/
LOCATION:Cannes\, Cours Félix Faure\, Cannes\, 06400\, France
CATEGORIES:Vide-greniers
GEO:43.5520013;7.0138746
X-APPLE-STRUCTURED-LOCATION;VALUE=URI;X-ADDRESS=Cannes Cours Félix Faure Cannes 06400 France;X-APPLE-RADIUS=500;X-TITLE=Cours Félix Faure:geo:7.0138746,43.5520013
END:VEVENT
BEGIN:VEVENT
DTSTART;TZID=Europe/Paris:20290114T070000
DTEND;TZID=Europe/Paris:20290114T170000
DTSTAMP:20260420T015658
CREATED:20260417T224148Z
LAST-MODIFIED:20260417T224204Z
UID:10023863-1863068400-1863104400@www.calendrierdesbrocantes.fr
SUMMARY:Brocante et antiquités à Cannes
DESCRIPTION:Marché et antiquités et brocante de Cannes \nCours Félix Faure
URL:https://www.calendrierdesbrocantes.fr/event/brocante-et-antiquites-a-cannes-2/2029-01-14/
LOCATION:Cannes\, Cours Félix Faure\, Cannes\, 06400\, France
CATEGORIES:Vide-greniers
GEO:43.5520013;7.0138746
X-APPLE-STRUCTURED-LOCATION;VALUE=URI;X-ADDRESS=Cannes Cours Félix Faure Cannes 06400 France;X-APPLE-RADIUS=500;X-TITLE=Cours Félix Faure:geo:7.0138746,43.5520013
END:VEVENT
BEGIN:VEVENT
DTSTART;TZID=Europe/Paris:20290120T070000
DTEND;TZID=Europe/Paris:20290120T170000
DTSTAMP:20260420T015658
CREATED:20260417T223602Z
LAST-MODIFIED:20260417T223602Z
UID:10023342-1863586800-1863622800@www.calendrierdesbrocantes.fr
SUMMARY:Brocante et antiquités à Cannes
DESCRIPTION:Marché et antiquités et brocante de Cannes \nCours Félix Faure
URL:https://www.calendrierdesbrocantes.fr/event/brocante-et-antiquites-a-cannes/2029-01-20/
LOCATION:Cannes\, Cours Félix Faure\, Cannes\, 06400\, France
CATEGORIES:Vide-greniers
GEO:43.5520013;7.0138746
X-APPLE-STRUCTURED-LOCATION;VALUE=URI;X-ADDRESS=Cannes Cours Félix Faure Cannes 06400 France;X-APPLE-RADIUS=500;X-TITLE=Cours Félix Faure:geo:7.0138746,43.5520013
END:VEVENT
BEGIN:VEVENT
DTSTART;TZID=Europe/Paris:20290121T070000
DTEND;TZID=Europe/Paris:20290121T170000
DTSTAMP:20260420T015658
CREATED:20260417T224148Z
LAST-MODIFIED:20260417T224204Z
UID:10023864-1863673200-1863709200@www.calendrierdesbrocantes.fr
SUMMARY:Brocante et antiquités à Cannes
DESCRIPTION:Marché et antiquités et brocante de Cannes \nCours Félix Faure
URL:https://www.calendrierdesbrocantes.fr/event/brocante-et-antiquites-a-cannes-2/2029-01-21/
LOCATION:Cannes\, Cours Félix Faure\, Cannes\, 06400\, France
CATEGORIES:Vide-greniers
GEO:43.5520013;7.0138746
X-APPLE-STRUCTURED-LOCATION;VALUE=URI;X-ADDRESS=Cannes Cours Félix Faure Cannes 06400 France;X-APPLE-RADIUS=500;X-TITLE=Cours Félix Faure:geo:7.0138746,43.5520013
END:VEVENT
BEGIN:VEVENT
DTSTART;TZID=Europe/Paris:20290127T070000
DTEND;TZID=Europe/Paris:20290127T170000
DTSTAMP:20260420T015658
CREATED:20260417T223602Z
LAST-MODIFIED:20260417T223602Z
UID:10023343-1864191600-1864227600@www.calendrierdesbrocantes.fr
SUMMARY:Brocante et antiquités à Cannes
DESCRIPTION:Marché et antiquités et brocante de Cannes \nCours Félix Faure
URL:https://www.calendrierdesbrocantes.fr/event/brocante-et-antiquites-a-cannes/2029-01-27/
LOCATION:Cannes\, Cours Félix Faure\, Cannes\, 06400\, France
CATEGORIES:Vide-greniers
GEO:43.5520013;7.0138746
X-APPLE-STRUCTURED-LOCATION;VALUE=URI;X-ADDRESS=Cannes Cours Félix Faure Cannes 06400 France;X-APPLE-RADIUS=500;X-TITLE=Cours Félix Faure:geo:7.0138746,43.5520013
END:VEVENT
BEGIN:VEVENT
DTSTART;TZID=Europe/Paris:20290128T070000
DTEND;TZID=Europe/Paris:20290128T170000
DTSTAMP:20260420T015658
CREATED:20260417T224148Z
LAST-MODIFIED:20260417T224204Z
UID:10023865-1864278000-1864314000@www.calendrierdesbrocantes.fr
SUMMARY:Brocante et antiquités à Cannes
DESCRIPTION:Marché et antiquités et brocante de Cannes \nCours Félix Faure
URL:https://www.calendrierdesbrocantes.fr/event/brocante-et-antiquites-a-cannes-2/2029-01-28/
LOCATION:Cannes\, Cours Félix Faure\, Cannes\, 06400\, France
CATEGORIES:Vide-greniers
GEO:43.5520013;7.0138746
X-APPLE-STRUCTURED-LOCATION;VALUE=URI;X-ADDRESS=Cannes Cours Félix Faure Cannes 06400 France;X-APPLE-RADIUS=500;X-TITLE=Cours Félix Faure:geo:7.0138746,43.5520013
END:VEVENT
BEGIN:VEVENT
DTSTART;TZID=Europe/Paris:20290203T070000
DTEND;TZID=Europe/Paris:20290203T170000
DTSTAMP:20260420T015658
CREATED:20260417T223602Z
LAST-MODIFIED:20260417T223602Z
UID:10023344-1864796400-1864832400@www.calendrierdesbrocantes.fr
SUMMARY:Brocante et antiquités à Cannes
DESCRIPTION:Marché et antiquités et brocante de Cannes \nCours Félix Faure
URL:https://www.calendrierdesbrocantes.fr/event/brocante-et-antiquites-a-cannes/2029-02-03/
LOCATION:Cannes\, Cours Félix Faure\, Cannes\, 06400\, France
CATEGORIES:Vide-greniers
GEO:43.5520013;7.0138746
X-APPLE-STRUCTURED-LOCATION;VALUE=URI;X-ADDRESS=Cannes Cours Félix Faure Cannes 06400 France;X-APPLE-RADIUS=500;X-TITLE=Cours Félix Faure:geo:7.0138746,43.5520013
END:VEVENT
BEGIN:VEVENT
DTSTART;TZID=Europe/Paris:20290204T070000
DTEND;TZID=Europe/Paris:20290204T170000
DTSTAMP:20260420T015658
CREATED:20260417T224148Z
LAST-MODIFIED:20260417T224204Z
UID:10023866-1864882800-1864918800@www.calendrierdesbrocantes.fr
SUMMARY:Brocante et antiquités à Cannes
DESCRIPTION:Marché et antiquités et brocante de Cannes \nCours Félix Faure
URL:https://www.calendrierdesbrocantes.fr/event/brocante-et-antiquites-a-cannes-2/2029-02-04/
LOCATION:Cannes\, Cours Félix Faure\, Cannes\, 06400\, France
CATEGORIES:Vide-greniers
GEO:43.5520013;7.0138746
X-APPLE-STRUCTURED-LOCATION;VALUE=URI;X-ADDRESS=Cannes Cours Félix Faure Cannes 06400 France;X-APPLE-RADIUS=500;X-TITLE=Cours Félix Faure:geo:7.0138746,43.5520013
END:VEVENT
BEGIN:VEVENT
DTSTART;TZID=Europe/Paris:20290210T070000
DTEND;TZID=Europe/Paris:20290210T170000
DTSTAMP:20260420T015658
CREATED:20260417T223602Z
LAST-MODIFIED:20260417T223602Z
UID:10023345-1865401200-1865437200@www.calendrierdesbrocantes.fr
SUMMARY:Brocante et antiquités à Cannes
DESCRIPTION:Marché et antiquités et brocante de Cannes \nCours Félix Faure
URL:https://www.calendrierdesbrocantes.fr/event/brocante-et-antiquites-a-cannes/2029-02-10/
LOCATION:Cannes\, Cours Félix Faure\, Cannes\, 06400\, France
CATEGORIES:Vide-greniers
GEO:43.5520013;7.0138746
X-APPLE-STRUCTURED-LOCATION;VALUE=URI;X-ADDRESS=Cannes Cours Félix Faure Cannes 06400 France;X-APPLE-RADIUS=500;X-TITLE=Cours Félix Faure:geo:7.0138746,43.5520013
END:VEVENT
BEGIN:VEVENT
DTSTART;TZID=Europe/Paris:20290211T070000
DTEND;TZID=Europe/Paris:20290211T170000
DTSTAMP:20260420T015658
CREATED:20260417T224148Z
LAST-MODIFIED:20260417T224204Z
UID:10023867-1865487600-1865523600@www.calendrierdesbrocantes.fr
SUMMARY:Brocante et antiquités à Cannes
DESCRIPTION:Marché et antiquités et brocante de Cannes \nCours Félix Faure
URL:https://www.calendrierdesbrocantes.fr/event/brocante-et-antiquites-a-cannes-2/2029-02-11/
LOCATION:Cannes\, Cours Félix Faure\, Cannes\, 06400\, France
CATEGORIES:Vide-greniers
GEO:43.5520013;7.0138746
X-APPLE-STRUCTURED-LOCATION;VALUE=URI;X-ADDRESS=Cannes Cours Félix Faure Cannes 06400 France;X-APPLE-RADIUS=500;X-TITLE=Cours Félix Faure:geo:7.0138746,43.5520013
END:VEVENT
BEGIN:VEVENT
DTSTART;TZID=Europe/Paris:20290217T070000
DTEND;TZID=Europe/Paris:20290217T170000
DTSTAMP:20260420T015658
CREATED:20260417T223602Z
LAST-MODIFIED:20260417T223602Z
UID:10023346-1866006000-1866042000@www.calendrierdesbrocantes.fr
SUMMARY:Brocante et antiquités à Cannes
DESCRIPTION:Marché et antiquités et brocante de Cannes \nCours Félix Faure
URL:https://www.calendrierdesbrocantes.fr/event/brocante-et-antiquites-a-cannes/2029-02-17/
LOCATION:Cannes\, Cours Félix Faure\, Cannes\, 06400\, France
CATEGORIES:Vide-greniers
GEO:43.5520013;7.0138746
X-APPLE-STRUCTURED-LOCATION;VALUE=URI;X-ADDRESS=Cannes Cours Félix Faure Cannes 06400 France;X-APPLE-RADIUS=500;X-TITLE=Cours Félix Faure:geo:7.0138746,43.5520013
END:VEVENT
BEGIN:VEVENT
DTSTART;TZID=Europe/Paris:20290218T070000
DTEND;TZID=Europe/Paris:20290218T170000
DTSTAMP:20260420T015658
CREATED:20260417T224148Z
LAST-MODIFIED:20260417T224204Z
UID:10023868-1866092400-1866128400@www.calendrierdesbrocantes.fr
SUMMARY:Brocante et antiquités à Cannes
DESCRIPTION:Marché et antiquités et brocante de Cannes \nCours Félix Faure
URL:https://www.calendrierdesbrocantes.fr/event/brocante-et-antiquites-a-cannes-2/2029-02-18/
LOCATION:Cannes\, Cours Félix Faure\, Cannes\, 06400\, France
CATEGORIES:Vide-greniers
GEO:43.5520013;7.0138746
X-APPLE-STRUCTURED-LOCATION;VALUE=URI;X-ADDRESS=Cannes Cours Félix Faure Cannes 06400 France;X-APPLE-RADIUS=500;X-TITLE=Cours Félix Faure:geo:7.0138746,43.5520013
END:VEVENT
BEGIN:VEVENT
DTSTART;TZID=Europe/Paris:20290224T070000
DTEND;TZID=Europe/Paris:20290224T170000
DTSTAMP:20260420T015658
CREATED:20260417T223602Z
LAST-MODIFIED:20260417T223602Z
UID:10023347-1866610800-1866646800@www.calendrierdesbrocantes.fr
SUMMARY:Brocante et antiquités à Cannes
DESCRIPTION:Marché et antiquités et brocante de Cannes \nCours Félix Faure
URL:https://www.calendrierdesbrocantes.fr/event/brocante-et-antiquites-a-cannes/2029-02-24/
LOCATION:Cannes\, Cours Félix Faure\, Cannes\, 06400\, France
CATEGORIES:Vide-greniers
GEO:43.5520013;7.0138746
X-APPLE-STRUCTURED-LOCATION;VALUE=URI;X-ADDRESS=Cannes Cours Félix Faure Cannes 06400 France;X-APPLE-RADIUS=500;X-TITLE=Cours Félix Faure:geo:7.0138746,43.5520013
END:VEVENT
BEGIN:VEVENT
DTSTART;TZID=Europe/Paris:20290225T070000
DTEND;TZID=Europe/Paris:20290225T170000
DTSTAMP:20260420T015658
CREATED:20260417T224148Z
LAST-MODIFIED:20260417T224204Z
UID:10023869-1866697200-1866733200@www.calendrierdesbrocantes.fr
SUMMARY:Brocante et antiquités à Cannes
DESCRIPTION:Marché et antiquités et brocante de Cannes \nCours Félix Faure
URL:https://www.calendrierdesbrocantes.fr/event/brocante-et-antiquites-a-cannes-2/2029-02-25/
LOCATION:Cannes\, Cours Félix Faure\, Cannes\, 06400\, France
CATEGORIES:Vide-greniers
GEO:43.5520013;7.0138746
X-APPLE-STRUCTURED-LOCATION;VALUE=URI;X-ADDRESS=Cannes Cours Félix Faure Cannes 06400 France;X-APPLE-RADIUS=500;X-TITLE=Cours Félix Faure:geo:7.0138746,43.5520013
END:VEVENT
BEGIN:VEVENT
DTSTART;TZID=Europe/Paris:20290303T070000
DTEND;TZID=Europe/Paris:20290303T170000
DTSTAMP:20260420T015658
CREATED:20260417T223602Z
LAST-MODIFIED:20260417T223602Z
UID:10023348-1867215600-1867251600@www.calendrierdesbrocantes.fr
SUMMARY:Brocante et antiquités à Cannes
DESCRIPTION:Marché et antiquités et brocante de Cannes \nCours Félix Faure
URL:https://www.calendrierdesbrocantes.fr/event/brocante-et-antiquites-a-cannes/2029-03-03/
LOCATION:Cannes\, Cours Félix Faure\, Cannes\, 06400\, France
CATEGORIES:Vide-greniers
GEO:43.5520013;7.0138746
X-APPLE-STRUCTURED-LOCATION;VALUE=URI;X-ADDRESS=Cannes Cours Félix Faure Cannes 06400 France;X-APPLE-RADIUS=500;X-TITLE=Cours Félix Faure:geo:7.0138746,43.5520013
END:VEVENT
BEGIN:VEVENT
DTSTART;TZID=Europe/Paris:20290304T070000
DTEND;TZID=Europe/Paris:20290304T170000
DTSTAMP:20260420T015658
CREATED:20260417T224148Z
LAST-MODIFIED:20260417T224204Z
UID:10023870-1867302000-1867338000@www.calendrierdesbrocantes.fr
SUMMARY:Brocante et antiquités à Cannes
DESCRIPTION:Marché et antiquités et brocante de Cannes \nCours Félix Faure
URL:https://www.calendrierdesbrocantes.fr/event/brocante-et-antiquites-a-cannes-2/2029-03-04/
LOCATION:Cannes\, Cours Félix Faure\, Cannes\, 06400\, France
CATEGORIES:Vide-greniers
GEO:43.5520013;7.0138746
X-APPLE-STRUCTURED-LOCATION;VALUE=URI;X-ADDRESS=Cannes Cours Félix Faure Cannes 06400 France;X-APPLE-RADIUS=500;X-TITLE=Cours Félix Faure:geo:7.0138746,43.5520013
END:VEVENT
END:VCALENDAR