BEGIN:VCALENDAR
VERSION:2.0
PRODID:-//Calendrier des brocantes - ECPv6.15.20//NONSGML v1.0//EN
CALSCALE:GREGORIAN
METHOD:PUBLISH
X-WR-CALNAME:Calendrier des brocantes
X-ORIGINAL-URL:https://www.calendrierdesbrocantes.fr
X-WR-CALDESC:Évènements pour Calendrier des brocantes
REFRESH-INTERVAL;VALUE=DURATION:PT1H
X-Robots-Tag:noindex
X-PUBLISHED-TTL:PT1H
BEGIN:VTIMEZONE
TZID:Europe/Paris
BEGIN:DAYLIGHT
TZOFFSETFROM:+0100
TZOFFSETTO:+0200
TZNAME:CEST
DTSTART:20280326T010000
END:DAYLIGHT
BEGIN:STANDARD
TZOFFSETFROM:+0200
TZOFFSETTO:+0100
TZNAME:CET
DTSTART:20281029T010000
END:STANDARD
BEGIN:DAYLIGHT
TZOFFSETFROM:+0100
TZOFFSETTO:+0200
TZNAME:CEST
DTSTART:20290325T010000
END:DAYLIGHT
BEGIN:STANDARD
TZOFFSETFROM:+0200
TZOFFSETTO:+0100
TZNAME:CET
DTSTART:20291028T010000
END:STANDARD
BEGIN:DAYLIGHT
TZOFFSETFROM:+0100
TZOFFSETTO:+0200
TZNAME:CEST
DTSTART:20300331T010000
END:DAYLIGHT
BEGIN:STANDARD
TZOFFSETFROM:+0200
TZOFFSETTO:+0100
TZNAME:CET
DTSTART:20301027T010000
END:STANDARD
END:VTIMEZONE
BEGIN:VEVENT
DTSTART;TZID=Europe/Paris:20290203T070000
DTEND;TZID=Europe/Paris:20290203T170000
DTSTAMP:20260420T051512
CREATED:20260417T223602Z
LAST-MODIFIED:20260417T223602Z
UID:10023344-1864796400-1864832400@www.calendrierdesbrocantes.fr
SUMMARY:Brocante et antiquités à Cannes
DESCRIPTION:Marché et antiquités et brocante de Cannes \nCours Félix Faure
URL:https://www.calendrierdesbrocantes.fr/event/brocante-et-antiquites-a-cannes/2029-02-03/
LOCATION:Cannes\, Cours Félix Faure\, Cannes\, 06400\, France
CATEGORIES:Vide-greniers
GEO:43.5520013;7.0138746
X-APPLE-STRUCTURED-LOCATION;VALUE=URI;X-ADDRESS=Cannes Cours Félix Faure Cannes 06400 France;X-APPLE-RADIUS=500;X-TITLE=Cours Félix Faure:geo:7.0138746,43.5520013
END:VEVENT
BEGIN:VEVENT
DTSTART;TZID=Europe/Paris:20290204T070000
DTEND;TZID=Europe/Paris:20290204T170000
DTSTAMP:20260420T051512
CREATED:20260417T224148Z
LAST-MODIFIED:20260417T224204Z
UID:10023866-1864882800-1864918800@www.calendrierdesbrocantes.fr
SUMMARY:Brocante et antiquités à Cannes
DESCRIPTION:Marché et antiquités et brocante de Cannes \nCours Félix Faure
URL:https://www.calendrierdesbrocantes.fr/event/brocante-et-antiquites-a-cannes-2/2029-02-04/
LOCATION:Cannes\, Cours Félix Faure\, Cannes\, 06400\, France
CATEGORIES:Vide-greniers
GEO:43.5520013;7.0138746
X-APPLE-STRUCTURED-LOCATION;VALUE=URI;X-ADDRESS=Cannes Cours Félix Faure Cannes 06400 France;X-APPLE-RADIUS=500;X-TITLE=Cours Félix Faure:geo:7.0138746,43.5520013
END:VEVENT
BEGIN:VEVENT
DTSTART;TZID=Europe/Paris:20290210T070000
DTEND;TZID=Europe/Paris:20290210T170000
DTSTAMP:20260420T051512
CREATED:20260417T223602Z
LAST-MODIFIED:20260417T223602Z
UID:10023345-1865401200-1865437200@www.calendrierdesbrocantes.fr
SUMMARY:Brocante et antiquités à Cannes
DESCRIPTION:Marché et antiquités et brocante de Cannes \nCours Félix Faure
URL:https://www.calendrierdesbrocantes.fr/event/brocante-et-antiquites-a-cannes/2029-02-10/
LOCATION:Cannes\, Cours Félix Faure\, Cannes\, 06400\, France
CATEGORIES:Vide-greniers
GEO:43.5520013;7.0138746
X-APPLE-STRUCTURED-LOCATION;VALUE=URI;X-ADDRESS=Cannes Cours Félix Faure Cannes 06400 France;X-APPLE-RADIUS=500;X-TITLE=Cours Félix Faure:geo:7.0138746,43.5520013
END:VEVENT
BEGIN:VEVENT
DTSTART;TZID=Europe/Paris:20290211T070000
DTEND;TZID=Europe/Paris:20290211T170000
DTSTAMP:20260420T051512
CREATED:20260417T224148Z
LAST-MODIFIED:20260417T224204Z
UID:10023867-1865487600-1865523600@www.calendrierdesbrocantes.fr
SUMMARY:Brocante et antiquités à Cannes
DESCRIPTION:Marché et antiquités et brocante de Cannes \nCours Félix Faure
URL:https://www.calendrierdesbrocantes.fr/event/brocante-et-antiquites-a-cannes-2/2029-02-11/
LOCATION:Cannes\, Cours Félix Faure\, Cannes\, 06400\, France
CATEGORIES:Vide-greniers
GEO:43.5520013;7.0138746
X-APPLE-STRUCTURED-LOCATION;VALUE=URI;X-ADDRESS=Cannes Cours Félix Faure Cannes 06400 France;X-APPLE-RADIUS=500;X-TITLE=Cours Félix Faure:geo:7.0138746,43.5520013
END:VEVENT
BEGIN:VEVENT
DTSTART;TZID=Europe/Paris:20290217T070000
DTEND;TZID=Europe/Paris:20290217T170000
DTSTAMP:20260420T051512
CREATED:20260417T223602Z
LAST-MODIFIED:20260417T223602Z
UID:10023346-1866006000-1866042000@www.calendrierdesbrocantes.fr
SUMMARY:Brocante et antiquités à Cannes
DESCRIPTION:Marché et antiquités et brocante de Cannes \nCours Félix Faure
URL:https://www.calendrierdesbrocantes.fr/event/brocante-et-antiquites-a-cannes/2029-02-17/
LOCATION:Cannes\, Cours Félix Faure\, Cannes\, 06400\, France
CATEGORIES:Vide-greniers
GEO:43.5520013;7.0138746
X-APPLE-STRUCTURED-LOCATION;VALUE=URI;X-ADDRESS=Cannes Cours Félix Faure Cannes 06400 France;X-APPLE-RADIUS=500;X-TITLE=Cours Félix Faure:geo:7.0138746,43.5520013
END:VEVENT
BEGIN:VEVENT
DTSTART;TZID=Europe/Paris:20290218T070000
DTEND;TZID=Europe/Paris:20290218T170000
DTSTAMP:20260420T051512
CREATED:20260417T224148Z
LAST-MODIFIED:20260417T224204Z
UID:10023868-1866092400-1866128400@www.calendrierdesbrocantes.fr
SUMMARY:Brocante et antiquités à Cannes
DESCRIPTION:Marché et antiquités et brocante de Cannes \nCours Félix Faure
URL:https://www.calendrierdesbrocantes.fr/event/brocante-et-antiquites-a-cannes-2/2029-02-18/
LOCATION:Cannes\, Cours Félix Faure\, Cannes\, 06400\, France
CATEGORIES:Vide-greniers
GEO:43.5520013;7.0138746
X-APPLE-STRUCTURED-LOCATION;VALUE=URI;X-ADDRESS=Cannes Cours Félix Faure Cannes 06400 France;X-APPLE-RADIUS=500;X-TITLE=Cours Félix Faure:geo:7.0138746,43.5520013
END:VEVENT
BEGIN:VEVENT
DTSTART;TZID=Europe/Paris:20290224T070000
DTEND;TZID=Europe/Paris:20290224T170000
DTSTAMP:20260420T051512
CREATED:20260417T223602Z
LAST-MODIFIED:20260417T223602Z
UID:10023347-1866610800-1866646800@www.calendrierdesbrocantes.fr
SUMMARY:Brocante et antiquités à Cannes
DESCRIPTION:Marché et antiquités et brocante de Cannes \nCours Félix Faure
URL:https://www.calendrierdesbrocantes.fr/event/brocante-et-antiquites-a-cannes/2029-02-24/
LOCATION:Cannes\, Cours Félix Faure\, Cannes\, 06400\, France
CATEGORIES:Vide-greniers
GEO:43.5520013;7.0138746
X-APPLE-STRUCTURED-LOCATION;VALUE=URI;X-ADDRESS=Cannes Cours Félix Faure Cannes 06400 France;X-APPLE-RADIUS=500;X-TITLE=Cours Félix Faure:geo:7.0138746,43.5520013
END:VEVENT
BEGIN:VEVENT
DTSTART;TZID=Europe/Paris:20290225T070000
DTEND;TZID=Europe/Paris:20290225T170000
DTSTAMP:20260420T051512
CREATED:20260417T224148Z
LAST-MODIFIED:20260417T224204Z
UID:10023869-1866697200-1866733200@www.calendrierdesbrocantes.fr
SUMMARY:Brocante et antiquités à Cannes
DESCRIPTION:Marché et antiquités et brocante de Cannes \nCours Félix Faure
URL:https://www.calendrierdesbrocantes.fr/event/brocante-et-antiquites-a-cannes-2/2029-02-25/
LOCATION:Cannes\, Cours Félix Faure\, Cannes\, 06400\, France
CATEGORIES:Vide-greniers
GEO:43.5520013;7.0138746
X-APPLE-STRUCTURED-LOCATION;VALUE=URI;X-ADDRESS=Cannes Cours Félix Faure Cannes 06400 France;X-APPLE-RADIUS=500;X-TITLE=Cours Félix Faure:geo:7.0138746,43.5520013
END:VEVENT
BEGIN:VEVENT
DTSTART;TZID=Europe/Paris:20290303T070000
DTEND;TZID=Europe/Paris:20290303T170000
DTSTAMP:20260420T051512
CREATED:20260417T223602Z
LAST-MODIFIED:20260417T223602Z
UID:10023348-1867215600-1867251600@www.calendrierdesbrocantes.fr
SUMMARY:Brocante et antiquités à Cannes
DESCRIPTION:Marché et antiquités et brocante de Cannes \nCours Félix Faure
URL:https://www.calendrierdesbrocantes.fr/event/brocante-et-antiquites-a-cannes/2029-03-03/
LOCATION:Cannes\, Cours Félix Faure\, Cannes\, 06400\, France
CATEGORIES:Vide-greniers
GEO:43.5520013;7.0138746
X-APPLE-STRUCTURED-LOCATION;VALUE=URI;X-ADDRESS=Cannes Cours Félix Faure Cannes 06400 France;X-APPLE-RADIUS=500;X-TITLE=Cours Félix Faure:geo:7.0138746,43.5520013
END:VEVENT
BEGIN:VEVENT
DTSTART;TZID=Europe/Paris:20290304T070000
DTEND;TZID=Europe/Paris:20290304T170000
DTSTAMP:20260420T051512
CREATED:20260417T224148Z
LAST-MODIFIED:20260417T224204Z
UID:10023870-1867302000-1867338000@www.calendrierdesbrocantes.fr
SUMMARY:Brocante et antiquités à Cannes
DESCRIPTION:Marché et antiquités et brocante de Cannes \nCours Félix Faure
URL:https://www.calendrierdesbrocantes.fr/event/brocante-et-antiquites-a-cannes-2/2029-03-04/
LOCATION:Cannes\, Cours Félix Faure\, Cannes\, 06400\, France
CATEGORIES:Vide-greniers
GEO:43.5520013;7.0138746
X-APPLE-STRUCTURED-LOCATION;VALUE=URI;X-ADDRESS=Cannes Cours Félix Faure Cannes 06400 France;X-APPLE-RADIUS=500;X-TITLE=Cours Félix Faure:geo:7.0138746,43.5520013
END:VEVENT
BEGIN:VEVENT
DTSTART;TZID=Europe/Paris:20290310T070000
DTEND;TZID=Europe/Paris:20290310T170000
DTSTAMP:20260420T051512
CREATED:20260417T223602Z
LAST-MODIFIED:20260417T223602Z
UID:10023349-1867820400-1867856400@www.calendrierdesbrocantes.fr
SUMMARY:Brocante et antiquités à Cannes
DESCRIPTION:Marché et antiquités et brocante de Cannes \nCours Félix Faure
URL:https://www.calendrierdesbrocantes.fr/event/brocante-et-antiquites-a-cannes/2029-03-10/
LOCATION:Cannes\, Cours Félix Faure\, Cannes\, 06400\, France
CATEGORIES:Vide-greniers
GEO:43.5520013;7.0138746
X-APPLE-STRUCTURED-LOCATION;VALUE=URI;X-ADDRESS=Cannes Cours Félix Faure Cannes 06400 France;X-APPLE-RADIUS=500;X-TITLE=Cours Félix Faure:geo:7.0138746,43.5520013
END:VEVENT
BEGIN:VEVENT
DTSTART;TZID=Europe/Paris:20290311T070000
DTEND;TZID=Europe/Paris:20290311T170000
DTSTAMP:20260420T051512
CREATED:20260417T224148Z
LAST-MODIFIED:20260417T224204Z
UID:10023871-1867906800-1867942800@www.calendrierdesbrocantes.fr
SUMMARY:Brocante et antiquités à Cannes
DESCRIPTION:Marché et antiquités et brocante de Cannes \nCours Félix Faure
URL:https://www.calendrierdesbrocantes.fr/event/brocante-et-antiquites-a-cannes-2/2029-03-11/
LOCATION:Cannes\, Cours Félix Faure\, Cannes\, 06400\, France
CATEGORIES:Vide-greniers
GEO:43.5520013;7.0138746
X-APPLE-STRUCTURED-LOCATION;VALUE=URI;X-ADDRESS=Cannes Cours Félix Faure Cannes 06400 France;X-APPLE-RADIUS=500;X-TITLE=Cours Félix Faure:geo:7.0138746,43.5520013
END:VEVENT
BEGIN:VEVENT
DTSTART;TZID=Europe/Paris:20290317T070000
DTEND;TZID=Europe/Paris:20290317T170000
DTSTAMP:20260420T051512
CREATED:20260417T223602Z
LAST-MODIFIED:20260417T223602Z
UID:10023350-1868425200-1868461200@www.calendrierdesbrocantes.fr
SUMMARY:Brocante et antiquités à Cannes
DESCRIPTION:Marché et antiquités et brocante de Cannes \nCours Félix Faure
URL:https://www.calendrierdesbrocantes.fr/event/brocante-et-antiquites-a-cannes/2029-03-17/
LOCATION:Cannes\, Cours Félix Faure\, Cannes\, 06400\, France
CATEGORIES:Vide-greniers
GEO:43.5520013;7.0138746
X-APPLE-STRUCTURED-LOCATION;VALUE=URI;X-ADDRESS=Cannes Cours Félix Faure Cannes 06400 France;X-APPLE-RADIUS=500;X-TITLE=Cours Félix Faure:geo:7.0138746,43.5520013
END:VEVENT
BEGIN:VEVENT
DTSTART;TZID=Europe/Paris:20290318T070000
DTEND;TZID=Europe/Paris:20290318T170000
DTSTAMP:20260420T051512
CREATED:20260417T224148Z
LAST-MODIFIED:20260417T224204Z
UID:10023872-1868511600-1868547600@www.calendrierdesbrocantes.fr
SUMMARY:Brocante et antiquités à Cannes
DESCRIPTION:Marché et antiquités et brocante de Cannes \nCours Félix Faure
URL:https://www.calendrierdesbrocantes.fr/event/brocante-et-antiquites-a-cannes-2/2029-03-18/
LOCATION:Cannes\, Cours Félix Faure\, Cannes\, 06400\, France
CATEGORIES:Vide-greniers
GEO:43.5520013;7.0138746
X-APPLE-STRUCTURED-LOCATION;VALUE=URI;X-ADDRESS=Cannes Cours Félix Faure Cannes 06400 France;X-APPLE-RADIUS=500;X-TITLE=Cours Félix Faure:geo:7.0138746,43.5520013
END:VEVENT
BEGIN:VEVENT
DTSTART;TZID=Europe/Paris:20290324T070000
DTEND;TZID=Europe/Paris:20290324T170000
DTSTAMP:20260420T051512
CREATED:20260417T223602Z
LAST-MODIFIED:20260417T223602Z
UID:10023351-1869030000-1869066000@www.calendrierdesbrocantes.fr
SUMMARY:Brocante et antiquités à Cannes
DESCRIPTION:Marché et antiquités et brocante de Cannes \nCours Félix Faure
URL:https://www.calendrierdesbrocantes.fr/event/brocante-et-antiquites-a-cannes/2029-03-24/
LOCATION:Cannes\, Cours Félix Faure\, Cannes\, 06400\, France
CATEGORIES:Vide-greniers
GEO:43.5520013;7.0138746
X-APPLE-STRUCTURED-LOCATION;VALUE=URI;X-ADDRESS=Cannes Cours Félix Faure Cannes 06400 France;X-APPLE-RADIUS=500;X-TITLE=Cours Félix Faure:geo:7.0138746,43.5520013
END:VEVENT
BEGIN:VEVENT
DTSTART;TZID=Europe/Paris:20290325T070000
DTEND;TZID=Europe/Paris:20290325T170000
DTSTAMP:20260420T051512
CREATED:20260417T224148Z
LAST-MODIFIED:20260417T224204Z
UID:10023873-1869116400-1869152400@www.calendrierdesbrocantes.fr
SUMMARY:Brocante et antiquités à Cannes
DESCRIPTION:Marché et antiquités et brocante de Cannes \nCours Félix Faure
URL:https://www.calendrierdesbrocantes.fr/event/brocante-et-antiquites-a-cannes-2/2029-03-25/
LOCATION:Cannes\, Cours Félix Faure\, Cannes\, 06400\, France
CATEGORIES:Vide-greniers
GEO:43.5520013;7.0138746
X-APPLE-STRUCTURED-LOCATION;VALUE=URI;X-ADDRESS=Cannes Cours Félix Faure Cannes 06400 France;X-APPLE-RADIUS=500;X-TITLE=Cours Félix Faure:geo:7.0138746,43.5520013
END:VEVENT
BEGIN:VEVENT
DTSTART;TZID=Europe/Paris:20290331T070000
DTEND;TZID=Europe/Paris:20290331T170000
DTSTAMP:20260420T051512
CREATED:20260417T223602Z
LAST-MODIFIED:20260417T223602Z
UID:10023352-1869634800-1869670800@www.calendrierdesbrocantes.fr
SUMMARY:Brocante et antiquités à Cannes
DESCRIPTION:Marché et antiquités et brocante de Cannes \nCours Félix Faure
URL:https://www.calendrierdesbrocantes.fr/event/brocante-et-antiquites-a-cannes/2029-03-31/
LOCATION:Cannes\, Cours Félix Faure\, Cannes\, 06400\, France
CATEGORIES:Vide-greniers
GEO:43.5520013;7.0138746
X-APPLE-STRUCTURED-LOCATION;VALUE=URI;X-ADDRESS=Cannes Cours Félix Faure Cannes 06400 France;X-APPLE-RADIUS=500;X-TITLE=Cours Félix Faure:geo:7.0138746,43.5520013
END:VEVENT
BEGIN:VEVENT
DTSTART;TZID=Europe/Paris:20290401T070000
DTEND;TZID=Europe/Paris:20290401T170000
DTSTAMP:20260420T051512
CREATED:20260417T224148Z
LAST-MODIFIED:20260417T224204Z
UID:10023874-1869721200-1869757200@www.calendrierdesbrocantes.fr
SUMMARY:Brocante et antiquités à Cannes
DESCRIPTION:Marché et antiquités et brocante de Cannes \nCours Félix Faure
URL:https://www.calendrierdesbrocantes.fr/event/brocante-et-antiquites-a-cannes-2/2029-04-01/
LOCATION:Cannes\, Cours Félix Faure\, Cannes\, 06400\, France
CATEGORIES:Vide-greniers
GEO:43.5520013;7.0138746
X-APPLE-STRUCTURED-LOCATION;VALUE=URI;X-ADDRESS=Cannes Cours Félix Faure Cannes 06400 France;X-APPLE-RADIUS=500;X-TITLE=Cours Félix Faure:geo:7.0138746,43.5520013
END:VEVENT
BEGIN:VEVENT
DTSTART;TZID=Europe/Paris:20290407T070000
DTEND;TZID=Europe/Paris:20290407T170000
DTSTAMP:20260420T051512
CREATED:20260417T223602Z
LAST-MODIFIED:20260417T223602Z
UID:10023353-1870239600-1870275600@www.calendrierdesbrocantes.fr
SUMMARY:Brocante et antiquités à Cannes
DESCRIPTION:Marché et antiquités et brocante de Cannes \nCours Félix Faure
URL:https://www.calendrierdesbrocantes.fr/event/brocante-et-antiquites-a-cannes/2029-04-07/
LOCATION:Cannes\, Cours Félix Faure\, Cannes\, 06400\, France
CATEGORIES:Vide-greniers
GEO:43.5520013;7.0138746
X-APPLE-STRUCTURED-LOCATION;VALUE=URI;X-ADDRESS=Cannes Cours Félix Faure Cannes 06400 France;X-APPLE-RADIUS=500;X-TITLE=Cours Félix Faure:geo:7.0138746,43.5520013
END:VEVENT
BEGIN:VEVENT
DTSTART;TZID=Europe/Paris:20290408T070000
DTEND;TZID=Europe/Paris:20290408T170000
DTSTAMP:20260420T051512
CREATED:20260417T224148Z
LAST-MODIFIED:20260417T224204Z
UID:10023875-1870326000-1870362000@www.calendrierdesbrocantes.fr
SUMMARY:Brocante et antiquités à Cannes
DESCRIPTION:Marché et antiquités et brocante de Cannes \nCours Félix Faure
URL:https://www.calendrierdesbrocantes.fr/event/brocante-et-antiquites-a-cannes-2/2029-04-08/
LOCATION:Cannes\, Cours Félix Faure\, Cannes\, 06400\, France
CATEGORIES:Vide-greniers
GEO:43.5520013;7.0138746
X-APPLE-STRUCTURED-LOCATION;VALUE=URI;X-ADDRESS=Cannes Cours Félix Faure Cannes 06400 France;X-APPLE-RADIUS=500;X-TITLE=Cours Félix Faure:geo:7.0138746,43.5520013
END:VEVENT
BEGIN:VEVENT
DTSTART;TZID=Europe/Paris:20290414T070000
DTEND;TZID=Europe/Paris:20290414T170000
DTSTAMP:20260420T051512
CREATED:20260417T223602Z
LAST-MODIFIED:20260417T223602Z
UID:10023354-1870844400-1870880400@www.calendrierdesbrocantes.fr
SUMMARY:Brocante et antiquités à Cannes
DESCRIPTION:Marché et antiquités et brocante de Cannes \nCours Félix Faure
URL:https://www.calendrierdesbrocantes.fr/event/brocante-et-antiquites-a-cannes/2029-04-14/
LOCATION:Cannes\, Cours Félix Faure\, Cannes\, 06400\, France
CATEGORIES:Vide-greniers
GEO:43.5520013;7.0138746
X-APPLE-STRUCTURED-LOCATION;VALUE=URI;X-ADDRESS=Cannes Cours Félix Faure Cannes 06400 France;X-APPLE-RADIUS=500;X-TITLE=Cours Félix Faure:geo:7.0138746,43.5520013
END:VEVENT
BEGIN:VEVENT
DTSTART;TZID=Europe/Paris:20290415T070000
DTEND;TZID=Europe/Paris:20290415T170000
DTSTAMP:20260420T051512
CREATED:20260417T224148Z
LAST-MODIFIED:20260417T224204Z
UID:10023876-1870930800-1870966800@www.calendrierdesbrocantes.fr
SUMMARY:Brocante et antiquités à Cannes
DESCRIPTION:Marché et antiquités et brocante de Cannes \nCours Félix Faure
URL:https://www.calendrierdesbrocantes.fr/event/brocante-et-antiquites-a-cannes-2/2029-04-15/
LOCATION:Cannes\, Cours Félix Faure\, Cannes\, 06400\, France
CATEGORIES:Vide-greniers
GEO:43.5520013;7.0138746
X-APPLE-STRUCTURED-LOCATION;VALUE=URI;X-ADDRESS=Cannes Cours Félix Faure Cannes 06400 France;X-APPLE-RADIUS=500;X-TITLE=Cours Félix Faure:geo:7.0138746,43.5520013
END:VEVENT
BEGIN:VEVENT
DTSTART;TZID=Europe/Paris:20290421T070000
DTEND;TZID=Europe/Paris:20290421T170000
DTSTAMP:20260420T051512
CREATED:20260417T223602Z
LAST-MODIFIED:20260417T223602Z
UID:10023355-1871449200-1871485200@www.calendrierdesbrocantes.fr
SUMMARY:Brocante et antiquités à Cannes
DESCRIPTION:Marché et antiquités et brocante de Cannes \nCours Félix Faure
URL:https://www.calendrierdesbrocantes.fr/event/brocante-et-antiquites-a-cannes/2029-04-21/
LOCATION:Cannes\, Cours Félix Faure\, Cannes\, 06400\, France
CATEGORIES:Vide-greniers
GEO:43.5520013;7.0138746
X-APPLE-STRUCTURED-LOCATION;VALUE=URI;X-ADDRESS=Cannes Cours Félix Faure Cannes 06400 France;X-APPLE-RADIUS=500;X-TITLE=Cours Félix Faure:geo:7.0138746,43.5520013
END:VEVENT
BEGIN:VEVENT
DTSTART;TZID=Europe/Paris:20290422T070000
DTEND;TZID=Europe/Paris:20290422T170000
DTSTAMP:20260420T051512
CREATED:20260417T224148Z
LAST-MODIFIED:20260417T224204Z
UID:10023877-1871535600-1871571600@www.calendrierdesbrocantes.fr
SUMMARY:Brocante et antiquités à Cannes
DESCRIPTION:Marché et antiquités et brocante de Cannes \nCours Félix Faure
URL:https://www.calendrierdesbrocantes.fr/event/brocante-et-antiquites-a-cannes-2/2029-04-22/
LOCATION:Cannes\, Cours Félix Faure\, Cannes\, 06400\, France
CATEGORIES:Vide-greniers
GEO:43.5520013;7.0138746
X-APPLE-STRUCTURED-LOCATION;VALUE=URI;X-ADDRESS=Cannes Cours Félix Faure Cannes 06400 France;X-APPLE-RADIUS=500;X-TITLE=Cours Félix Faure:geo:7.0138746,43.5520013
END:VEVENT
BEGIN:VEVENT
DTSTART;TZID=Europe/Paris:20290428T070000
DTEND;TZID=Europe/Paris:20290428T170000
DTSTAMP:20260420T051512
CREATED:20260417T223602Z
LAST-MODIFIED:20260417T223602Z
UID:10023356-1872054000-1872090000@www.calendrierdesbrocantes.fr
SUMMARY:Brocante et antiquités à Cannes
DESCRIPTION:Marché et antiquités et brocante de Cannes \nCours Félix Faure
URL:https://www.calendrierdesbrocantes.fr/event/brocante-et-antiquites-a-cannes/2029-04-28/
LOCATION:Cannes\, Cours Félix Faure\, Cannes\, 06400\, France
CATEGORIES:Vide-greniers
GEO:43.5520013;7.0138746
X-APPLE-STRUCTURED-LOCATION;VALUE=URI;X-ADDRESS=Cannes Cours Félix Faure Cannes 06400 France;X-APPLE-RADIUS=500;X-TITLE=Cours Félix Faure:geo:7.0138746,43.5520013
END:VEVENT
BEGIN:VEVENT
DTSTART;TZID=Europe/Paris:20290429T070000
DTEND;TZID=Europe/Paris:20290429T170000
DTSTAMP:20260420T051512
CREATED:20260417T224148Z
LAST-MODIFIED:20260417T224204Z
UID:10023878-1872140400-1872176400@www.calendrierdesbrocantes.fr
SUMMARY:Brocante et antiquités à Cannes
DESCRIPTION:Marché et antiquités et brocante de Cannes \nCours Félix Faure
URL:https://www.calendrierdesbrocantes.fr/event/brocante-et-antiquites-a-cannes-2/2029-04-29/
LOCATION:Cannes\, Cours Félix Faure\, Cannes\, 06400\, France
CATEGORIES:Vide-greniers
GEO:43.5520013;7.0138746
X-APPLE-STRUCTURED-LOCATION;VALUE=URI;X-ADDRESS=Cannes Cours Félix Faure Cannes 06400 France;X-APPLE-RADIUS=500;X-TITLE=Cours Félix Faure:geo:7.0138746,43.5520013
END:VEVENT
BEGIN:VEVENT
DTSTART;TZID=Europe/Paris:20290505T070000
DTEND;TZID=Europe/Paris:20290505T170000
DTSTAMP:20260420T051512
CREATED:20260417T223602Z
LAST-MODIFIED:20260417T223602Z
UID:10023357-1872658800-1872694800@www.calendrierdesbrocantes.fr
SUMMARY:Brocante et antiquités à Cannes
DESCRIPTION:Marché et antiquités et brocante de Cannes \nCours Félix Faure
URL:https://www.calendrierdesbrocantes.fr/event/brocante-et-antiquites-a-cannes/2029-05-05/
LOCATION:Cannes\, Cours Félix Faure\, Cannes\, 06400\, France
CATEGORIES:Vide-greniers
GEO:43.5520013;7.0138746
X-APPLE-STRUCTURED-LOCATION;VALUE=URI;X-ADDRESS=Cannes Cours Félix Faure Cannes 06400 France;X-APPLE-RADIUS=500;X-TITLE=Cours Félix Faure:geo:7.0138746,43.5520013
END:VEVENT
BEGIN:VEVENT
DTSTART;TZID=Europe/Paris:20290506T070000
DTEND;TZID=Europe/Paris:20290506T170000
DTSTAMP:20260420T051512
CREATED:20260417T224148Z
LAST-MODIFIED:20260417T224204Z
UID:10023879-1872745200-1872781200@www.calendrierdesbrocantes.fr
SUMMARY:Brocante et antiquités à Cannes
DESCRIPTION:Marché et antiquités et brocante de Cannes \nCours Félix Faure
URL:https://www.calendrierdesbrocantes.fr/event/brocante-et-antiquites-a-cannes-2/2029-05-06/
LOCATION:Cannes\, Cours Félix Faure\, Cannes\, 06400\, France
CATEGORIES:Vide-greniers
GEO:43.5520013;7.0138746
X-APPLE-STRUCTURED-LOCATION;VALUE=URI;X-ADDRESS=Cannes Cours Félix Faure Cannes 06400 France;X-APPLE-RADIUS=500;X-TITLE=Cours Félix Faure:geo:7.0138746,43.5520013
END:VEVENT
BEGIN:VEVENT
DTSTART;TZID=Europe/Paris:20290512T070000
DTEND;TZID=Europe/Paris:20290512T170000
DTSTAMP:20260420T051513
CREATED:20260417T223602Z
LAST-MODIFIED:20260417T223602Z
UID:10023358-1873263600-1873299600@www.calendrierdesbrocantes.fr
SUMMARY:Brocante et antiquités à Cannes
DESCRIPTION:Marché et antiquités et brocante de Cannes \nCours Félix Faure
URL:https://www.calendrierdesbrocantes.fr/event/brocante-et-antiquites-a-cannes/2029-05-12/
LOCATION:Cannes\, Cours Félix Faure\, Cannes\, 06400\, France
CATEGORIES:Vide-greniers
GEO:43.5520013;7.0138746
X-APPLE-STRUCTURED-LOCATION;VALUE=URI;X-ADDRESS=Cannes Cours Félix Faure Cannes 06400 France;X-APPLE-RADIUS=500;X-TITLE=Cours Félix Faure:geo:7.0138746,43.5520013
END:VEVENT
BEGIN:VEVENT
DTSTART;TZID=Europe/Paris:20290513T070000
DTEND;TZID=Europe/Paris:20290513T170000
DTSTAMP:20260420T051513
CREATED:20260417T224148Z
LAST-MODIFIED:20260417T224204Z
UID:10023880-1873350000-1873386000@www.calendrierdesbrocantes.fr
SUMMARY:Brocante et antiquités à Cannes
DESCRIPTION:Marché et antiquités et brocante de Cannes \nCours Félix Faure
URL:https://www.calendrierdesbrocantes.fr/event/brocante-et-antiquites-a-cannes-2/2029-05-13/
LOCATION:Cannes\, Cours Félix Faure\, Cannes\, 06400\, France
CATEGORIES:Vide-greniers
GEO:43.5520013;7.0138746
X-APPLE-STRUCTURED-LOCATION;VALUE=URI;X-ADDRESS=Cannes Cours Félix Faure Cannes 06400 France;X-APPLE-RADIUS=500;X-TITLE=Cours Félix Faure:geo:7.0138746,43.5520013
END:VEVENT
END:VCALENDAR