BEGIN:VCALENDAR
VERSION:2.0
PRODID:-//Calendrier des brocantes - ECPv6.15.20//NONSGML v1.0//EN
CALSCALE:GREGORIAN
METHOD:PUBLISH
X-ORIGINAL-URL:https://www.calendrierdesbrocantes.fr
X-WR-CALDESC:Évènements pour Calendrier des brocantes
REFRESH-INTERVAL;VALUE=DURATION:PT1H
X-Robots-Tag:noindex
X-PUBLISHED-TTL:PT1H
BEGIN:VTIMEZONE
TZID:Europe/Paris
BEGIN:DAYLIGHT
TZOFFSETFROM:+0100
TZOFFSETTO:+0200
TZNAME:CEST
DTSTART:20250330T010000
END:DAYLIGHT
BEGIN:STANDARD
TZOFFSETFROM:+0200
TZOFFSETTO:+0100
TZNAME:CET
DTSTART:20251026T010000
END:STANDARD
BEGIN:DAYLIGHT
TZOFFSETFROM:+0100
TZOFFSETTO:+0200
TZNAME:CEST
DTSTART:20260329T010000
END:DAYLIGHT
BEGIN:STANDARD
TZOFFSETFROM:+0200
TZOFFSETTO:+0100
TZNAME:CET
DTSTART:20261025T010000
END:STANDARD
BEGIN:DAYLIGHT
TZOFFSETFROM:+0100
TZOFFSETTO:+0200
TZNAME:CEST
DTSTART:20270328T010000
END:DAYLIGHT
BEGIN:STANDARD
TZOFFSETFROM:+0200
TZOFFSETTO:+0100
TZNAME:CET
DTSTART:20271031T010000
END:STANDARD
BEGIN:DAYLIGHT
TZOFFSETFROM:+0100
TZOFFSETTO:+0200
TZNAME:CEST
DTSTART:20280326T010000
END:DAYLIGHT
BEGIN:STANDARD
TZOFFSETFROM:+0200
TZOFFSETTO:+0100
TZNAME:CET
DTSTART:20281029T010000
END:STANDARD
END:VTIMEZONE
BEGIN:VEVENT
DTSTART;TZID=Europe/Paris:20261122T080000
DTEND;TZID=Europe/Paris:20261122T173000
DTSTAMP:20260422T085827
CREATED:20260421T220111Z
LAST-MODIFIED:20260421T220149Z
UID:10026105-1795334400-1795368600@www.calendrierdesbrocantes.fr
SUMMARY:Brocante de Foix
DESCRIPTION:La brocante du carrefour contact de Foix \n4\, Rue Des Bruilhols\, carrefour contact parking
URL:https://www.calendrierdesbrocantes.fr/event/brocante-de-foix/2026-11-22/
LOCATION:Foix\, 4\, Rue Des Bruilhols\, carrefour contact parking\, Foix\, 09000\, France
CATEGORIES:Brocante
ATTACH;FMTTYPE=image/png:https://www.calendrierdesbrocantes.fr/wp-content/uploads/2026/04/foix.png
GEO:42.975703;1.60806
X-APPLE-STRUCTURED-LOCATION;VALUE=URI;X-ADDRESS=Foix 4 Rue Des Bruilhols carrefour contact parking Foix 09000 France;X-APPLE-RADIUS=500;X-TITLE=4\, Rue Des Bruilhols\, carrefour contact parking:geo:1.60806,42.975703
END:VEVENT
BEGIN:VEVENT
DTSTART;TZID=Europe/Paris:20261129T080000
DTEND;TZID=Europe/Paris:20261129T173000
DTSTAMP:20260422T085827
CREATED:20260421T220111Z
LAST-MODIFIED:20260421T220149Z
UID:10026106-1795939200-1795973400@www.calendrierdesbrocantes.fr
SUMMARY:Brocante de Foix
DESCRIPTION:La brocante du carrefour contact de Foix \n4\, Rue Des Bruilhols\, carrefour contact parking
URL:https://www.calendrierdesbrocantes.fr/event/brocante-de-foix/2026-11-29/
LOCATION:Foix\, 4\, Rue Des Bruilhols\, carrefour contact parking\, Foix\, 09000\, France
CATEGORIES:Brocante
ATTACH;FMTTYPE=image/png:https://www.calendrierdesbrocantes.fr/wp-content/uploads/2026/04/foix.png
GEO:42.975703;1.60806
X-APPLE-STRUCTURED-LOCATION;VALUE=URI;X-ADDRESS=Foix 4 Rue Des Bruilhols carrefour contact parking Foix 09000 France;X-APPLE-RADIUS=500;X-TITLE=4\, Rue Des Bruilhols\, carrefour contact parking:geo:1.60806,42.975703
END:VEVENT
BEGIN:VEVENT
DTSTART;TZID=Europe/Paris:20261206T080000
DTEND;TZID=Europe/Paris:20261206T173000
DTSTAMP:20260422T085827
CREATED:20260421T220111Z
LAST-MODIFIED:20260421T220149Z
UID:10026107-1796544000-1796578200@www.calendrierdesbrocantes.fr
SUMMARY:Brocante de Foix
DESCRIPTION:La brocante du carrefour contact de Foix \n4\, Rue Des Bruilhols\, carrefour contact parking
URL:https://www.calendrierdesbrocantes.fr/event/brocante-de-foix/2026-12-06/
LOCATION:Foix\, 4\, Rue Des Bruilhols\, carrefour contact parking\, Foix\, 09000\, France
CATEGORIES:Brocante
ATTACH;FMTTYPE=image/png:https://www.calendrierdesbrocantes.fr/wp-content/uploads/2026/04/foix.png
GEO:42.975703;1.60806
X-APPLE-STRUCTURED-LOCATION;VALUE=URI;X-ADDRESS=Foix 4 Rue Des Bruilhols carrefour contact parking Foix 09000 France;X-APPLE-RADIUS=500;X-TITLE=4\, Rue Des Bruilhols\, carrefour contact parking:geo:1.60806,42.975703
END:VEVENT
BEGIN:VEVENT
DTSTART;TZID=Europe/Paris:20261213T080000
DTEND;TZID=Europe/Paris:20261213T173000
DTSTAMP:20260422T085827
CREATED:20260421T220111Z
LAST-MODIFIED:20260421T220149Z
UID:10026108-1797148800-1797183000@www.calendrierdesbrocantes.fr
SUMMARY:Brocante de Foix
DESCRIPTION:La brocante du carrefour contact de Foix \n4\, Rue Des Bruilhols\, carrefour contact parking
URL:https://www.calendrierdesbrocantes.fr/event/brocante-de-foix/2026-12-13/
LOCATION:Foix\, 4\, Rue Des Bruilhols\, carrefour contact parking\, Foix\, 09000\, France
CATEGORIES:Brocante
ATTACH;FMTTYPE=image/png:https://www.calendrierdesbrocantes.fr/wp-content/uploads/2026/04/foix.png
GEO:42.975703;1.60806
X-APPLE-STRUCTURED-LOCATION;VALUE=URI;X-ADDRESS=Foix 4 Rue Des Bruilhols carrefour contact parking Foix 09000 France;X-APPLE-RADIUS=500;X-TITLE=4\, Rue Des Bruilhols\, carrefour contact parking:geo:1.60806,42.975703
END:VEVENT
BEGIN:VEVENT
DTSTART;TZID=Europe/Paris:20261220T080000
DTEND;TZID=Europe/Paris:20261220T173000
DTSTAMP:20260422T085827
CREATED:20260421T220111Z
LAST-MODIFIED:20260421T220149Z
UID:10026109-1797753600-1797787800@www.calendrierdesbrocantes.fr
SUMMARY:Brocante de Foix
DESCRIPTION:La brocante du carrefour contact de Foix \n4\, Rue Des Bruilhols\, carrefour contact parking
URL:https://www.calendrierdesbrocantes.fr/event/brocante-de-foix/2026-12-20/
LOCATION:Foix\, 4\, Rue Des Bruilhols\, carrefour contact parking\, Foix\, 09000\, France
CATEGORIES:Brocante
ATTACH;FMTTYPE=image/png:https://www.calendrierdesbrocantes.fr/wp-content/uploads/2026/04/foix.png
GEO:42.975703;1.60806
X-APPLE-STRUCTURED-LOCATION;VALUE=URI;X-ADDRESS=Foix 4 Rue Des Bruilhols carrefour contact parking Foix 09000 France;X-APPLE-RADIUS=500;X-TITLE=4\, Rue Des Bruilhols\, carrefour contact parking:geo:1.60806,42.975703
END:VEVENT
BEGIN:VEVENT
DTSTART;TZID=Europe/Paris:20261227T080000
DTEND;TZID=Europe/Paris:20261227T173000
DTSTAMP:20260422T085827
CREATED:20260421T220111Z
LAST-MODIFIED:20260421T220149Z
UID:10026110-1798358400-1798392600@www.calendrierdesbrocantes.fr
SUMMARY:Brocante de Foix
DESCRIPTION:La brocante du carrefour contact de Foix \n4\, Rue Des Bruilhols\, carrefour contact parking
URL:https://www.calendrierdesbrocantes.fr/event/brocante-de-foix/2026-12-27/
LOCATION:Foix\, 4\, Rue Des Bruilhols\, carrefour contact parking\, Foix\, 09000\, France
CATEGORIES:Brocante
ATTACH;FMTTYPE=image/png:https://www.calendrierdesbrocantes.fr/wp-content/uploads/2026/04/foix.png
GEO:42.975703;1.60806
X-APPLE-STRUCTURED-LOCATION;VALUE=URI;X-ADDRESS=Foix 4 Rue Des Bruilhols carrefour contact parking Foix 09000 France;X-APPLE-RADIUS=500;X-TITLE=4\, Rue Des Bruilhols\, carrefour contact parking:geo:1.60806,42.975703
END:VEVENT
BEGIN:VEVENT
DTSTART;TZID=Europe/Paris:20270103T080000
DTEND;TZID=Europe/Paris:20270103T173000
DTSTAMP:20260422T085827
CREATED:20260421T220111Z
LAST-MODIFIED:20260421T220149Z
UID:10026111-1798963200-1798997400@www.calendrierdesbrocantes.fr
SUMMARY:Brocante de Foix
DESCRIPTION:La brocante du carrefour contact de Foix \n4\, Rue Des Bruilhols\, carrefour contact parking
URL:https://www.calendrierdesbrocantes.fr/event/brocante-de-foix/2027-01-03/
LOCATION:Foix\, 4\, Rue Des Bruilhols\, carrefour contact parking\, Foix\, 09000\, France
CATEGORIES:Brocante
ATTACH;FMTTYPE=image/png:https://www.calendrierdesbrocantes.fr/wp-content/uploads/2026/04/foix.png
GEO:42.975703;1.60806
X-APPLE-STRUCTURED-LOCATION;VALUE=URI;X-ADDRESS=Foix 4 Rue Des Bruilhols carrefour contact parking Foix 09000 France;X-APPLE-RADIUS=500;X-TITLE=4\, Rue Des Bruilhols\, carrefour contact parking:geo:1.60806,42.975703
END:VEVENT
BEGIN:VEVENT
DTSTART;TZID=Europe/Paris:20270110T080000
DTEND;TZID=Europe/Paris:20270110T173000
DTSTAMP:20260422T085827
CREATED:20260421T220111Z
LAST-MODIFIED:20260421T220149Z
UID:10026112-1799568000-1799602200@www.calendrierdesbrocantes.fr
SUMMARY:Brocante de Foix
DESCRIPTION:La brocante du carrefour contact de Foix \n4\, Rue Des Bruilhols\, carrefour contact parking
URL:https://www.calendrierdesbrocantes.fr/event/brocante-de-foix/2027-01-10/
LOCATION:Foix\, 4\, Rue Des Bruilhols\, carrefour contact parking\, Foix\, 09000\, France
CATEGORIES:Brocante
ATTACH;FMTTYPE=image/png:https://www.calendrierdesbrocantes.fr/wp-content/uploads/2026/04/foix.png
GEO:42.975703;1.60806
X-APPLE-STRUCTURED-LOCATION;VALUE=URI;X-ADDRESS=Foix 4 Rue Des Bruilhols carrefour contact parking Foix 09000 France;X-APPLE-RADIUS=500;X-TITLE=4\, Rue Des Bruilhols\, carrefour contact parking:geo:1.60806,42.975703
END:VEVENT
BEGIN:VEVENT
DTSTART;TZID=Europe/Paris:20270117T080000
DTEND;TZID=Europe/Paris:20270117T173000
DTSTAMP:20260422T085827
CREATED:20260421T220111Z
LAST-MODIFIED:20260421T220149Z
UID:10026113-1800172800-1800207000@www.calendrierdesbrocantes.fr
SUMMARY:Brocante de Foix
DESCRIPTION:La brocante du carrefour contact de Foix \n4\, Rue Des Bruilhols\, carrefour contact parking
URL:https://www.calendrierdesbrocantes.fr/event/brocante-de-foix/2027-01-17/
LOCATION:Foix\, 4\, Rue Des Bruilhols\, carrefour contact parking\, Foix\, 09000\, France
CATEGORIES:Brocante
ATTACH;FMTTYPE=image/png:https://www.calendrierdesbrocantes.fr/wp-content/uploads/2026/04/foix.png
GEO:42.975703;1.60806
X-APPLE-STRUCTURED-LOCATION;VALUE=URI;X-ADDRESS=Foix 4 Rue Des Bruilhols carrefour contact parking Foix 09000 France;X-APPLE-RADIUS=500;X-TITLE=4\, Rue Des Bruilhols\, carrefour contact parking:geo:1.60806,42.975703
END:VEVENT
BEGIN:VEVENT
DTSTART;TZID=Europe/Paris:20270124T080000
DTEND;TZID=Europe/Paris:20270124T173000
DTSTAMP:20260422T085827
CREATED:20260421T220111Z
LAST-MODIFIED:20260421T220149Z
UID:10026114-1800777600-1800811800@www.calendrierdesbrocantes.fr
SUMMARY:Brocante de Foix
DESCRIPTION:La brocante du carrefour contact de Foix \n4\, Rue Des Bruilhols\, carrefour contact parking
URL:https://www.calendrierdesbrocantes.fr/event/brocante-de-foix/2027-01-24/
LOCATION:Foix\, 4\, Rue Des Bruilhols\, carrefour contact parking\, Foix\, 09000\, France
CATEGORIES:Brocante
ATTACH;FMTTYPE=image/png:https://www.calendrierdesbrocantes.fr/wp-content/uploads/2026/04/foix.png
GEO:42.975703;1.60806
X-APPLE-STRUCTURED-LOCATION;VALUE=URI;X-ADDRESS=Foix 4 Rue Des Bruilhols carrefour contact parking Foix 09000 France;X-APPLE-RADIUS=500;X-TITLE=4\, Rue Des Bruilhols\, carrefour contact parking:geo:1.60806,42.975703
END:VEVENT
BEGIN:VEVENT
DTSTART;TZID=Europe/Paris:20270131T080000
DTEND;TZID=Europe/Paris:20270131T173000
DTSTAMP:20260422T085827
CREATED:20260421T220111Z
LAST-MODIFIED:20260421T220149Z
UID:10026115-1801382400-1801416600@www.calendrierdesbrocantes.fr
SUMMARY:Brocante de Foix
DESCRIPTION:La brocante du carrefour contact de Foix \n4\, Rue Des Bruilhols\, carrefour contact parking
URL:https://www.calendrierdesbrocantes.fr/event/brocante-de-foix/2027-01-31/
LOCATION:Foix\, 4\, Rue Des Bruilhols\, carrefour contact parking\, Foix\, 09000\, France
CATEGORIES:Brocante
ATTACH;FMTTYPE=image/png:https://www.calendrierdesbrocantes.fr/wp-content/uploads/2026/04/foix.png
GEO:42.975703;1.60806
X-APPLE-STRUCTURED-LOCATION;VALUE=URI;X-ADDRESS=Foix 4 Rue Des Bruilhols carrefour contact parking Foix 09000 France;X-APPLE-RADIUS=500;X-TITLE=4\, Rue Des Bruilhols\, carrefour contact parking:geo:1.60806,42.975703
END:VEVENT
BEGIN:VEVENT
DTSTART;TZID=Europe/Paris:20270207T080000
DTEND;TZID=Europe/Paris:20270207T173000
DTSTAMP:20260422T085827
CREATED:20260421T220111Z
LAST-MODIFIED:20260421T220149Z
UID:10026116-1801987200-1802021400@www.calendrierdesbrocantes.fr
SUMMARY:Brocante de Foix
DESCRIPTION:La brocante du carrefour contact de Foix \n4\, Rue Des Bruilhols\, carrefour contact parking
URL:https://www.calendrierdesbrocantes.fr/event/brocante-de-foix/2027-02-07/
LOCATION:Foix\, 4\, Rue Des Bruilhols\, carrefour contact parking\, Foix\, 09000\, France
CATEGORIES:Brocante
ATTACH;FMTTYPE=image/png:https://www.calendrierdesbrocantes.fr/wp-content/uploads/2026/04/foix.png
GEO:42.975703;1.60806
X-APPLE-STRUCTURED-LOCATION;VALUE=URI;X-ADDRESS=Foix 4 Rue Des Bruilhols carrefour contact parking Foix 09000 France;X-APPLE-RADIUS=500;X-TITLE=4\, Rue Des Bruilhols\, carrefour contact parking:geo:1.60806,42.975703
END:VEVENT
BEGIN:VEVENT
DTSTART;TZID=Europe/Paris:20270214T080000
DTEND;TZID=Europe/Paris:20270214T173000
DTSTAMP:20260422T085827
CREATED:20260421T220111Z
LAST-MODIFIED:20260421T220149Z
UID:10026117-1802592000-1802626200@www.calendrierdesbrocantes.fr
SUMMARY:Brocante de Foix
DESCRIPTION:La brocante du carrefour contact de Foix \n4\, Rue Des Bruilhols\, carrefour contact parking
URL:https://www.calendrierdesbrocantes.fr/event/brocante-de-foix/2027-02-14/
LOCATION:Foix\, 4\, Rue Des Bruilhols\, carrefour contact parking\, Foix\, 09000\, France
CATEGORIES:Brocante
ATTACH;FMTTYPE=image/png:https://www.calendrierdesbrocantes.fr/wp-content/uploads/2026/04/foix.png
GEO:42.975703;1.60806
X-APPLE-STRUCTURED-LOCATION;VALUE=URI;X-ADDRESS=Foix 4 Rue Des Bruilhols carrefour contact parking Foix 09000 France;X-APPLE-RADIUS=500;X-TITLE=4\, Rue Des Bruilhols\, carrefour contact parking:geo:1.60806,42.975703
END:VEVENT
BEGIN:VEVENT
DTSTART;TZID=Europe/Paris:20270221T080000
DTEND;TZID=Europe/Paris:20270221T173000
DTSTAMP:20260422T085827
CREATED:20260421T220111Z
LAST-MODIFIED:20260421T220149Z
UID:10026118-1803196800-1803231000@www.calendrierdesbrocantes.fr
SUMMARY:Brocante de Foix
DESCRIPTION:La brocante du carrefour contact de Foix \n4\, Rue Des Bruilhols\, carrefour contact parking
URL:https://www.calendrierdesbrocantes.fr/event/brocante-de-foix/2027-02-21/
LOCATION:Foix\, 4\, Rue Des Bruilhols\, carrefour contact parking\, Foix\, 09000\, France
CATEGORIES:Brocante
ATTACH;FMTTYPE=image/png:https://www.calendrierdesbrocantes.fr/wp-content/uploads/2026/04/foix.png
GEO:42.975703;1.60806
X-APPLE-STRUCTURED-LOCATION;VALUE=URI;X-ADDRESS=Foix 4 Rue Des Bruilhols carrefour contact parking Foix 09000 France;X-APPLE-RADIUS=500;X-TITLE=4\, Rue Des Bruilhols\, carrefour contact parking:geo:1.60806,42.975703
END:VEVENT
BEGIN:VEVENT
DTSTART;TZID=Europe/Paris:20270228T080000
DTEND;TZID=Europe/Paris:20270228T173000
DTSTAMP:20260422T085827
CREATED:20260421T220111Z
LAST-MODIFIED:20260421T220149Z
UID:10026119-1803801600-1803835800@www.calendrierdesbrocantes.fr
SUMMARY:Brocante de Foix
DESCRIPTION:La brocante du carrefour contact de Foix \n4\, Rue Des Bruilhols\, carrefour contact parking
URL:https://www.calendrierdesbrocantes.fr/event/brocante-de-foix/2027-02-28/
LOCATION:Foix\, 4\, Rue Des Bruilhols\, carrefour contact parking\, Foix\, 09000\, France
CATEGORIES:Brocante
ATTACH;FMTTYPE=image/png:https://www.calendrierdesbrocantes.fr/wp-content/uploads/2026/04/foix.png
GEO:42.975703;1.60806
X-APPLE-STRUCTURED-LOCATION;VALUE=URI;X-ADDRESS=Foix 4 Rue Des Bruilhols carrefour contact parking Foix 09000 France;X-APPLE-RADIUS=500;X-TITLE=4\, Rue Des Bruilhols\, carrefour contact parking:geo:1.60806,42.975703
END:VEVENT
BEGIN:VEVENT
DTSTART;TZID=Europe/Paris:20270307T080000
DTEND;TZID=Europe/Paris:20270307T173000
DTSTAMP:20260422T085827
CREATED:20260421T220111Z
LAST-MODIFIED:20260421T220149Z
UID:10026120-1804406400-1804440600@www.calendrierdesbrocantes.fr
SUMMARY:Brocante de Foix
DESCRIPTION:La brocante du carrefour contact de Foix \n4\, Rue Des Bruilhols\, carrefour contact parking
URL:https://www.calendrierdesbrocantes.fr/event/brocante-de-foix/2027-03-07/
LOCATION:Foix\, 4\, Rue Des Bruilhols\, carrefour contact parking\, Foix\, 09000\, France
CATEGORIES:Brocante
ATTACH;FMTTYPE=image/png:https://www.calendrierdesbrocantes.fr/wp-content/uploads/2026/04/foix.png
GEO:42.975703;1.60806
X-APPLE-STRUCTURED-LOCATION;VALUE=URI;X-ADDRESS=Foix 4 Rue Des Bruilhols carrefour contact parking Foix 09000 France;X-APPLE-RADIUS=500;X-TITLE=4\, Rue Des Bruilhols\, carrefour contact parking:geo:1.60806,42.975703
END:VEVENT
BEGIN:VEVENT
DTSTART;TZID=Europe/Paris:20270314T080000
DTEND;TZID=Europe/Paris:20270314T173000
DTSTAMP:20260422T085827
CREATED:20260421T220111Z
LAST-MODIFIED:20260421T220149Z
UID:10026121-1805011200-1805045400@www.calendrierdesbrocantes.fr
SUMMARY:Brocante de Foix
DESCRIPTION:La brocante du carrefour contact de Foix \n4\, Rue Des Bruilhols\, carrefour contact parking
URL:https://www.calendrierdesbrocantes.fr/event/brocante-de-foix/2027-03-14/
LOCATION:Foix\, 4\, Rue Des Bruilhols\, carrefour contact parking\, Foix\, 09000\, France
CATEGORIES:Brocante
ATTACH;FMTTYPE=image/png:https://www.calendrierdesbrocantes.fr/wp-content/uploads/2026/04/foix.png
GEO:42.975703;1.60806
X-APPLE-STRUCTURED-LOCATION;VALUE=URI;X-ADDRESS=Foix 4 Rue Des Bruilhols carrefour contact parking Foix 09000 France;X-APPLE-RADIUS=500;X-TITLE=4\, Rue Des Bruilhols\, carrefour contact parking:geo:1.60806,42.975703
END:VEVENT
BEGIN:VEVENT
DTSTART;TZID=Europe/Paris:20270321T080000
DTEND;TZID=Europe/Paris:20270321T173000
DTSTAMP:20260422T085827
CREATED:20260421T220111Z
LAST-MODIFIED:20260421T220149Z
UID:10026122-1805616000-1805650200@www.calendrierdesbrocantes.fr
SUMMARY:Brocante de Foix
DESCRIPTION:La brocante du carrefour contact de Foix \n4\, Rue Des Bruilhols\, carrefour contact parking
URL:https://www.calendrierdesbrocantes.fr/event/brocante-de-foix/2027-03-21/
LOCATION:Foix\, 4\, Rue Des Bruilhols\, carrefour contact parking\, Foix\, 09000\, France
CATEGORIES:Brocante
ATTACH;FMTTYPE=image/png:https://www.calendrierdesbrocantes.fr/wp-content/uploads/2026/04/foix.png
GEO:42.975703;1.60806
X-APPLE-STRUCTURED-LOCATION;VALUE=URI;X-ADDRESS=Foix 4 Rue Des Bruilhols carrefour contact parking Foix 09000 France;X-APPLE-RADIUS=500;X-TITLE=4\, Rue Des Bruilhols\, carrefour contact parking:geo:1.60806,42.975703
END:VEVENT
BEGIN:VEVENT
DTSTART;TZID=Europe/Paris:20270328T080000
DTEND;TZID=Europe/Paris:20270328T173000
DTSTAMP:20260422T085827
CREATED:20260421T220111Z
LAST-MODIFIED:20260421T220149Z
UID:10026123-1806220800-1806255000@www.calendrierdesbrocantes.fr
SUMMARY:Brocante de Foix
DESCRIPTION:La brocante du carrefour contact de Foix \n4\, Rue Des Bruilhols\, carrefour contact parking
URL:https://www.calendrierdesbrocantes.fr/event/brocante-de-foix/2027-03-28/
LOCATION:Foix\, 4\, Rue Des Bruilhols\, carrefour contact parking\, Foix\, 09000\, France
CATEGORIES:Brocante
ATTACH;FMTTYPE=image/png:https://www.calendrierdesbrocantes.fr/wp-content/uploads/2026/04/foix.png
GEO:42.975703;1.60806
X-APPLE-STRUCTURED-LOCATION;VALUE=URI;X-ADDRESS=Foix 4 Rue Des Bruilhols carrefour contact parking Foix 09000 France;X-APPLE-RADIUS=500;X-TITLE=4\, Rue Des Bruilhols\, carrefour contact parking:geo:1.60806,42.975703
END:VEVENT
BEGIN:VEVENT
DTSTART;TZID=Europe/Paris:20270404T080000
DTEND;TZID=Europe/Paris:20270404T173000
DTSTAMP:20260422T085827
CREATED:20260421T220111Z
LAST-MODIFIED:20260421T220149Z
UID:10026124-1806825600-1806859800@www.calendrierdesbrocantes.fr
SUMMARY:Brocante de Foix
DESCRIPTION:La brocante du carrefour contact de Foix \n4\, Rue Des Bruilhols\, carrefour contact parking
URL:https://www.calendrierdesbrocantes.fr/event/brocante-de-foix/2027-04-04/
LOCATION:Foix\, 4\, Rue Des Bruilhols\, carrefour contact parking\, Foix\, 09000\, France
CATEGORIES:Brocante
ATTACH;FMTTYPE=image/png:https://www.calendrierdesbrocantes.fr/wp-content/uploads/2026/04/foix.png
GEO:42.975703;1.60806
X-APPLE-STRUCTURED-LOCATION;VALUE=URI;X-ADDRESS=Foix 4 Rue Des Bruilhols carrefour contact parking Foix 09000 France;X-APPLE-RADIUS=500;X-TITLE=4\, Rue Des Bruilhols\, carrefour contact parking:geo:1.60806,42.975703
END:VEVENT
BEGIN:VEVENT
DTSTART;TZID=Europe/Paris:20270411T080000
DTEND;TZID=Europe/Paris:20270411T173000
DTSTAMP:20260422T085827
CREATED:20260421T220111Z
LAST-MODIFIED:20260421T220149Z
UID:10026125-1807430400-1807464600@www.calendrierdesbrocantes.fr
SUMMARY:Brocante de Foix
DESCRIPTION:La brocante du carrefour contact de Foix \n4\, Rue Des Bruilhols\, carrefour contact parking
URL:https://www.calendrierdesbrocantes.fr/event/brocante-de-foix/2027-04-11/
LOCATION:Foix\, 4\, Rue Des Bruilhols\, carrefour contact parking\, Foix\, 09000\, France
CATEGORIES:Brocante
ATTACH;FMTTYPE=image/png:https://www.calendrierdesbrocantes.fr/wp-content/uploads/2026/04/foix.png
GEO:42.975703;1.60806
X-APPLE-STRUCTURED-LOCATION;VALUE=URI;X-ADDRESS=Foix 4 Rue Des Bruilhols carrefour contact parking Foix 09000 France;X-APPLE-RADIUS=500;X-TITLE=4\, Rue Des Bruilhols\, carrefour contact parking:geo:1.60806,42.975703
END:VEVENT
BEGIN:VEVENT
DTSTART;TZID=Europe/Paris:20270418T080000
DTEND;TZID=Europe/Paris:20270418T173000
DTSTAMP:20260422T085827
CREATED:20260421T220111Z
LAST-MODIFIED:20260421T220149Z
UID:10026126-1808035200-1808069400@www.calendrierdesbrocantes.fr
SUMMARY:Brocante de Foix
DESCRIPTION:La brocante du carrefour contact de Foix \n4\, Rue Des Bruilhols\, carrefour contact parking
URL:https://www.calendrierdesbrocantes.fr/event/brocante-de-foix/2027-04-18/
LOCATION:Foix\, 4\, Rue Des Bruilhols\, carrefour contact parking\, Foix\, 09000\, France
CATEGORIES:Brocante
ATTACH;FMTTYPE=image/png:https://www.calendrierdesbrocantes.fr/wp-content/uploads/2026/04/foix.png
GEO:42.975703;1.60806
X-APPLE-STRUCTURED-LOCATION;VALUE=URI;X-ADDRESS=Foix 4 Rue Des Bruilhols carrefour contact parking Foix 09000 France;X-APPLE-RADIUS=500;X-TITLE=4\, Rue Des Bruilhols\, carrefour contact parking:geo:1.60806,42.975703
END:VEVENT
BEGIN:VEVENT
DTSTART;TZID=Europe/Paris:20270425T080000
DTEND;TZID=Europe/Paris:20270425T173000
DTSTAMP:20260422T085827
CREATED:20260421T220111Z
LAST-MODIFIED:20260421T220149Z
UID:10026127-1808640000-1808674200@www.calendrierdesbrocantes.fr
SUMMARY:Brocante de Foix
DESCRIPTION:La brocante du carrefour contact de Foix \n4\, Rue Des Bruilhols\, carrefour contact parking
URL:https://www.calendrierdesbrocantes.fr/event/brocante-de-foix/2027-04-25/
LOCATION:Foix\, 4\, Rue Des Bruilhols\, carrefour contact parking\, Foix\, 09000\, France
CATEGORIES:Brocante
ATTACH;FMTTYPE=image/png:https://www.calendrierdesbrocantes.fr/wp-content/uploads/2026/04/foix.png
GEO:42.975703;1.60806
X-APPLE-STRUCTURED-LOCATION;VALUE=URI;X-ADDRESS=Foix 4 Rue Des Bruilhols carrefour contact parking Foix 09000 France;X-APPLE-RADIUS=500;X-TITLE=4\, Rue Des Bruilhols\, carrefour contact parking:geo:1.60806,42.975703
END:VEVENT
BEGIN:VEVENT
DTSTART;TZID=Europe/Paris:20270502T080000
DTEND;TZID=Europe/Paris:20270502T173000
DTSTAMP:20260422T085827
CREATED:20260421T220111Z
LAST-MODIFIED:20260421T220149Z
UID:10026128-1809244800-1809279000@www.calendrierdesbrocantes.fr
SUMMARY:Brocante de Foix
DESCRIPTION:La brocante du carrefour contact de Foix \n4\, Rue Des Bruilhols\, carrefour contact parking
URL:https://www.calendrierdesbrocantes.fr/event/brocante-de-foix/2027-05-02/
LOCATION:Foix\, 4\, Rue Des Bruilhols\, carrefour contact parking\, Foix\, 09000\, France
CATEGORIES:Brocante
ATTACH;FMTTYPE=image/png:https://www.calendrierdesbrocantes.fr/wp-content/uploads/2026/04/foix.png
GEO:42.975703;1.60806
X-APPLE-STRUCTURED-LOCATION;VALUE=URI;X-ADDRESS=Foix 4 Rue Des Bruilhols carrefour contact parking Foix 09000 France;X-APPLE-RADIUS=500;X-TITLE=4\, Rue Des Bruilhols\, carrefour contact parking:geo:1.60806,42.975703
END:VEVENT
BEGIN:VEVENT
DTSTART;TZID=Europe/Paris:20270509T080000
DTEND;TZID=Europe/Paris:20270509T173000
DTSTAMP:20260422T085827
CREATED:20260421T220111Z
LAST-MODIFIED:20260421T220149Z
UID:10026129-1809849600-1809883800@www.calendrierdesbrocantes.fr
SUMMARY:Brocante de Foix
DESCRIPTION:La brocante du carrefour contact de Foix \n4\, Rue Des Bruilhols\, carrefour contact parking
URL:https://www.calendrierdesbrocantes.fr/event/brocante-de-foix/2027-05-09/
LOCATION:Foix\, 4\, Rue Des Bruilhols\, carrefour contact parking\, Foix\, 09000\, France
CATEGORIES:Brocante
ATTACH;FMTTYPE=image/png:https://www.calendrierdesbrocantes.fr/wp-content/uploads/2026/04/foix.png
GEO:42.975703;1.60806
X-APPLE-STRUCTURED-LOCATION;VALUE=URI;X-ADDRESS=Foix 4 Rue Des Bruilhols carrefour contact parking Foix 09000 France;X-APPLE-RADIUS=500;X-TITLE=4\, Rue Des Bruilhols\, carrefour contact parking:geo:1.60806,42.975703
END:VEVENT
BEGIN:VEVENT
DTSTART;TZID=Europe/Paris:20270516T080000
DTEND;TZID=Europe/Paris:20270516T173000
DTSTAMP:20260422T085827
CREATED:20260421T220111Z
LAST-MODIFIED:20260421T220149Z
UID:10026130-1810454400-1810488600@www.calendrierdesbrocantes.fr
SUMMARY:Brocante de Foix
DESCRIPTION:La brocante du carrefour contact de Foix \n4\, Rue Des Bruilhols\, carrefour contact parking
URL:https://www.calendrierdesbrocantes.fr/event/brocante-de-foix/2027-05-16/
LOCATION:Foix\, 4\, Rue Des Bruilhols\, carrefour contact parking\, Foix\, 09000\, France
CATEGORIES:Brocante
ATTACH;FMTTYPE=image/png:https://www.calendrierdesbrocantes.fr/wp-content/uploads/2026/04/foix.png
GEO:42.975703;1.60806
X-APPLE-STRUCTURED-LOCATION;VALUE=URI;X-ADDRESS=Foix 4 Rue Des Bruilhols carrefour contact parking Foix 09000 France;X-APPLE-RADIUS=500;X-TITLE=4\, Rue Des Bruilhols\, carrefour contact parking:geo:1.60806,42.975703
END:VEVENT
BEGIN:VEVENT
DTSTART;TZID=Europe/Paris:20270523T080000
DTEND;TZID=Europe/Paris:20270523T173000
DTSTAMP:20260422T085827
CREATED:20260421T220111Z
LAST-MODIFIED:20260421T220149Z
UID:10026131-1811059200-1811093400@www.calendrierdesbrocantes.fr
SUMMARY:Brocante de Foix
DESCRIPTION:La brocante du carrefour contact de Foix \n4\, Rue Des Bruilhols\, carrefour contact parking
URL:https://www.calendrierdesbrocantes.fr/event/brocante-de-foix/2027-05-23/
LOCATION:Foix\, 4\, Rue Des Bruilhols\, carrefour contact parking\, Foix\, 09000\, France
CATEGORIES:Brocante
ATTACH;FMTTYPE=image/png:https://www.calendrierdesbrocantes.fr/wp-content/uploads/2026/04/foix.png
GEO:42.975703;1.60806
X-APPLE-STRUCTURED-LOCATION;VALUE=URI;X-ADDRESS=Foix 4 Rue Des Bruilhols carrefour contact parking Foix 09000 France;X-APPLE-RADIUS=500;X-TITLE=4\, Rue Des Bruilhols\, carrefour contact parking:geo:1.60806,42.975703
END:VEVENT
BEGIN:VEVENT
DTSTART;TZID=Europe/Paris:20270530T080000
DTEND;TZID=Europe/Paris:20270530T173000
DTSTAMP:20260422T085827
CREATED:20260421T220111Z
LAST-MODIFIED:20260421T220149Z
UID:10026132-1811664000-1811698200@www.calendrierdesbrocantes.fr
SUMMARY:Brocante de Foix
DESCRIPTION:La brocante du carrefour contact de Foix \n4\, Rue Des Bruilhols\, carrefour contact parking
URL:https://www.calendrierdesbrocantes.fr/event/brocante-de-foix/2027-05-30/
LOCATION:Foix\, 4\, Rue Des Bruilhols\, carrefour contact parking\, Foix\, 09000\, France
CATEGORIES:Brocante
ATTACH;FMTTYPE=image/png:https://www.calendrierdesbrocantes.fr/wp-content/uploads/2026/04/foix.png
GEO:42.975703;1.60806
X-APPLE-STRUCTURED-LOCATION;VALUE=URI;X-ADDRESS=Foix 4 Rue Des Bruilhols carrefour contact parking Foix 09000 France;X-APPLE-RADIUS=500;X-TITLE=4\, Rue Des Bruilhols\, carrefour contact parking:geo:1.60806,42.975703
END:VEVENT
BEGIN:VEVENT
DTSTART;TZID=Europe/Paris:20270606T080000
DTEND;TZID=Europe/Paris:20270606T173000
DTSTAMP:20260422T085827
CREATED:20260421T220111Z
LAST-MODIFIED:20260421T220149Z
UID:10026133-1812268800-1812303000@www.calendrierdesbrocantes.fr
SUMMARY:Brocante de Foix
DESCRIPTION:La brocante du carrefour contact de Foix \n4\, Rue Des Bruilhols\, carrefour contact parking
URL:https://www.calendrierdesbrocantes.fr/event/brocante-de-foix/2027-06-06/
LOCATION:Foix\, 4\, Rue Des Bruilhols\, carrefour contact parking\, Foix\, 09000\, France
CATEGORIES:Brocante
ATTACH;FMTTYPE=image/png:https://www.calendrierdesbrocantes.fr/wp-content/uploads/2026/04/foix.png
GEO:42.975703;1.60806
X-APPLE-STRUCTURED-LOCATION;VALUE=URI;X-ADDRESS=Foix 4 Rue Des Bruilhols carrefour contact parking Foix 09000 France;X-APPLE-RADIUS=500;X-TITLE=4\, Rue Des Bruilhols\, carrefour contact parking:geo:1.60806,42.975703
END:VEVENT
BEGIN:VEVENT
DTSTART;TZID=Europe/Paris:20270613T080000
DTEND;TZID=Europe/Paris:20270613T173000
DTSTAMP:20260422T085827
CREATED:20260421T220111Z
LAST-MODIFIED:20260421T220149Z
UID:10026134-1812873600-1812907800@www.calendrierdesbrocantes.fr
SUMMARY:Brocante de Foix
DESCRIPTION:La brocante du carrefour contact de Foix \n4\, Rue Des Bruilhols\, carrefour contact parking
URL:https://www.calendrierdesbrocantes.fr/event/brocante-de-foix/2027-06-13/
LOCATION:Foix\, 4\, Rue Des Bruilhols\, carrefour contact parking\, Foix\, 09000\, France
CATEGORIES:Brocante
ATTACH;FMTTYPE=image/png:https://www.calendrierdesbrocantes.fr/wp-content/uploads/2026/04/foix.png
GEO:42.975703;1.60806
X-APPLE-STRUCTURED-LOCATION;VALUE=URI;X-ADDRESS=Foix 4 Rue Des Bruilhols carrefour contact parking Foix 09000 France;X-APPLE-RADIUS=500;X-TITLE=4\, Rue Des Bruilhols\, carrefour contact parking:geo:1.60806,42.975703
END:VEVENT
END:VCALENDAR