BEGIN:VCALENDAR
VERSION:2.0
PRODID:-//Calendrier des brocantes - ECPv6.15.20//NONSGML v1.0//EN
CALSCALE:GREGORIAN
METHOD:PUBLISH
X-WR-CALNAME:Calendrier des brocantes
X-ORIGINAL-URL:https://www.calendrierdesbrocantes.fr
X-WR-CALDESC:Évènements pour Calendrier des brocantes
REFRESH-INTERVAL;VALUE=DURATION:PT1H
X-Robots-Tag:noindex
X-PUBLISHED-TTL:PT1H
BEGIN:VTIMEZONE
TZID:Europe/Paris
BEGIN:DAYLIGHT
TZOFFSETFROM:+0100
TZOFFSETTO:+0200
TZNAME:CEST
DTSTART:20250330T010000
END:DAYLIGHT
BEGIN:STANDARD
TZOFFSETFROM:+0200
TZOFFSETTO:+0100
TZNAME:CET
DTSTART:20251026T010000
END:STANDARD
BEGIN:DAYLIGHT
TZOFFSETFROM:+0100
TZOFFSETTO:+0200
TZNAME:CEST
DTSTART:20260329T010000
END:DAYLIGHT
BEGIN:STANDARD
TZOFFSETFROM:+0200
TZOFFSETTO:+0100
TZNAME:CET
DTSTART:20261025T010000
END:STANDARD
BEGIN:DAYLIGHT
TZOFFSETFROM:+0100
TZOFFSETTO:+0200
TZNAME:CEST
DTSTART:20270328T010000
END:DAYLIGHT
BEGIN:STANDARD
TZOFFSETFROM:+0200
TZOFFSETTO:+0100
TZNAME:CET
DTSTART:20271031T010000
END:STANDARD
END:VTIMEZONE
BEGIN:VEVENT
DTSTART;TZID=Europe/Paris:20260423T070000
DTEND;TZID=Europe/Paris:20260423T170000
DTSTAMP:20260421T105609
CREATED:20260326T230129Z
LAST-MODIFIED:20260326T230129Z
UID:10017554-1776927600-1776963600@www.calendrierdesbrocantes.fr
SUMMARY:Brocante d'Antibes
DESCRIPTION:Brocante d’Antibes\nTous les jeudis et samedi Place Nationale a lieu un marché à la brocante où chaque personne peut dénicher l’objet rare.\nIl y en a pour tous les goûts\, de la porcelaine\, cristallerie\, luminaires et argenterie aux livres en passant par des objets anciens\,de curiosités et ‘vintages’. \nBrocante conviviale à visiter …!!!
URL:https://www.calendrierdesbrocantes.fr/event/brocante-dantibes-2/2026-04-23/
LOCATION:Antibes\, Place Nationale\, Antibes\, 06600\, France
CATEGORIES:Brocante
GEO:43.5813257;7.1252572
X-APPLE-STRUCTURED-LOCATION;VALUE=URI;X-ADDRESS=Antibes Place Nationale Antibes 06600 France;X-APPLE-RADIUS=500;X-TITLE=Place Nationale:geo:7.1252572,43.5813257
END:VEVENT
BEGIN:VEVENT
DTSTART;TZID=Europe/Paris:20260425T050000
DTEND;TZID=Europe/Paris:20260425T140000
DTSTAMP:20260421T105609
CREATED:20260326T231101Z
LAST-MODIFIED:20260326T232818Z
UID:10018076-1777093200-1777125600@www.calendrierdesbrocantes.fr
SUMMARY:Vide greniers Antibes
DESCRIPTION:Vide greniers la Brague\nPas de réservation se présenter avec photocopie de la carte d’identité un peu avant 5h. Le prix est de 30 euros.\nVous gardez votre véhicule derrière l emplacement.\nNous n’acceptons pas les chèques.
URL:https://www.calendrierdesbrocantes.fr/event/vide-greniers-antibes/2026-04-25/
LOCATION:Antibes\, Place Nationale\, Antibes\, 06600\, France
CATEGORIES:Vide-greniers
GEO:43.5813257;7.1252572
X-APPLE-STRUCTURED-LOCATION;VALUE=URI;X-ADDRESS=Antibes Place Nationale Antibes 06600 France;X-APPLE-RADIUS=500;X-TITLE=Place Nationale:geo:7.1252572,43.5813257
END:VEVENT
BEGIN:VEVENT
DTSTART;TZID=Europe/Paris:20260425T060000
DTEND;TZID=Europe/Paris:20260425T140000
DTSTAMP:20260421T105609
CREATED:20260411T214554Z
LAST-MODIFIED:20260411T214554Z
UID:10019708-1777096800-1777125600@www.calendrierdesbrocantes.fr
SUMMARY:Vides greniers d'Antibes
DESCRIPTION:Vides greniers d’Antibes land \n30 € la place \nVous pourrez déballer le long de votre voiture qui reste donc a côté de vous. \nSnack sur place
URL:https://www.calendrierdesbrocantes.fr/event/vides-greniers-dantibes/2026-04-25/
LOCATION:Antibes\, Place Nationale\, Antibes\, 06600\, France
CATEGORIES:Vide-greniers
ATTACH;FMTTYPE=image/png:https://www.calendrierdesbrocantes.fr/wp-content/uploads/2026/04/antibes.png
GEO:43.5813257;7.1252572
X-APPLE-STRUCTURED-LOCATION;VALUE=URI;X-ADDRESS=Antibes Place Nationale Antibes 06600 France;X-APPLE-RADIUS=500;X-TITLE=Place Nationale:geo:7.1252572,43.5813257
END:VEVENT
BEGIN:VEVENT
DTSTART;TZID=Europe/Paris:20260425T070000
DTEND;TZID=Europe/Paris:20260425T170000
DTSTAMP:20260421T105609
CREATED:20260326T225927Z
LAST-MODIFIED:20260326T230234Z
UID:10017815-1777100400-1777136400@www.calendrierdesbrocantes.fr
SUMMARY:Brocante d'Antibes
DESCRIPTION:Brocante d’Antibes\nTous les jeudis et samedi Place Nationale a lieu un marché à la brocante où chaque personne peut dénicher l’objet rare.\nIl y en a pour tous les goûts\, de la porcelaine\, cristallerie\, luminaires et argenterie aux livres en passant par des objets anciens\,de curiosités et ‘vintages’. \nBrocante conviviale à visiter …!!!
URL:https://www.calendrierdesbrocantes.fr/event/brocante-dantibes/2026-04-25/
LOCATION:Antibes\, Place Nationale\, Antibes\, 06600\, France
CATEGORIES:Brocante
GEO:43.5813257;7.1252572
X-APPLE-STRUCTURED-LOCATION;VALUE=URI;X-ADDRESS=Antibes Place Nationale Antibes 06600 France;X-APPLE-RADIUS=500;X-TITLE=Place Nationale:geo:7.1252572,43.5813257
END:VEVENT
BEGIN:VEVENT
DTSTART;TZID=Europe/Paris:20260426T060000
DTEND;TZID=Europe/Paris:20260426T140000
DTSTAMP:20260421T105609
CREATED:20260411T214734Z
LAST-MODIFIED:20260411T214828Z
UID:10020229-1777183200-1777212000@www.calendrierdesbrocantes.fr
SUMMARY:Vides greniers d'Antibes
DESCRIPTION:Vides greniers d’Antibes land \n30 € la place \nVous pourrez déballer le long de votre voiture qui reste donc a côté de vous. \nSnack sur place
URL:https://www.calendrierdesbrocantes.fr/event/vides-greniers-dantibes-2/2026-04-26/
LOCATION:Antibes\, Place Nationale\, Antibes\, 06600\, France
CATEGORIES:Vide-greniers
ATTACH;FMTTYPE=image/png:https://www.calendrierdesbrocantes.fr/wp-content/uploads/2026/04/antibes.png
GEO:43.5813257;7.1252572
X-APPLE-STRUCTURED-LOCATION;VALUE=URI;X-ADDRESS=Antibes Place Nationale Antibes 06600 France;X-APPLE-RADIUS=500;X-TITLE=Place Nationale:geo:7.1252572,43.5813257
END:VEVENT
BEGIN:VEVENT
DTSTART;TZID=Europe/Paris:20260430T070000
DTEND;TZID=Europe/Paris:20260430T170000
DTSTAMP:20260421T105609
CREATED:20260326T230129Z
LAST-MODIFIED:20260326T230129Z
UID:10017555-1777532400-1777568400@www.calendrierdesbrocantes.fr
SUMMARY:Brocante d'Antibes
DESCRIPTION:Brocante d’Antibes\nTous les jeudis et samedi Place Nationale a lieu un marché à la brocante où chaque personne peut dénicher l’objet rare.\nIl y en a pour tous les goûts\, de la porcelaine\, cristallerie\, luminaires et argenterie aux livres en passant par des objets anciens\,de curiosités et ‘vintages’. \nBrocante conviviale à visiter …!!!
URL:https://www.calendrierdesbrocantes.fr/event/brocante-dantibes-2/2026-04-30/
LOCATION:Antibes\, Place Nationale\, Antibes\, 06600\, France
CATEGORIES:Brocante
GEO:43.5813257;7.1252572
X-APPLE-STRUCTURED-LOCATION;VALUE=URI;X-ADDRESS=Antibes Place Nationale Antibes 06600 France;X-APPLE-RADIUS=500;X-TITLE=Place Nationale:geo:7.1252572,43.5813257
END:VEVENT
BEGIN:VEVENT
DTSTART;TZID=Europe/Paris:20260502T050000
DTEND;TZID=Europe/Paris:20260502T140000
DTSTAMP:20260421T105609
CREATED:20260326T231101Z
LAST-MODIFIED:20260326T232818Z
UID:10018077-1777698000-1777730400@www.calendrierdesbrocantes.fr
SUMMARY:Vide greniers Antibes
DESCRIPTION:Vide greniers la Brague\nPas de réservation se présenter avec photocopie de la carte d’identité un peu avant 5h. Le prix est de 30 euros.\nVous gardez votre véhicule derrière l emplacement.\nNous n’acceptons pas les chèques.
URL:https://www.calendrierdesbrocantes.fr/event/vide-greniers-antibes/2026-05-02/
LOCATION:Antibes\, Place Nationale\, Antibes\, 06600\, France
CATEGORIES:Vide-greniers
GEO:43.5813257;7.1252572
X-APPLE-STRUCTURED-LOCATION;VALUE=URI;X-ADDRESS=Antibes Place Nationale Antibes 06600 France;X-APPLE-RADIUS=500;X-TITLE=Place Nationale:geo:7.1252572,43.5813257
END:VEVENT
BEGIN:VEVENT
DTSTART;TZID=Europe/Paris:20260502T060000
DTEND;TZID=Europe/Paris:20260502T140000
DTSTAMP:20260421T105609
CREATED:20260411T214554Z
LAST-MODIFIED:20260411T214554Z
UID:10019709-1777701600-1777730400@www.calendrierdesbrocantes.fr
SUMMARY:Vides greniers d'Antibes
DESCRIPTION:Vides greniers d’Antibes land \n30 € la place \nVous pourrez déballer le long de votre voiture qui reste donc a côté de vous. \nSnack sur place
URL:https://www.calendrierdesbrocantes.fr/event/vides-greniers-dantibes/2026-05-02/
LOCATION:Antibes\, Place Nationale\, Antibes\, 06600\, France
CATEGORIES:Vide-greniers
ATTACH;FMTTYPE=image/png:https://www.calendrierdesbrocantes.fr/wp-content/uploads/2026/04/antibes.png
GEO:43.5813257;7.1252572
X-APPLE-STRUCTURED-LOCATION;VALUE=URI;X-ADDRESS=Antibes Place Nationale Antibes 06600 France;X-APPLE-RADIUS=500;X-TITLE=Place Nationale:geo:7.1252572,43.5813257
END:VEVENT
BEGIN:VEVENT
DTSTART;TZID=Europe/Paris:20260502T070000
DTEND;TZID=Europe/Paris:20260502T170000
DTSTAMP:20260421T105609
CREATED:20260326T225927Z
LAST-MODIFIED:20260326T230234Z
UID:10017816-1777705200-1777741200@www.calendrierdesbrocantes.fr
SUMMARY:Brocante d'Antibes
DESCRIPTION:Brocante d’Antibes\nTous les jeudis et samedi Place Nationale a lieu un marché à la brocante où chaque personne peut dénicher l’objet rare.\nIl y en a pour tous les goûts\, de la porcelaine\, cristallerie\, luminaires et argenterie aux livres en passant par des objets anciens\,de curiosités et ‘vintages’. \nBrocante conviviale à visiter …!!!
URL:https://www.calendrierdesbrocantes.fr/event/brocante-dantibes/2026-05-02/
LOCATION:Antibes\, Place Nationale\, Antibes\, 06600\, France
CATEGORIES:Brocante
GEO:43.5813257;7.1252572
X-APPLE-STRUCTURED-LOCATION;VALUE=URI;X-ADDRESS=Antibes Place Nationale Antibes 06600 France;X-APPLE-RADIUS=500;X-TITLE=Place Nationale:geo:7.1252572,43.5813257
END:VEVENT
BEGIN:VEVENT
DTSTART;TZID=Europe/Paris:20260503T060000
DTEND;TZID=Europe/Paris:20260503T140000
DTSTAMP:20260421T105609
CREATED:20260411T214734Z
LAST-MODIFIED:20260411T214828Z
UID:10020230-1777788000-1777816800@www.calendrierdesbrocantes.fr
SUMMARY:Vides greniers d'Antibes
DESCRIPTION:Vides greniers d’Antibes land \n30 € la place \nVous pourrez déballer le long de votre voiture qui reste donc a côté de vous. \nSnack sur place
URL:https://www.calendrierdesbrocantes.fr/event/vides-greniers-dantibes-2/2026-05-03/
LOCATION:Antibes\, Place Nationale\, Antibes\, 06600\, France
CATEGORIES:Vide-greniers
ATTACH;FMTTYPE=image/png:https://www.calendrierdesbrocantes.fr/wp-content/uploads/2026/04/antibes.png
GEO:43.5813257;7.1252572
X-APPLE-STRUCTURED-LOCATION;VALUE=URI;X-ADDRESS=Antibes Place Nationale Antibes 06600 France;X-APPLE-RADIUS=500;X-TITLE=Place Nationale:geo:7.1252572,43.5813257
END:VEVENT
BEGIN:VEVENT
DTSTART;TZID=Europe/Paris:20260507T070000
DTEND;TZID=Europe/Paris:20260507T170000
DTSTAMP:20260421T105609
CREATED:20260326T230129Z
LAST-MODIFIED:20260326T230129Z
UID:10017556-1778137200-1778173200@www.calendrierdesbrocantes.fr
SUMMARY:Brocante d'Antibes
DESCRIPTION:Brocante d’Antibes\nTous les jeudis et samedi Place Nationale a lieu un marché à la brocante où chaque personne peut dénicher l’objet rare.\nIl y en a pour tous les goûts\, de la porcelaine\, cristallerie\, luminaires et argenterie aux livres en passant par des objets anciens\,de curiosités et ‘vintages’. \nBrocante conviviale à visiter …!!!
URL:https://www.calendrierdesbrocantes.fr/event/brocante-dantibes-2/2026-05-07/
LOCATION:Antibes\, Place Nationale\, Antibes\, 06600\, France
CATEGORIES:Brocante
GEO:43.5813257;7.1252572
X-APPLE-STRUCTURED-LOCATION;VALUE=URI;X-ADDRESS=Antibes Place Nationale Antibes 06600 France;X-APPLE-RADIUS=500;X-TITLE=Place Nationale:geo:7.1252572,43.5813257
END:VEVENT
BEGIN:VEVENT
DTSTART;TZID=Europe/Paris:20260509T050000
DTEND;TZID=Europe/Paris:20260509T140000
DTSTAMP:20260421T105609
CREATED:20260326T231101Z
LAST-MODIFIED:20260326T232818Z
UID:10018078-1778302800-1778335200@www.calendrierdesbrocantes.fr
SUMMARY:Vide greniers Antibes
DESCRIPTION:Vide greniers la Brague\nPas de réservation se présenter avec photocopie de la carte d’identité un peu avant 5h. Le prix est de 30 euros.\nVous gardez votre véhicule derrière l emplacement.\nNous n’acceptons pas les chèques.
URL:https://www.calendrierdesbrocantes.fr/event/vide-greniers-antibes/2026-05-09/
LOCATION:Antibes\, Place Nationale\, Antibes\, 06600\, France
CATEGORIES:Vide-greniers
GEO:43.5813257;7.1252572
X-APPLE-STRUCTURED-LOCATION;VALUE=URI;X-ADDRESS=Antibes Place Nationale Antibes 06600 France;X-APPLE-RADIUS=500;X-TITLE=Place Nationale:geo:7.1252572,43.5813257
END:VEVENT
BEGIN:VEVENT
DTSTART;TZID=Europe/Paris:20260509T060000
DTEND;TZID=Europe/Paris:20260509T140000
DTSTAMP:20260421T105609
CREATED:20260411T214554Z
LAST-MODIFIED:20260411T214554Z
UID:10019710-1778306400-1778335200@www.calendrierdesbrocantes.fr
SUMMARY:Vides greniers d'Antibes
DESCRIPTION:Vides greniers d’Antibes land \n30 € la place \nVous pourrez déballer le long de votre voiture qui reste donc a côté de vous. \nSnack sur place
URL:https://www.calendrierdesbrocantes.fr/event/vides-greniers-dantibes/2026-05-09/
LOCATION:Antibes\, Place Nationale\, Antibes\, 06600\, France
CATEGORIES:Vide-greniers
ATTACH;FMTTYPE=image/png:https://www.calendrierdesbrocantes.fr/wp-content/uploads/2026/04/antibes.png
GEO:43.5813257;7.1252572
X-APPLE-STRUCTURED-LOCATION;VALUE=URI;X-ADDRESS=Antibes Place Nationale Antibes 06600 France;X-APPLE-RADIUS=500;X-TITLE=Place Nationale:geo:7.1252572,43.5813257
END:VEVENT
BEGIN:VEVENT
DTSTART;TZID=Europe/Paris:20260509T070000
DTEND;TZID=Europe/Paris:20260509T170000
DTSTAMP:20260421T105609
CREATED:20260326T225927Z
LAST-MODIFIED:20260326T230234Z
UID:10017817-1778310000-1778346000@www.calendrierdesbrocantes.fr
SUMMARY:Brocante d'Antibes
DESCRIPTION:Brocante d’Antibes\nTous les jeudis et samedi Place Nationale a lieu un marché à la brocante où chaque personne peut dénicher l’objet rare.\nIl y en a pour tous les goûts\, de la porcelaine\, cristallerie\, luminaires et argenterie aux livres en passant par des objets anciens\,de curiosités et ‘vintages’. \nBrocante conviviale à visiter …!!!
URL:https://www.calendrierdesbrocantes.fr/event/brocante-dantibes/2026-05-09/
LOCATION:Antibes\, Place Nationale\, Antibes\, 06600\, France
CATEGORIES:Brocante
GEO:43.5813257;7.1252572
X-APPLE-STRUCTURED-LOCATION;VALUE=URI;X-ADDRESS=Antibes Place Nationale Antibes 06600 France;X-APPLE-RADIUS=500;X-TITLE=Place Nationale:geo:7.1252572,43.5813257
END:VEVENT
BEGIN:VEVENT
DTSTART;TZID=Europe/Paris:20260510T060000
DTEND;TZID=Europe/Paris:20260510T140000
DTSTAMP:20260421T105609
CREATED:20260411T214734Z
LAST-MODIFIED:20260411T214828Z
UID:10020231-1778392800-1778421600@www.calendrierdesbrocantes.fr
SUMMARY:Vides greniers d'Antibes
DESCRIPTION:Vides greniers d’Antibes land \n30 € la place \nVous pourrez déballer le long de votre voiture qui reste donc a côté de vous. \nSnack sur place
URL:https://www.calendrierdesbrocantes.fr/event/vides-greniers-dantibes-2/2026-05-10/
LOCATION:Antibes\, Place Nationale\, Antibes\, 06600\, France
CATEGORIES:Vide-greniers
ATTACH;FMTTYPE=image/png:https://www.calendrierdesbrocantes.fr/wp-content/uploads/2026/04/antibes.png
GEO:43.5813257;7.1252572
X-APPLE-STRUCTURED-LOCATION;VALUE=URI;X-ADDRESS=Antibes Place Nationale Antibes 06600 France;X-APPLE-RADIUS=500;X-TITLE=Place Nationale:geo:7.1252572,43.5813257
END:VEVENT
BEGIN:VEVENT
DTSTART;TZID=Europe/Paris:20260514T070000
DTEND;TZID=Europe/Paris:20260514T170000
DTSTAMP:20260421T105609
CREATED:20260326T230129Z
LAST-MODIFIED:20260326T230129Z
UID:10017557-1778742000-1778778000@www.calendrierdesbrocantes.fr
SUMMARY:Brocante d'Antibes
DESCRIPTION:Brocante d’Antibes\nTous les jeudis et samedi Place Nationale a lieu un marché à la brocante où chaque personne peut dénicher l’objet rare.\nIl y en a pour tous les goûts\, de la porcelaine\, cristallerie\, luminaires et argenterie aux livres en passant par des objets anciens\,de curiosités et ‘vintages’. \nBrocante conviviale à visiter …!!!
URL:https://www.calendrierdesbrocantes.fr/event/brocante-dantibes-2/2026-05-14/
LOCATION:Antibes\, Place Nationale\, Antibes\, 06600\, France
CATEGORIES:Brocante
GEO:43.5813257;7.1252572
X-APPLE-STRUCTURED-LOCATION;VALUE=URI;X-ADDRESS=Antibes Place Nationale Antibes 06600 France;X-APPLE-RADIUS=500;X-TITLE=Place Nationale:geo:7.1252572,43.5813257
END:VEVENT
BEGIN:VEVENT
DTSTART;TZID=Europe/Paris:20260516T050000
DTEND;TZID=Europe/Paris:20260516T140000
DTSTAMP:20260421T105609
CREATED:20260326T231101Z
LAST-MODIFIED:20260326T232818Z
UID:10018079-1778907600-1778940000@www.calendrierdesbrocantes.fr
SUMMARY:Vide greniers Antibes
DESCRIPTION:Vide greniers la Brague\nPas de réservation se présenter avec photocopie de la carte d’identité un peu avant 5h. Le prix est de 30 euros.\nVous gardez votre véhicule derrière l emplacement.\nNous n’acceptons pas les chèques.
URL:https://www.calendrierdesbrocantes.fr/event/vide-greniers-antibes/2026-05-16/
LOCATION:Antibes\, Place Nationale\, Antibes\, 06600\, France
CATEGORIES:Vide-greniers
GEO:43.5813257;7.1252572
X-APPLE-STRUCTURED-LOCATION;VALUE=URI;X-ADDRESS=Antibes Place Nationale Antibes 06600 France;X-APPLE-RADIUS=500;X-TITLE=Place Nationale:geo:7.1252572,43.5813257
END:VEVENT
BEGIN:VEVENT
DTSTART;TZID=Europe/Paris:20260516T060000
DTEND;TZID=Europe/Paris:20260516T140000
DTSTAMP:20260421T105609
CREATED:20260411T214554Z
LAST-MODIFIED:20260411T214554Z
UID:10019711-1778911200-1778940000@www.calendrierdesbrocantes.fr
SUMMARY:Vides greniers d'Antibes
DESCRIPTION:Vides greniers d’Antibes land \n30 € la place \nVous pourrez déballer le long de votre voiture qui reste donc a côté de vous. \nSnack sur place
URL:https://www.calendrierdesbrocantes.fr/event/vides-greniers-dantibes/2026-05-16/
LOCATION:Antibes\, Place Nationale\, Antibes\, 06600\, France
CATEGORIES:Vide-greniers
ATTACH;FMTTYPE=image/png:https://www.calendrierdesbrocantes.fr/wp-content/uploads/2026/04/antibes.png
GEO:43.5813257;7.1252572
X-APPLE-STRUCTURED-LOCATION;VALUE=URI;X-ADDRESS=Antibes Place Nationale Antibes 06600 France;X-APPLE-RADIUS=500;X-TITLE=Place Nationale:geo:7.1252572,43.5813257
END:VEVENT
BEGIN:VEVENT
DTSTART;TZID=Europe/Paris:20260516T070000
DTEND;TZID=Europe/Paris:20260516T170000
DTSTAMP:20260421T105609
CREATED:20260326T225927Z
LAST-MODIFIED:20260326T230234Z
UID:10017818-1778914800-1778950800@www.calendrierdesbrocantes.fr
SUMMARY:Brocante d'Antibes
DESCRIPTION:Brocante d’Antibes\nTous les jeudis et samedi Place Nationale a lieu un marché à la brocante où chaque personne peut dénicher l’objet rare.\nIl y en a pour tous les goûts\, de la porcelaine\, cristallerie\, luminaires et argenterie aux livres en passant par des objets anciens\,de curiosités et ‘vintages’. \nBrocante conviviale à visiter …!!!
URL:https://www.calendrierdesbrocantes.fr/event/brocante-dantibes/2026-05-16/
LOCATION:Antibes\, Place Nationale\, Antibes\, 06600\, France
CATEGORIES:Brocante
GEO:43.5813257;7.1252572
X-APPLE-STRUCTURED-LOCATION;VALUE=URI;X-ADDRESS=Antibes Place Nationale Antibes 06600 France;X-APPLE-RADIUS=500;X-TITLE=Place Nationale:geo:7.1252572,43.5813257
END:VEVENT
BEGIN:VEVENT
DTSTART;TZID=Europe/Paris:20260517T060000
DTEND;TZID=Europe/Paris:20260517T140000
DTSTAMP:20260421T105609
CREATED:20260411T214734Z
LAST-MODIFIED:20260411T214828Z
UID:10020232-1778997600-1779026400@www.calendrierdesbrocantes.fr
SUMMARY:Vides greniers d'Antibes
DESCRIPTION:Vides greniers d’Antibes land \n30 € la place \nVous pourrez déballer le long de votre voiture qui reste donc a côté de vous. \nSnack sur place
URL:https://www.calendrierdesbrocantes.fr/event/vides-greniers-dantibes-2/2026-05-17/
LOCATION:Antibes\, Place Nationale\, Antibes\, 06600\, France
CATEGORIES:Vide-greniers
ATTACH;FMTTYPE=image/png:https://www.calendrierdesbrocantes.fr/wp-content/uploads/2026/04/antibes.png
GEO:43.5813257;7.1252572
X-APPLE-STRUCTURED-LOCATION;VALUE=URI;X-ADDRESS=Antibes Place Nationale Antibes 06600 France;X-APPLE-RADIUS=500;X-TITLE=Place Nationale:geo:7.1252572,43.5813257
END:VEVENT
BEGIN:VEVENT
DTSTART;TZID=Europe/Paris:20260521T070000
DTEND;TZID=Europe/Paris:20260521T170000
DTSTAMP:20260421T105609
CREATED:20260326T230129Z
LAST-MODIFIED:20260326T230129Z
UID:10017558-1779346800-1779382800@www.calendrierdesbrocantes.fr
SUMMARY:Brocante d'Antibes
DESCRIPTION:Brocante d’Antibes\nTous les jeudis et samedi Place Nationale a lieu un marché à la brocante où chaque personne peut dénicher l’objet rare.\nIl y en a pour tous les goûts\, de la porcelaine\, cristallerie\, luminaires et argenterie aux livres en passant par des objets anciens\,de curiosités et ‘vintages’. \nBrocante conviviale à visiter …!!!
URL:https://www.calendrierdesbrocantes.fr/event/brocante-dantibes-2/2026-05-21/
LOCATION:Antibes\, Place Nationale\, Antibes\, 06600\, France
CATEGORIES:Brocante
GEO:43.5813257;7.1252572
X-APPLE-STRUCTURED-LOCATION;VALUE=URI;X-ADDRESS=Antibes Place Nationale Antibes 06600 France;X-APPLE-RADIUS=500;X-TITLE=Place Nationale:geo:7.1252572,43.5813257
END:VEVENT
BEGIN:VEVENT
DTSTART;TZID=Europe/Paris:20260523T050000
DTEND;TZID=Europe/Paris:20260523T140000
DTSTAMP:20260421T105609
CREATED:20260326T231101Z
LAST-MODIFIED:20260326T232818Z
UID:10018080-1779512400-1779544800@www.calendrierdesbrocantes.fr
SUMMARY:Vide greniers Antibes
DESCRIPTION:Vide greniers la Brague\nPas de réservation se présenter avec photocopie de la carte d’identité un peu avant 5h. Le prix est de 30 euros.\nVous gardez votre véhicule derrière l emplacement.\nNous n’acceptons pas les chèques.
URL:https://www.calendrierdesbrocantes.fr/event/vide-greniers-antibes/2026-05-23/
LOCATION:Antibes\, Place Nationale\, Antibes\, 06600\, France
CATEGORIES:Vide-greniers
GEO:43.5813257;7.1252572
X-APPLE-STRUCTURED-LOCATION;VALUE=URI;X-ADDRESS=Antibes Place Nationale Antibes 06600 France;X-APPLE-RADIUS=500;X-TITLE=Place Nationale:geo:7.1252572,43.5813257
END:VEVENT
BEGIN:VEVENT
DTSTART;TZID=Europe/Paris:20260523T060000
DTEND;TZID=Europe/Paris:20260523T140000
DTSTAMP:20260421T105609
CREATED:20260411T214554Z
LAST-MODIFIED:20260411T214554Z
UID:10019712-1779516000-1779544800@www.calendrierdesbrocantes.fr
SUMMARY:Vides greniers d'Antibes
DESCRIPTION:Vides greniers d’Antibes land \n30 € la place \nVous pourrez déballer le long de votre voiture qui reste donc a côté de vous. \nSnack sur place
URL:https://www.calendrierdesbrocantes.fr/event/vides-greniers-dantibes/2026-05-23/
LOCATION:Antibes\, Place Nationale\, Antibes\, 06600\, France
CATEGORIES:Vide-greniers
ATTACH;FMTTYPE=image/png:https://www.calendrierdesbrocantes.fr/wp-content/uploads/2026/04/antibes.png
GEO:43.5813257;7.1252572
X-APPLE-STRUCTURED-LOCATION;VALUE=URI;X-ADDRESS=Antibes Place Nationale Antibes 06600 France;X-APPLE-RADIUS=500;X-TITLE=Place Nationale:geo:7.1252572,43.5813257
END:VEVENT
BEGIN:VEVENT
DTSTART;TZID=Europe/Paris:20260523T070000
DTEND;TZID=Europe/Paris:20260523T170000
DTSTAMP:20260421T105609
CREATED:20260326T225927Z
LAST-MODIFIED:20260326T230234Z
UID:10017819-1779519600-1779555600@www.calendrierdesbrocantes.fr
SUMMARY:Brocante d'Antibes
DESCRIPTION:Brocante d’Antibes\nTous les jeudis et samedi Place Nationale a lieu un marché à la brocante où chaque personne peut dénicher l’objet rare.\nIl y en a pour tous les goûts\, de la porcelaine\, cristallerie\, luminaires et argenterie aux livres en passant par des objets anciens\,de curiosités et ‘vintages’. \nBrocante conviviale à visiter …!!!
URL:https://www.calendrierdesbrocantes.fr/event/brocante-dantibes/2026-05-23/
LOCATION:Antibes\, Place Nationale\, Antibes\, 06600\, France
CATEGORIES:Brocante
GEO:43.5813257;7.1252572
X-APPLE-STRUCTURED-LOCATION;VALUE=URI;X-ADDRESS=Antibes Place Nationale Antibes 06600 France;X-APPLE-RADIUS=500;X-TITLE=Place Nationale:geo:7.1252572,43.5813257
END:VEVENT
BEGIN:VEVENT
DTSTART;TZID=Europe/Paris:20260524T060000
DTEND;TZID=Europe/Paris:20260524T140000
DTSTAMP:20260421T105609
CREATED:20260411T214734Z
LAST-MODIFIED:20260411T214828Z
UID:10020233-1779602400-1779631200@www.calendrierdesbrocantes.fr
SUMMARY:Vides greniers d'Antibes
DESCRIPTION:Vides greniers d’Antibes land \n30 € la place \nVous pourrez déballer le long de votre voiture qui reste donc a côté de vous. \nSnack sur place
URL:https://www.calendrierdesbrocantes.fr/event/vides-greniers-dantibes-2/2026-05-24/
LOCATION:Antibes\, Place Nationale\, Antibes\, 06600\, France
CATEGORIES:Vide-greniers
ATTACH;FMTTYPE=image/png:https://www.calendrierdesbrocantes.fr/wp-content/uploads/2026/04/antibes.png
GEO:43.5813257;7.1252572
X-APPLE-STRUCTURED-LOCATION;VALUE=URI;X-ADDRESS=Antibes Place Nationale Antibes 06600 France;X-APPLE-RADIUS=500;X-TITLE=Place Nationale:geo:7.1252572,43.5813257
END:VEVENT
BEGIN:VEVENT
DTSTART;TZID=Europe/Paris:20260528T070000
DTEND;TZID=Europe/Paris:20260528T170000
DTSTAMP:20260421T105609
CREATED:20260326T230129Z
LAST-MODIFIED:20260326T230129Z
UID:10017559-1779951600-1779987600@www.calendrierdesbrocantes.fr
SUMMARY:Brocante d'Antibes
DESCRIPTION:Brocante d’Antibes\nTous les jeudis et samedi Place Nationale a lieu un marché à la brocante où chaque personne peut dénicher l’objet rare.\nIl y en a pour tous les goûts\, de la porcelaine\, cristallerie\, luminaires et argenterie aux livres en passant par des objets anciens\,de curiosités et ‘vintages’. \nBrocante conviviale à visiter …!!!
URL:https://www.calendrierdesbrocantes.fr/event/brocante-dantibes-2/2026-05-28/
LOCATION:Antibes\, Place Nationale\, Antibes\, 06600\, France
CATEGORIES:Brocante
GEO:43.5813257;7.1252572
X-APPLE-STRUCTURED-LOCATION;VALUE=URI;X-ADDRESS=Antibes Place Nationale Antibes 06600 France;X-APPLE-RADIUS=500;X-TITLE=Place Nationale:geo:7.1252572,43.5813257
END:VEVENT
BEGIN:VEVENT
DTSTART;TZID=Europe/Paris:20260530T050000
DTEND;TZID=Europe/Paris:20260530T140000
DTSTAMP:20260421T105609
CREATED:20260326T231101Z
LAST-MODIFIED:20260326T232818Z
UID:10018081-1780117200-1780149600@www.calendrierdesbrocantes.fr
SUMMARY:Vide greniers Antibes
DESCRIPTION:Vide greniers la Brague\nPas de réservation se présenter avec photocopie de la carte d’identité un peu avant 5h. Le prix est de 30 euros.\nVous gardez votre véhicule derrière l emplacement.\nNous n’acceptons pas les chèques.
URL:https://www.calendrierdesbrocantes.fr/event/vide-greniers-antibes/2026-05-30/
LOCATION:Antibes\, Place Nationale\, Antibes\, 06600\, France
CATEGORIES:Vide-greniers
GEO:43.5813257;7.1252572
X-APPLE-STRUCTURED-LOCATION;VALUE=URI;X-ADDRESS=Antibes Place Nationale Antibes 06600 France;X-APPLE-RADIUS=500;X-TITLE=Place Nationale:geo:7.1252572,43.5813257
END:VEVENT
BEGIN:VEVENT
DTSTART;TZID=Europe/Paris:20260530T060000
DTEND;TZID=Europe/Paris:20260530T140000
DTSTAMP:20260421T105609
CREATED:20260411T214554Z
LAST-MODIFIED:20260411T214554Z
UID:10019713-1780120800-1780149600@www.calendrierdesbrocantes.fr
SUMMARY:Vides greniers d'Antibes
DESCRIPTION:Vides greniers d’Antibes land \n30 € la place \nVous pourrez déballer le long de votre voiture qui reste donc a côté de vous. \nSnack sur place
URL:https://www.calendrierdesbrocantes.fr/event/vides-greniers-dantibes/2026-05-30/
LOCATION:Antibes\, Place Nationale\, Antibes\, 06600\, France
CATEGORIES:Vide-greniers
ATTACH;FMTTYPE=image/png:https://www.calendrierdesbrocantes.fr/wp-content/uploads/2026/04/antibes.png
GEO:43.5813257;7.1252572
X-APPLE-STRUCTURED-LOCATION;VALUE=URI;X-ADDRESS=Antibes Place Nationale Antibes 06600 France;X-APPLE-RADIUS=500;X-TITLE=Place Nationale:geo:7.1252572,43.5813257
END:VEVENT
BEGIN:VEVENT
DTSTART;TZID=Europe/Paris:20260530T070000
DTEND;TZID=Europe/Paris:20260530T170000
DTSTAMP:20260421T105609
CREATED:20260326T225927Z
LAST-MODIFIED:20260326T230234Z
UID:10017820-1780124400-1780160400@www.calendrierdesbrocantes.fr
SUMMARY:Brocante d'Antibes
DESCRIPTION:Brocante d’Antibes\nTous les jeudis et samedi Place Nationale a lieu un marché à la brocante où chaque personne peut dénicher l’objet rare.\nIl y en a pour tous les goûts\, de la porcelaine\, cristallerie\, luminaires et argenterie aux livres en passant par des objets anciens\,de curiosités et ‘vintages’. \nBrocante conviviale à visiter …!!!
URL:https://www.calendrierdesbrocantes.fr/event/brocante-dantibes/2026-05-30/
LOCATION:Antibes\, Place Nationale\, Antibes\, 06600\, France
CATEGORIES:Brocante
GEO:43.5813257;7.1252572
X-APPLE-STRUCTURED-LOCATION;VALUE=URI;X-ADDRESS=Antibes Place Nationale Antibes 06600 France;X-APPLE-RADIUS=500;X-TITLE=Place Nationale:geo:7.1252572,43.5813257
END:VEVENT
BEGIN:VEVENT
DTSTART;TZID=Europe/Paris:20260531T060000
DTEND;TZID=Europe/Paris:20260531T140000
DTSTAMP:20260421T105609
CREATED:20260411T214734Z
LAST-MODIFIED:20260411T214828Z
UID:10020234-1780207200-1780236000@www.calendrierdesbrocantes.fr
SUMMARY:Vides greniers d'Antibes
DESCRIPTION:Vides greniers d’Antibes land \n30 € la place \nVous pourrez déballer le long de votre voiture qui reste donc a côté de vous. \nSnack sur place
URL:https://www.calendrierdesbrocantes.fr/event/vides-greniers-dantibes-2/2026-05-31/
LOCATION:Antibes\, Place Nationale\, Antibes\, 06600\, France
CATEGORIES:Vide-greniers
ATTACH;FMTTYPE=image/png:https://www.calendrierdesbrocantes.fr/wp-content/uploads/2026/04/antibes.png
GEO:43.5813257;7.1252572
X-APPLE-STRUCTURED-LOCATION;VALUE=URI;X-ADDRESS=Antibes Place Nationale Antibes 06600 France;X-APPLE-RADIUS=500;X-TITLE=Place Nationale:geo:7.1252572,43.5813257
END:VEVENT
END:VCALENDAR