BEGIN:VCALENDAR
VERSION:2.0
PRODID:-//Calendrier des brocantes - ECPv6.15.20//NONSGML v1.0//EN
CALSCALE:GREGORIAN
METHOD:PUBLISH
X-ORIGINAL-URL:https://www.calendrierdesbrocantes.fr
X-WR-CALDESC:Évènements pour Calendrier des brocantes
REFRESH-INTERVAL;VALUE=DURATION:PT1H
X-Robots-Tag:noindex
X-PUBLISHED-TTL:PT1H
BEGIN:VTIMEZONE
TZID:Europe/Paris
BEGIN:DAYLIGHT
TZOFFSETFROM:+0100
TZOFFSETTO:+0200
TZNAME:CEST
DTSTART:20250330T010000
END:DAYLIGHT
BEGIN:STANDARD
TZOFFSETFROM:+0200
TZOFFSETTO:+0100
TZNAME:CET
DTSTART:20251026T010000
END:STANDARD
BEGIN:DAYLIGHT
TZOFFSETFROM:+0100
TZOFFSETTO:+0200
TZNAME:CEST
DTSTART:20260329T010000
END:DAYLIGHT
BEGIN:STANDARD
TZOFFSETFROM:+0200
TZOFFSETTO:+0100
TZNAME:CET
DTSTART:20261025T010000
END:STANDARD
BEGIN:DAYLIGHT
TZOFFSETFROM:+0100
TZOFFSETTO:+0200
TZNAME:CEST
DTSTART:20270328T010000
END:DAYLIGHT
BEGIN:STANDARD
TZOFFSETFROM:+0200
TZOFFSETTO:+0100
TZNAME:CET
DTSTART:20271031T010000
END:STANDARD
END:VTIMEZONE
BEGIN:VEVENT
DTSTART;TZID=Europe/Paris:20260404T050000
DTEND;TZID=Europe/Paris:20260404T140000
DTSTAMP:20260421T141317
CREATED:20260326T231101Z
LAST-MODIFIED:20260326T232818Z
UID:10018073-1775278800-1775311200@www.calendrierdesbrocantes.fr
SUMMARY:Vide greniers Antibes
DESCRIPTION:Vide greniers la Brague\nPas de réservation se présenter avec photocopie de la carte d’identité un peu avant 5h. Le prix est de 30 euros.\nVous gardez votre véhicule derrière l emplacement.\nNous n’acceptons pas les chèques.
URL:https://www.calendrierdesbrocantes.fr/event/vide-greniers-antibes/2026-04-04/
LOCATION:Antibes\, Place Nationale\, Antibes\, 06600\, France
CATEGORIES:Vide-greniers
GEO:43.5813257;7.1252572
X-APPLE-STRUCTURED-LOCATION;VALUE=URI;X-ADDRESS=Antibes Place Nationale Antibes 06600 France;X-APPLE-RADIUS=500;X-TITLE=Place Nationale:geo:7.1252572,43.5813257
END:VEVENT
BEGIN:VEVENT
DTSTART;TZID=Europe/Paris:20260402T070000
DTEND;TZID=Europe/Paris:20260402T170000
DTSTAMP:20260421T141317
CREATED:20260326T230129Z
LAST-MODIFIED:20260326T230129Z
UID:10017551-1775113200-1775149200@www.calendrierdesbrocantes.fr
SUMMARY:Brocante d'Antibes
DESCRIPTION:Brocante d’Antibes\nTous les jeudis et samedi Place Nationale a lieu un marché à la brocante où chaque personne peut dénicher l’objet rare.\nIl y en a pour tous les goûts\, de la porcelaine\, cristallerie\, luminaires et argenterie aux livres en passant par des objets anciens\,de curiosités et ‘vintages’. \nBrocante conviviale à visiter …!!!
URL:https://www.calendrierdesbrocantes.fr/event/brocante-dantibes-2/2026-04-02/
LOCATION:Antibes\, Place Nationale\, Antibes\, 06600\, France
CATEGORIES:Brocante
GEO:43.5813257;7.1252572
X-APPLE-STRUCTURED-LOCATION;VALUE=URI;X-ADDRESS=Antibes Place Nationale Antibes 06600 France;X-APPLE-RADIUS=500;X-TITLE=Place Nationale:geo:7.1252572,43.5813257
END:VEVENT
BEGIN:VEVENT
DTSTART;TZID=Europe/Paris:20260328T070000
DTEND;TZID=Europe/Paris:20260328T170000
DTSTAMP:20260421T141317
CREATED:20260326T225927Z
LAST-MODIFIED:20260326T230234Z
UID:10017550-1774681200-1774717200@www.calendrierdesbrocantes.fr
SUMMARY:Brocante d'Antibes
DESCRIPTION:Brocante d’Antibes\nTous les jeudis et samedi Place Nationale a lieu un marché à la brocante où chaque personne peut dénicher l’objet rare.\nIl y en a pour tous les goûts\, de la porcelaine\, cristallerie\, luminaires et argenterie aux livres en passant par des objets anciens\,de curiosités et ‘vintages’. \nBrocante conviviale à visiter …!!!
URL:https://www.calendrierdesbrocantes.fr/event/brocante-dantibes/2026-03-28/
LOCATION:Antibes\, Place Nationale\, Antibes\, 06600\, France
CATEGORIES:Brocante
GEO:43.5813257;7.1252572
X-APPLE-STRUCTURED-LOCATION;VALUE=URI;X-ADDRESS=Antibes Place Nationale Antibes 06600 France;X-APPLE-RADIUS=500;X-TITLE=Place Nationale:geo:7.1252572,43.5813257
END:VEVENT
BEGIN:VEVENT
DTSTART;TZID=Europe/Paris:20260328T050000
DTEND;TZID=Europe/Paris:20260328T140000
DTSTAMP:20260421T141317
CREATED:20260326T231101Z
LAST-MODIFIED:20260326T232818Z
UID:10018072-1774674000-1774706400@www.calendrierdesbrocantes.fr
SUMMARY:Vide greniers Antibes
DESCRIPTION:Vide greniers la Brague\nPas de réservation se présenter avec photocopie de la carte d’identité un peu avant 5h. Le prix est de 30 euros.\nVous gardez votre véhicule derrière l emplacement.\nNous n’acceptons pas les chèques.
URL:https://www.calendrierdesbrocantes.fr/event/vide-greniers-antibes/2026-03-28/
LOCATION:Antibes\, Place Nationale\, Antibes\, 06600\, France
CATEGORIES:Vide-greniers
GEO:43.5813257;7.1252572
X-APPLE-STRUCTURED-LOCATION;VALUE=URI;X-ADDRESS=Antibes Place Nationale Antibes 06600 France;X-APPLE-RADIUS=500;X-TITLE=Place Nationale:geo:7.1252572,43.5813257
END:VEVENT
END:VCALENDAR