BEGIN:VCALENDAR
VERSION:2.0
PRODID:-//Calendrier des brocantes - ECPv6.15.20//NONSGML v1.0//EN
CALSCALE:GREGORIAN
METHOD:PUBLISH
X-ORIGINAL-URL:https://www.calendrierdesbrocantes.fr
X-WR-CALDESC:Évènements pour Calendrier des brocantes
REFRESH-INTERVAL;VALUE=DURATION:PT1H
X-Robots-Tag:noindex
X-PUBLISHED-TTL:PT1H
BEGIN:VTIMEZONE
TZID:Europe/Paris
BEGIN:DAYLIGHT
TZOFFSETFROM:+0100
TZOFFSETTO:+0200
TZNAME:CEST
DTSTART:20270328T010000
END:DAYLIGHT
BEGIN:STANDARD
TZOFFSETFROM:+0200
TZOFFSETTO:+0100
TZNAME:CET
DTSTART:20271031T010000
END:STANDARD
BEGIN:DAYLIGHT
TZOFFSETFROM:+0100
TZOFFSETTO:+0200
TZNAME:CEST
DTSTART:20280326T010000
END:DAYLIGHT
BEGIN:STANDARD
TZOFFSETFROM:+0200
TZOFFSETTO:+0100
TZNAME:CET
DTSTART:20281029T010000
END:STANDARD
BEGIN:DAYLIGHT
TZOFFSETFROM:+0100
TZOFFSETTO:+0200
TZNAME:CEST
DTSTART:20290325T010000
END:DAYLIGHT
BEGIN:STANDARD
TZOFFSETFROM:+0200
TZOFFSETTO:+0100
TZNAME:CET
DTSTART:20291028T010000
END:STANDARD
END:VTIMEZONE
BEGIN:VEVENT
DTSTART;TZID=Europe/Paris:20280116T060000
DTEND;TZID=Europe/Paris:20280116T140000
DTSTAMP:20260423T035819
CREATED:20260329T162731Z
LAST-MODIFIED:20260329T162731Z
UID:10019272-1831615200-1831644000@www.calendrierdesbrocantes.fr
SUMMARY:Vide greniers d'Aubagne
DESCRIPTION:Vide greniers d’Aubagne \nRéservation obligatoire par téléphone 06 65 19 70 63\nPlacement de 6h à 7 h \nFin du vide grenier à 14h \n15 € les 6 mètres avec véhicule derrière
URL:https://www.calendrierdesbrocantes.fr/event/vide-greniers-daubagne/2028-01-16/
LOCATION:Aubagne\, Aubagne\, 13005\, France
CATEGORIES:Vide-greniers
GEO:43.2926781;5.5676425
END:VEVENT
BEGIN:VEVENT
DTSTART;TZID=Europe/Paris:20280123T060000
DTEND;TZID=Europe/Paris:20280123T140000
DTSTAMP:20260423T035819
CREATED:20260329T162731Z
LAST-MODIFIED:20260329T162731Z
UID:10019273-1832220000-1832248800@www.calendrierdesbrocantes.fr
SUMMARY:Vide greniers d'Aubagne
DESCRIPTION:Vide greniers d’Aubagne \nRéservation obligatoire par téléphone 06 65 19 70 63\nPlacement de 6h à 7 h \nFin du vide grenier à 14h \n15 € les 6 mètres avec véhicule derrière
URL:https://www.calendrierdesbrocantes.fr/event/vide-greniers-daubagne/2028-01-23/
LOCATION:Aubagne\, Aubagne\, 13005\, France
CATEGORIES:Vide-greniers
GEO:43.2926781;5.5676425
END:VEVENT
BEGIN:VEVENT
DTSTART;TZID=Europe/Paris:20280130T060000
DTEND;TZID=Europe/Paris:20280130T140000
DTSTAMP:20260423T035819
CREATED:20260329T162731Z
LAST-MODIFIED:20260329T162731Z
UID:10019274-1832824800-1832853600@www.calendrierdesbrocantes.fr
SUMMARY:Vide greniers d'Aubagne
DESCRIPTION:Vide greniers d’Aubagne \nRéservation obligatoire par téléphone 06 65 19 70 63\nPlacement de 6h à 7 h \nFin du vide grenier à 14h \n15 € les 6 mètres avec véhicule derrière
URL:https://www.calendrierdesbrocantes.fr/event/vide-greniers-daubagne/2028-01-30/
LOCATION:Aubagne\, Aubagne\, 13005\, France
CATEGORIES:Vide-greniers
GEO:43.2926781;5.5676425
END:VEVENT
BEGIN:VEVENT
DTSTART;TZID=Europe/Paris:20280206T060000
DTEND;TZID=Europe/Paris:20280206T140000
DTSTAMP:20260423T035819
CREATED:20260329T162731Z
LAST-MODIFIED:20260329T162731Z
UID:10019275-1833429600-1833458400@www.calendrierdesbrocantes.fr
SUMMARY:Vide greniers d'Aubagne
DESCRIPTION:Vide greniers d’Aubagne \nRéservation obligatoire par téléphone 06 65 19 70 63\nPlacement de 6h à 7 h \nFin du vide grenier à 14h \n15 € les 6 mètres avec véhicule derrière
URL:https://www.calendrierdesbrocantes.fr/event/vide-greniers-daubagne/2028-02-06/
LOCATION:Aubagne\, Aubagne\, 13005\, France
CATEGORIES:Vide-greniers
GEO:43.2926781;5.5676425
END:VEVENT
BEGIN:VEVENT
DTSTART;TZID=Europe/Paris:20280213T060000
DTEND;TZID=Europe/Paris:20280213T140000
DTSTAMP:20260423T035819
CREATED:20260329T162731Z
LAST-MODIFIED:20260329T162731Z
UID:10019276-1834034400-1834063200@www.calendrierdesbrocantes.fr
SUMMARY:Vide greniers d'Aubagne
DESCRIPTION:Vide greniers d’Aubagne \nRéservation obligatoire par téléphone 06 65 19 70 63\nPlacement de 6h à 7 h \nFin du vide grenier à 14h \n15 € les 6 mètres avec véhicule derrière
URL:https://www.calendrierdesbrocantes.fr/event/vide-greniers-daubagne/2028-02-13/
LOCATION:Aubagne\, Aubagne\, 13005\, France
CATEGORIES:Vide-greniers
GEO:43.2926781;5.5676425
END:VEVENT
BEGIN:VEVENT
DTSTART;TZID=Europe/Paris:20280220T060000
DTEND;TZID=Europe/Paris:20280220T140000
DTSTAMP:20260423T035819
CREATED:20260329T162731Z
LAST-MODIFIED:20260329T162731Z
UID:10019277-1834639200-1834668000@www.calendrierdesbrocantes.fr
SUMMARY:Vide greniers d'Aubagne
DESCRIPTION:Vide greniers d’Aubagne \nRéservation obligatoire par téléphone 06 65 19 70 63\nPlacement de 6h à 7 h \nFin du vide grenier à 14h \n15 € les 6 mètres avec véhicule derrière
URL:https://www.calendrierdesbrocantes.fr/event/vide-greniers-daubagne/2028-02-20/
LOCATION:Aubagne\, Aubagne\, 13005\, France
CATEGORIES:Vide-greniers
GEO:43.2926781;5.5676425
END:VEVENT
BEGIN:VEVENT
DTSTART;TZID=Europe/Paris:20280227T060000
DTEND;TZID=Europe/Paris:20280227T140000
DTSTAMP:20260423T035819
CREATED:20260329T162731Z
LAST-MODIFIED:20260329T162731Z
UID:10019278-1835244000-1835272800@www.calendrierdesbrocantes.fr
SUMMARY:Vide greniers d'Aubagne
DESCRIPTION:Vide greniers d’Aubagne \nRéservation obligatoire par téléphone 06 65 19 70 63\nPlacement de 6h à 7 h \nFin du vide grenier à 14h \n15 € les 6 mètres avec véhicule derrière
URL:https://www.calendrierdesbrocantes.fr/event/vide-greniers-daubagne/2028-02-27/
LOCATION:Aubagne\, Aubagne\, 13005\, France
CATEGORIES:Vide-greniers
GEO:43.2926781;5.5676425
END:VEVENT
BEGIN:VEVENT
DTSTART;TZID=Europe/Paris:20280305T060000
DTEND;TZID=Europe/Paris:20280305T140000
DTSTAMP:20260423T035819
CREATED:20260329T162731Z
LAST-MODIFIED:20260329T162731Z
UID:10019279-1835848800-1835877600@www.calendrierdesbrocantes.fr
SUMMARY:Vide greniers d'Aubagne
DESCRIPTION:Vide greniers d’Aubagne \nRéservation obligatoire par téléphone 06 65 19 70 63\nPlacement de 6h à 7 h \nFin du vide grenier à 14h \n15 € les 6 mètres avec véhicule derrière
URL:https://www.calendrierdesbrocantes.fr/event/vide-greniers-daubagne/2028-03-05/
LOCATION:Aubagne\, Aubagne\, 13005\, France
CATEGORIES:Vide-greniers
GEO:43.2926781;5.5676425
END:VEVENT
BEGIN:VEVENT
DTSTART;TZID=Europe/Paris:20280312T060000
DTEND;TZID=Europe/Paris:20280312T140000
DTSTAMP:20260423T035819
CREATED:20260329T162731Z
LAST-MODIFIED:20260329T162731Z
UID:10019280-1836453600-1836482400@www.calendrierdesbrocantes.fr
SUMMARY:Vide greniers d'Aubagne
DESCRIPTION:Vide greniers d’Aubagne \nRéservation obligatoire par téléphone 06 65 19 70 63\nPlacement de 6h à 7 h \nFin du vide grenier à 14h \n15 € les 6 mètres avec véhicule derrière
URL:https://www.calendrierdesbrocantes.fr/event/vide-greniers-daubagne/2028-03-12/
LOCATION:Aubagne\, Aubagne\, 13005\, France
CATEGORIES:Vide-greniers
GEO:43.2926781;5.5676425
END:VEVENT
BEGIN:VEVENT
DTSTART;TZID=Europe/Paris:20280319T060000
DTEND;TZID=Europe/Paris:20280319T140000
DTSTAMP:20260423T035819
CREATED:20260329T162731Z
LAST-MODIFIED:20260329T162731Z
UID:10019281-1837058400-1837087200@www.calendrierdesbrocantes.fr
SUMMARY:Vide greniers d'Aubagne
DESCRIPTION:Vide greniers d’Aubagne \nRéservation obligatoire par téléphone 06 65 19 70 63\nPlacement de 6h à 7 h \nFin du vide grenier à 14h \n15 € les 6 mètres avec véhicule derrière
URL:https://www.calendrierdesbrocantes.fr/event/vide-greniers-daubagne/2028-03-19/
LOCATION:Aubagne\, Aubagne\, 13005\, France
CATEGORIES:Vide-greniers
GEO:43.2926781;5.5676425
END:VEVENT
BEGIN:VEVENT
DTSTART;TZID=Europe/Paris:20280326T060000
DTEND;TZID=Europe/Paris:20280326T140000
DTSTAMP:20260423T035819
CREATED:20260329T162731Z
LAST-MODIFIED:20260329T162731Z
UID:10019282-1837663200-1837692000@www.calendrierdesbrocantes.fr
SUMMARY:Vide greniers d'Aubagne
DESCRIPTION:Vide greniers d’Aubagne \nRéservation obligatoire par téléphone 06 65 19 70 63\nPlacement de 6h à 7 h \nFin du vide grenier à 14h \n15 € les 6 mètres avec véhicule derrière
URL:https://www.calendrierdesbrocantes.fr/event/vide-greniers-daubagne/2028-03-26/
LOCATION:Aubagne\, Aubagne\, 13005\, France
CATEGORIES:Vide-greniers
GEO:43.2926781;5.5676425
END:VEVENT
BEGIN:VEVENT
DTSTART;TZID=Europe/Paris:20280402T060000
DTEND;TZID=Europe/Paris:20280402T140000
DTSTAMP:20260423T035819
CREATED:20260329T162731Z
LAST-MODIFIED:20260329T162731Z
UID:10019283-1838268000-1838296800@www.calendrierdesbrocantes.fr
SUMMARY:Vide greniers d'Aubagne
DESCRIPTION:Vide greniers d’Aubagne \nRéservation obligatoire par téléphone 06 65 19 70 63\nPlacement de 6h à 7 h \nFin du vide grenier à 14h \n15 € les 6 mètres avec véhicule derrière
URL:https://www.calendrierdesbrocantes.fr/event/vide-greniers-daubagne/2028-04-02/
LOCATION:Aubagne\, Aubagne\, 13005\, France
CATEGORIES:Vide-greniers
GEO:43.2926781;5.5676425
END:VEVENT
BEGIN:VEVENT
DTSTART;TZID=Europe/Paris:20280409T060000
DTEND;TZID=Europe/Paris:20280409T140000
DTSTAMP:20260423T035819
CREATED:20260329T162731Z
LAST-MODIFIED:20260329T162731Z
UID:10019284-1838872800-1838901600@www.calendrierdesbrocantes.fr
SUMMARY:Vide greniers d'Aubagne
DESCRIPTION:Vide greniers d’Aubagne \nRéservation obligatoire par téléphone 06 65 19 70 63\nPlacement de 6h à 7 h \nFin du vide grenier à 14h \n15 € les 6 mètres avec véhicule derrière
URL:https://www.calendrierdesbrocantes.fr/event/vide-greniers-daubagne/2028-04-09/
LOCATION:Aubagne\, Aubagne\, 13005\, France
CATEGORIES:Vide-greniers
GEO:43.2926781;5.5676425
END:VEVENT
BEGIN:VEVENT
DTSTART;TZID=Europe/Paris:20280416T060000
DTEND;TZID=Europe/Paris:20280416T140000
DTSTAMP:20260423T035819
CREATED:20260329T162731Z
LAST-MODIFIED:20260329T162731Z
UID:10019285-1839477600-1839506400@www.calendrierdesbrocantes.fr
SUMMARY:Vide greniers d'Aubagne
DESCRIPTION:Vide greniers d’Aubagne \nRéservation obligatoire par téléphone 06 65 19 70 63\nPlacement de 6h à 7 h \nFin du vide grenier à 14h \n15 € les 6 mètres avec véhicule derrière
URL:https://www.calendrierdesbrocantes.fr/event/vide-greniers-daubagne/2028-04-16/
LOCATION:Aubagne\, Aubagne\, 13005\, France
CATEGORIES:Vide-greniers
GEO:43.2926781;5.5676425
END:VEVENT
BEGIN:VEVENT
DTSTART;TZID=Europe/Paris:20280423T060000
DTEND;TZID=Europe/Paris:20280423T140000
DTSTAMP:20260423T035819
CREATED:20260329T162731Z
LAST-MODIFIED:20260329T162731Z
UID:10019286-1840082400-1840111200@www.calendrierdesbrocantes.fr
SUMMARY:Vide greniers d'Aubagne
DESCRIPTION:Vide greniers d’Aubagne \nRéservation obligatoire par téléphone 06 65 19 70 63\nPlacement de 6h à 7 h \nFin du vide grenier à 14h \n15 € les 6 mètres avec véhicule derrière
URL:https://www.calendrierdesbrocantes.fr/event/vide-greniers-daubagne/2028-04-23/
LOCATION:Aubagne\, Aubagne\, 13005\, France
CATEGORIES:Vide-greniers
GEO:43.2926781;5.5676425
END:VEVENT
BEGIN:VEVENT
DTSTART;TZID=Europe/Paris:20280430T060000
DTEND;TZID=Europe/Paris:20280430T140000
DTSTAMP:20260423T035819
CREATED:20260329T162731Z
LAST-MODIFIED:20260329T162731Z
UID:10019287-1840687200-1840716000@www.calendrierdesbrocantes.fr
SUMMARY:Vide greniers d'Aubagne
DESCRIPTION:Vide greniers d’Aubagne \nRéservation obligatoire par téléphone 06 65 19 70 63\nPlacement de 6h à 7 h \nFin du vide grenier à 14h \n15 € les 6 mètres avec véhicule derrière
URL:https://www.calendrierdesbrocantes.fr/event/vide-greniers-daubagne/2028-04-30/
LOCATION:Aubagne\, Aubagne\, 13005\, France
CATEGORIES:Vide-greniers
GEO:43.2926781;5.5676425
END:VEVENT
BEGIN:VEVENT
DTSTART;TZID=Europe/Paris:20280507T060000
DTEND;TZID=Europe/Paris:20280507T140000
DTSTAMP:20260423T035819
CREATED:20260329T162731Z
LAST-MODIFIED:20260329T162731Z
UID:10019288-1841292000-1841320800@www.calendrierdesbrocantes.fr
SUMMARY:Vide greniers d'Aubagne
DESCRIPTION:Vide greniers d’Aubagne \nRéservation obligatoire par téléphone 06 65 19 70 63\nPlacement de 6h à 7 h \nFin du vide grenier à 14h \n15 € les 6 mètres avec véhicule derrière
URL:https://www.calendrierdesbrocantes.fr/event/vide-greniers-daubagne/2028-05-07/
LOCATION:Aubagne\, Aubagne\, 13005\, France
CATEGORIES:Vide-greniers
GEO:43.2926781;5.5676425
END:VEVENT
BEGIN:VEVENT
DTSTART;TZID=Europe/Paris:20280514T060000
DTEND;TZID=Europe/Paris:20280514T140000
DTSTAMP:20260423T035819
CREATED:20260329T162731Z
LAST-MODIFIED:20260329T162731Z
UID:10019289-1841896800-1841925600@www.calendrierdesbrocantes.fr
SUMMARY:Vide greniers d'Aubagne
DESCRIPTION:Vide greniers d’Aubagne \nRéservation obligatoire par téléphone 06 65 19 70 63\nPlacement de 6h à 7 h \nFin du vide grenier à 14h \n15 € les 6 mètres avec véhicule derrière
URL:https://www.calendrierdesbrocantes.fr/event/vide-greniers-daubagne/2028-05-14/
LOCATION:Aubagne\, Aubagne\, 13005\, France
CATEGORIES:Vide-greniers
GEO:43.2926781;5.5676425
END:VEVENT
BEGIN:VEVENT
DTSTART;TZID=Europe/Paris:20280521T060000
DTEND;TZID=Europe/Paris:20280521T140000
DTSTAMP:20260423T035819
CREATED:20260329T162731Z
LAST-MODIFIED:20260329T162731Z
UID:10019290-1842501600-1842530400@www.calendrierdesbrocantes.fr
SUMMARY:Vide greniers d'Aubagne
DESCRIPTION:Vide greniers d’Aubagne \nRéservation obligatoire par téléphone 06 65 19 70 63\nPlacement de 6h à 7 h \nFin du vide grenier à 14h \n15 € les 6 mètres avec véhicule derrière
URL:https://www.calendrierdesbrocantes.fr/event/vide-greniers-daubagne/2028-05-21/
LOCATION:Aubagne\, Aubagne\, 13005\, France
CATEGORIES:Vide-greniers
GEO:43.2926781;5.5676425
END:VEVENT
BEGIN:VEVENT
DTSTART;TZID=Europe/Paris:20280528T060000
DTEND;TZID=Europe/Paris:20280528T140000
DTSTAMP:20260423T035819
CREATED:20260329T162731Z
LAST-MODIFIED:20260329T162731Z
UID:10019291-1843106400-1843135200@www.calendrierdesbrocantes.fr
SUMMARY:Vide greniers d'Aubagne
DESCRIPTION:Vide greniers d’Aubagne \nRéservation obligatoire par téléphone 06 65 19 70 63\nPlacement de 6h à 7 h \nFin du vide grenier à 14h \n15 € les 6 mètres avec véhicule derrière
URL:https://www.calendrierdesbrocantes.fr/event/vide-greniers-daubagne/2028-05-28/
LOCATION:Aubagne\, Aubagne\, 13005\, France
CATEGORIES:Vide-greniers
GEO:43.2926781;5.5676425
END:VEVENT
BEGIN:VEVENT
DTSTART;TZID=Europe/Paris:20280604T060000
DTEND;TZID=Europe/Paris:20280604T140000
DTSTAMP:20260423T035819
CREATED:20260329T162731Z
LAST-MODIFIED:20260329T162731Z
UID:10019292-1843711200-1843740000@www.calendrierdesbrocantes.fr
SUMMARY:Vide greniers d'Aubagne
DESCRIPTION:Vide greniers d’Aubagne \nRéservation obligatoire par téléphone 06 65 19 70 63\nPlacement de 6h à 7 h \nFin du vide grenier à 14h \n15 € les 6 mètres avec véhicule derrière
URL:https://www.calendrierdesbrocantes.fr/event/vide-greniers-daubagne/2028-06-04/
LOCATION:Aubagne\, Aubagne\, 13005\, France
CATEGORIES:Vide-greniers
GEO:43.2926781;5.5676425
END:VEVENT
BEGIN:VEVENT
DTSTART;TZID=Europe/Paris:20280611T060000
DTEND;TZID=Europe/Paris:20280611T140000
DTSTAMP:20260423T035819
CREATED:20260329T162731Z
LAST-MODIFIED:20260329T162731Z
UID:10019293-1844316000-1844344800@www.calendrierdesbrocantes.fr
SUMMARY:Vide greniers d'Aubagne
DESCRIPTION:Vide greniers d’Aubagne \nRéservation obligatoire par téléphone 06 65 19 70 63\nPlacement de 6h à 7 h \nFin du vide grenier à 14h \n15 € les 6 mètres avec véhicule derrière
URL:https://www.calendrierdesbrocantes.fr/event/vide-greniers-daubagne/2028-06-11/
LOCATION:Aubagne\, Aubagne\, 13005\, France
CATEGORIES:Vide-greniers
GEO:43.2926781;5.5676425
END:VEVENT
BEGIN:VEVENT
DTSTART;TZID=Europe/Paris:20280618T060000
DTEND;TZID=Europe/Paris:20280618T140000
DTSTAMP:20260423T035819
CREATED:20260329T162731Z
LAST-MODIFIED:20260329T162731Z
UID:10019294-1844920800-1844949600@www.calendrierdesbrocantes.fr
SUMMARY:Vide greniers d'Aubagne
DESCRIPTION:Vide greniers d’Aubagne \nRéservation obligatoire par téléphone 06 65 19 70 63\nPlacement de 6h à 7 h \nFin du vide grenier à 14h \n15 € les 6 mètres avec véhicule derrière
URL:https://www.calendrierdesbrocantes.fr/event/vide-greniers-daubagne/2028-06-18/
LOCATION:Aubagne\, Aubagne\, 13005\, France
CATEGORIES:Vide-greniers
GEO:43.2926781;5.5676425
END:VEVENT
BEGIN:VEVENT
DTSTART;TZID=Europe/Paris:20280625T060000
DTEND;TZID=Europe/Paris:20280625T140000
DTSTAMP:20260423T035819
CREATED:20260329T162731Z
LAST-MODIFIED:20260329T162731Z
UID:10019295-1845525600-1845554400@www.calendrierdesbrocantes.fr
SUMMARY:Vide greniers d'Aubagne
DESCRIPTION:Vide greniers d’Aubagne \nRéservation obligatoire par téléphone 06 65 19 70 63\nPlacement de 6h à 7 h \nFin du vide grenier à 14h \n15 € les 6 mètres avec véhicule derrière
URL:https://www.calendrierdesbrocantes.fr/event/vide-greniers-daubagne/2028-06-25/
LOCATION:Aubagne\, Aubagne\, 13005\, France
CATEGORIES:Vide-greniers
GEO:43.2926781;5.5676425
END:VEVENT
BEGIN:VEVENT
DTSTART;TZID=Europe/Paris:20280702T060000
DTEND;TZID=Europe/Paris:20280702T140000
DTSTAMP:20260423T035819
CREATED:20260329T162731Z
LAST-MODIFIED:20260329T162731Z
UID:10019296-1846130400-1846159200@www.calendrierdesbrocantes.fr
SUMMARY:Vide greniers d'Aubagne
DESCRIPTION:Vide greniers d’Aubagne \nRéservation obligatoire par téléphone 06 65 19 70 63\nPlacement de 6h à 7 h \nFin du vide grenier à 14h \n15 € les 6 mètres avec véhicule derrière
URL:https://www.calendrierdesbrocantes.fr/event/vide-greniers-daubagne/2028-07-02/
LOCATION:Aubagne\, Aubagne\, 13005\, France
CATEGORIES:Vide-greniers
GEO:43.2926781;5.5676425
END:VEVENT
BEGIN:VEVENT
DTSTART;TZID=Europe/Paris:20280709T060000
DTEND;TZID=Europe/Paris:20280709T140000
DTSTAMP:20260423T035819
CREATED:20260329T162731Z
LAST-MODIFIED:20260329T162731Z
UID:10019297-1846735200-1846764000@www.calendrierdesbrocantes.fr
SUMMARY:Vide greniers d'Aubagne
DESCRIPTION:Vide greniers d’Aubagne \nRéservation obligatoire par téléphone 06 65 19 70 63\nPlacement de 6h à 7 h \nFin du vide grenier à 14h \n15 € les 6 mètres avec véhicule derrière
URL:https://www.calendrierdesbrocantes.fr/event/vide-greniers-daubagne/2028-07-09/
LOCATION:Aubagne\, Aubagne\, 13005\, France
CATEGORIES:Vide-greniers
GEO:43.2926781;5.5676425
END:VEVENT
BEGIN:VEVENT
DTSTART;TZID=Europe/Paris:20280716T060000
DTEND;TZID=Europe/Paris:20280716T140000
DTSTAMP:20260423T035819
CREATED:20260329T162731Z
LAST-MODIFIED:20260329T162731Z
UID:10019298-1847340000-1847368800@www.calendrierdesbrocantes.fr
SUMMARY:Vide greniers d'Aubagne
DESCRIPTION:Vide greniers d’Aubagne \nRéservation obligatoire par téléphone 06 65 19 70 63\nPlacement de 6h à 7 h \nFin du vide grenier à 14h \n15 € les 6 mètres avec véhicule derrière
URL:https://www.calendrierdesbrocantes.fr/event/vide-greniers-daubagne/2028-07-16/
LOCATION:Aubagne\, Aubagne\, 13005\, France
CATEGORIES:Vide-greniers
GEO:43.2926781;5.5676425
END:VEVENT
BEGIN:VEVENT
DTSTART;TZID=Europe/Paris:20280723T060000
DTEND;TZID=Europe/Paris:20280723T140000
DTSTAMP:20260423T035819
CREATED:20260329T162731Z
LAST-MODIFIED:20260329T162731Z
UID:10019299-1847944800-1847973600@www.calendrierdesbrocantes.fr
SUMMARY:Vide greniers d'Aubagne
DESCRIPTION:Vide greniers d’Aubagne \nRéservation obligatoire par téléphone 06 65 19 70 63\nPlacement de 6h à 7 h \nFin du vide grenier à 14h \n15 € les 6 mètres avec véhicule derrière
URL:https://www.calendrierdesbrocantes.fr/event/vide-greniers-daubagne/2028-07-23/
LOCATION:Aubagne\, Aubagne\, 13005\, France
CATEGORIES:Vide-greniers
GEO:43.2926781;5.5676425
END:VEVENT
BEGIN:VEVENT
DTSTART;TZID=Europe/Paris:20280730T060000
DTEND;TZID=Europe/Paris:20280730T140000
DTSTAMP:20260423T035819
CREATED:20260329T162731Z
LAST-MODIFIED:20260329T162731Z
UID:10019300-1848549600-1848578400@www.calendrierdesbrocantes.fr
SUMMARY:Vide greniers d'Aubagne
DESCRIPTION:Vide greniers d’Aubagne \nRéservation obligatoire par téléphone 06 65 19 70 63\nPlacement de 6h à 7 h \nFin du vide grenier à 14h \n15 € les 6 mètres avec véhicule derrière
URL:https://www.calendrierdesbrocantes.fr/event/vide-greniers-daubagne/2028-07-30/
LOCATION:Aubagne\, Aubagne\, 13005\, France
CATEGORIES:Vide-greniers
GEO:43.2926781;5.5676425
END:VEVENT
BEGIN:VEVENT
DTSTART;TZID=Europe/Paris:20280806T060000
DTEND;TZID=Europe/Paris:20280806T140000
DTSTAMP:20260423T035819
CREATED:20260329T162731Z
LAST-MODIFIED:20260329T162731Z
UID:10019301-1849154400-1849183200@www.calendrierdesbrocantes.fr
SUMMARY:Vide greniers d'Aubagne
DESCRIPTION:Vide greniers d’Aubagne \nRéservation obligatoire par téléphone 06 65 19 70 63\nPlacement de 6h à 7 h \nFin du vide grenier à 14h \n15 € les 6 mètres avec véhicule derrière
URL:https://www.calendrierdesbrocantes.fr/event/vide-greniers-daubagne/2028-08-06/
LOCATION:Aubagne\, Aubagne\, 13005\, France
CATEGORIES:Vide-greniers
GEO:43.2926781;5.5676425
END:VEVENT
END:VCALENDAR