BEGIN:VCALENDAR
VERSION:2.0
PRODID:-//Calendrier des brocantes - ECPv6.15.20//NONSGML v1.0//EN
CALSCALE:GREGORIAN
METHOD:PUBLISH
X-ORIGINAL-URL:https://www.calendrierdesbrocantes.fr
X-WR-CALDESC:Évènements pour Calendrier des brocantes
REFRESH-INTERVAL;VALUE=DURATION:PT1H
X-Robots-Tag:noindex
X-PUBLISHED-TTL:PT1H
BEGIN:VTIMEZONE
TZID:Europe/Paris
BEGIN:DAYLIGHT
TZOFFSETFROM:+0100
TZOFFSETTO:+0200
TZNAME:CEST
DTSTART:20270328T010000
END:DAYLIGHT
BEGIN:STANDARD
TZOFFSETFROM:+0200
TZOFFSETTO:+0100
TZNAME:CET
DTSTART:20271031T010000
END:STANDARD
BEGIN:DAYLIGHT
TZOFFSETFROM:+0100
TZOFFSETTO:+0200
TZNAME:CEST
DTSTART:20280326T010000
END:DAYLIGHT
BEGIN:STANDARD
TZOFFSETFROM:+0200
TZOFFSETTO:+0100
TZNAME:CET
DTSTART:20281029T010000
END:STANDARD
BEGIN:DAYLIGHT
TZOFFSETFROM:+0100
TZOFFSETTO:+0200
TZNAME:CEST
DTSTART:20290325T010000
END:DAYLIGHT
BEGIN:STANDARD
TZOFFSETFROM:+0200
TZOFFSETTO:+0100
TZNAME:CET
DTSTART:20291028T010000
END:STANDARD
BEGIN:DAYLIGHT
TZOFFSETFROM:+0100
TZOFFSETTO:+0200
TZNAME:CEST
DTSTART:20300331T010000
END:DAYLIGHT
BEGIN:STANDARD
TZOFFSETFROM:+0200
TZOFFSETTO:+0100
TZNAME:CET
DTSTART:20301027T010000
END:STANDARD
END:VTIMEZONE
BEGIN:VEVENT
DTSTART;TZID=Europe/Paris:20280813T060000
DTEND;TZID=Europe/Paris:20280813T140000
DTSTAMP:20260423T084916
CREATED:20260329T162731Z
LAST-MODIFIED:20260329T162731Z
UID:10019302-1849759200-1849788000@www.calendrierdesbrocantes.fr
SUMMARY:Vide greniers d'Aubagne
DESCRIPTION:Vide greniers d’Aubagne \nRéservation obligatoire par téléphone 06 65 19 70 63\nPlacement de 6h à 7 h \nFin du vide grenier à 14h \n15 € les 6 mètres avec véhicule derrière
URL:https://www.calendrierdesbrocantes.fr/event/vide-greniers-daubagne/2028-08-13/
LOCATION:Aubagne\, Aubagne\, 13005\, France
CATEGORIES:Vide-greniers
GEO:43.2926781;5.5676425
END:VEVENT
BEGIN:VEVENT
DTSTART;TZID=Europe/Paris:20280820T060000
DTEND;TZID=Europe/Paris:20280820T140000
DTSTAMP:20260423T084916
CREATED:20260329T162731Z
LAST-MODIFIED:20260329T162731Z
UID:10019303-1850364000-1850392800@www.calendrierdesbrocantes.fr
SUMMARY:Vide greniers d'Aubagne
DESCRIPTION:Vide greniers d’Aubagne \nRéservation obligatoire par téléphone 06 65 19 70 63\nPlacement de 6h à 7 h \nFin du vide grenier à 14h \n15 € les 6 mètres avec véhicule derrière
URL:https://www.calendrierdesbrocantes.fr/event/vide-greniers-daubagne/2028-08-20/
LOCATION:Aubagne\, Aubagne\, 13005\, France
CATEGORIES:Vide-greniers
GEO:43.2926781;5.5676425
END:VEVENT
BEGIN:VEVENT
DTSTART;TZID=Europe/Paris:20280827T060000
DTEND;TZID=Europe/Paris:20280827T140000
DTSTAMP:20260423T084916
CREATED:20260329T162731Z
LAST-MODIFIED:20260329T162731Z
UID:10019304-1850968800-1850997600@www.calendrierdesbrocantes.fr
SUMMARY:Vide greniers d'Aubagne
DESCRIPTION:Vide greniers d’Aubagne \nRéservation obligatoire par téléphone 06 65 19 70 63\nPlacement de 6h à 7 h \nFin du vide grenier à 14h \n15 € les 6 mètres avec véhicule derrière
URL:https://www.calendrierdesbrocantes.fr/event/vide-greniers-daubagne/2028-08-27/
LOCATION:Aubagne\, Aubagne\, 13005\, France
CATEGORIES:Vide-greniers
GEO:43.2926781;5.5676425
END:VEVENT
BEGIN:VEVENT
DTSTART;TZID=Europe/Paris:20280903T060000
DTEND;TZID=Europe/Paris:20280903T140000
DTSTAMP:20260423T084916
CREATED:20260329T162731Z
LAST-MODIFIED:20260329T162731Z
UID:10019305-1851573600-1851602400@www.calendrierdesbrocantes.fr
SUMMARY:Vide greniers d'Aubagne
DESCRIPTION:Vide greniers d’Aubagne \nRéservation obligatoire par téléphone 06 65 19 70 63\nPlacement de 6h à 7 h \nFin du vide grenier à 14h \n15 € les 6 mètres avec véhicule derrière
URL:https://www.calendrierdesbrocantes.fr/event/vide-greniers-daubagne/2028-09-03/
LOCATION:Aubagne\, Aubagne\, 13005\, France
CATEGORIES:Vide-greniers
GEO:43.2926781;5.5676425
END:VEVENT
BEGIN:VEVENT
DTSTART;TZID=Europe/Paris:20280910T060000
DTEND;TZID=Europe/Paris:20280910T140000
DTSTAMP:20260423T084916
CREATED:20260329T162731Z
LAST-MODIFIED:20260329T162731Z
UID:10019306-1852178400-1852207200@www.calendrierdesbrocantes.fr
SUMMARY:Vide greniers d'Aubagne
DESCRIPTION:Vide greniers d’Aubagne \nRéservation obligatoire par téléphone 06 65 19 70 63\nPlacement de 6h à 7 h \nFin du vide grenier à 14h \n15 € les 6 mètres avec véhicule derrière
URL:https://www.calendrierdesbrocantes.fr/event/vide-greniers-daubagne/2028-09-10/
LOCATION:Aubagne\, Aubagne\, 13005\, France
CATEGORIES:Vide-greniers
GEO:43.2926781;5.5676425
END:VEVENT
BEGIN:VEVENT
DTSTART;TZID=Europe/Paris:20280917T060000
DTEND;TZID=Europe/Paris:20280917T140000
DTSTAMP:20260423T084916
CREATED:20260329T162731Z
LAST-MODIFIED:20260329T162731Z
UID:10019307-1852783200-1852812000@www.calendrierdesbrocantes.fr
SUMMARY:Vide greniers d'Aubagne
DESCRIPTION:Vide greniers d’Aubagne \nRéservation obligatoire par téléphone 06 65 19 70 63\nPlacement de 6h à 7 h \nFin du vide grenier à 14h \n15 € les 6 mètres avec véhicule derrière
URL:https://www.calendrierdesbrocantes.fr/event/vide-greniers-daubagne/2028-09-17/
LOCATION:Aubagne\, Aubagne\, 13005\, France
CATEGORIES:Vide-greniers
GEO:43.2926781;5.5676425
END:VEVENT
BEGIN:VEVENT
DTSTART;TZID=Europe/Paris:20280924T060000
DTEND;TZID=Europe/Paris:20280924T140000
DTSTAMP:20260423T084916
CREATED:20260329T162731Z
LAST-MODIFIED:20260329T162731Z
UID:10019308-1853388000-1853416800@www.calendrierdesbrocantes.fr
SUMMARY:Vide greniers d'Aubagne
DESCRIPTION:Vide greniers d’Aubagne \nRéservation obligatoire par téléphone 06 65 19 70 63\nPlacement de 6h à 7 h \nFin du vide grenier à 14h \n15 € les 6 mètres avec véhicule derrière
URL:https://www.calendrierdesbrocantes.fr/event/vide-greniers-daubagne/2028-09-24/
LOCATION:Aubagne\, Aubagne\, 13005\, France
CATEGORIES:Vide-greniers
GEO:43.2926781;5.5676425
END:VEVENT
BEGIN:VEVENT
DTSTART;TZID=Europe/Paris:20281001T060000
DTEND;TZID=Europe/Paris:20281001T140000
DTSTAMP:20260423T084916
CREATED:20260329T162731Z
LAST-MODIFIED:20260329T162731Z
UID:10019309-1853992800-1854021600@www.calendrierdesbrocantes.fr
SUMMARY:Vide greniers d'Aubagne
DESCRIPTION:Vide greniers d’Aubagne \nRéservation obligatoire par téléphone 06 65 19 70 63\nPlacement de 6h à 7 h \nFin du vide grenier à 14h \n15 € les 6 mètres avec véhicule derrière
URL:https://www.calendrierdesbrocantes.fr/event/vide-greniers-daubagne/2028-10-01/
LOCATION:Aubagne\, Aubagne\, 13005\, France
CATEGORIES:Vide-greniers
GEO:43.2926781;5.5676425
END:VEVENT
BEGIN:VEVENT
DTSTART;TZID=Europe/Paris:20281008T060000
DTEND;TZID=Europe/Paris:20281008T140000
DTSTAMP:20260423T084916
CREATED:20260329T162731Z
LAST-MODIFIED:20260329T162731Z
UID:10019310-1854597600-1854626400@www.calendrierdesbrocantes.fr
SUMMARY:Vide greniers d'Aubagne
DESCRIPTION:Vide greniers d’Aubagne \nRéservation obligatoire par téléphone 06 65 19 70 63\nPlacement de 6h à 7 h \nFin du vide grenier à 14h \n15 € les 6 mètres avec véhicule derrière
URL:https://www.calendrierdesbrocantes.fr/event/vide-greniers-daubagne/2028-10-08/
LOCATION:Aubagne\, Aubagne\, 13005\, France
CATEGORIES:Vide-greniers
GEO:43.2926781;5.5676425
END:VEVENT
BEGIN:VEVENT
DTSTART;TZID=Europe/Paris:20281015T060000
DTEND;TZID=Europe/Paris:20281015T140000
DTSTAMP:20260423T084916
CREATED:20260329T162731Z
LAST-MODIFIED:20260329T162731Z
UID:10019311-1855202400-1855231200@www.calendrierdesbrocantes.fr
SUMMARY:Vide greniers d'Aubagne
DESCRIPTION:Vide greniers d’Aubagne \nRéservation obligatoire par téléphone 06 65 19 70 63\nPlacement de 6h à 7 h \nFin du vide grenier à 14h \n15 € les 6 mètres avec véhicule derrière
URL:https://www.calendrierdesbrocantes.fr/event/vide-greniers-daubagne/2028-10-15/
LOCATION:Aubagne\, Aubagne\, 13005\, France
CATEGORIES:Vide-greniers
GEO:43.2926781;5.5676425
END:VEVENT
BEGIN:VEVENT
DTSTART;TZID=Europe/Paris:20281022T060000
DTEND;TZID=Europe/Paris:20281022T140000
DTSTAMP:20260423T084916
CREATED:20260329T162731Z
LAST-MODIFIED:20260329T162731Z
UID:10019312-1855807200-1855836000@www.calendrierdesbrocantes.fr
SUMMARY:Vide greniers d'Aubagne
DESCRIPTION:Vide greniers d’Aubagne \nRéservation obligatoire par téléphone 06 65 19 70 63\nPlacement de 6h à 7 h \nFin du vide grenier à 14h \n15 € les 6 mètres avec véhicule derrière
URL:https://www.calendrierdesbrocantes.fr/event/vide-greniers-daubagne/2028-10-22/
LOCATION:Aubagne\, Aubagne\, 13005\, France
CATEGORIES:Vide-greniers
GEO:43.2926781;5.5676425
END:VEVENT
BEGIN:VEVENT
DTSTART;TZID=Europe/Paris:20281029T060000
DTEND;TZID=Europe/Paris:20281029T140000
DTSTAMP:20260423T084916
CREATED:20260329T162731Z
LAST-MODIFIED:20260329T162731Z
UID:10019313-1856412000-1856440800@www.calendrierdesbrocantes.fr
SUMMARY:Vide greniers d'Aubagne
DESCRIPTION:Vide greniers d’Aubagne \nRéservation obligatoire par téléphone 06 65 19 70 63\nPlacement de 6h à 7 h \nFin du vide grenier à 14h \n15 € les 6 mètres avec véhicule derrière
URL:https://www.calendrierdesbrocantes.fr/event/vide-greniers-daubagne/2028-10-29/
LOCATION:Aubagne\, Aubagne\, 13005\, France
CATEGORIES:Vide-greniers
GEO:43.2926781;5.5676425
END:VEVENT
BEGIN:VEVENT
DTSTART;TZID=Europe/Paris:20281105T060000
DTEND;TZID=Europe/Paris:20281105T140000
DTSTAMP:20260423T084916
CREATED:20260329T162731Z
LAST-MODIFIED:20260329T162731Z
UID:10019314-1857016800-1857045600@www.calendrierdesbrocantes.fr
SUMMARY:Vide greniers d'Aubagne
DESCRIPTION:Vide greniers d’Aubagne \nRéservation obligatoire par téléphone 06 65 19 70 63\nPlacement de 6h à 7 h \nFin du vide grenier à 14h \n15 € les 6 mètres avec véhicule derrière
URL:https://www.calendrierdesbrocantes.fr/event/vide-greniers-daubagne/2028-11-05/
LOCATION:Aubagne\, Aubagne\, 13005\, France
CATEGORIES:Vide-greniers
GEO:43.2926781;5.5676425
END:VEVENT
BEGIN:VEVENT
DTSTART;TZID=Europe/Paris:20281112T060000
DTEND;TZID=Europe/Paris:20281112T140000
DTSTAMP:20260423T084916
CREATED:20260329T162731Z
LAST-MODIFIED:20260329T162731Z
UID:10019315-1857621600-1857650400@www.calendrierdesbrocantes.fr
SUMMARY:Vide greniers d'Aubagne
DESCRIPTION:Vide greniers d’Aubagne \nRéservation obligatoire par téléphone 06 65 19 70 63\nPlacement de 6h à 7 h \nFin du vide grenier à 14h \n15 € les 6 mètres avec véhicule derrière
URL:https://www.calendrierdesbrocantes.fr/event/vide-greniers-daubagne/2028-11-12/
LOCATION:Aubagne\, Aubagne\, 13005\, France
CATEGORIES:Vide-greniers
GEO:43.2926781;5.5676425
END:VEVENT
BEGIN:VEVENT
DTSTART;TZID=Europe/Paris:20281119T060000
DTEND;TZID=Europe/Paris:20281119T140000
DTSTAMP:20260423T084916
CREATED:20260329T162731Z
LAST-MODIFIED:20260329T162731Z
UID:10019316-1858226400-1858255200@www.calendrierdesbrocantes.fr
SUMMARY:Vide greniers d'Aubagne
DESCRIPTION:Vide greniers d’Aubagne \nRéservation obligatoire par téléphone 06 65 19 70 63\nPlacement de 6h à 7 h \nFin du vide grenier à 14h \n15 € les 6 mètres avec véhicule derrière
URL:https://www.calendrierdesbrocantes.fr/event/vide-greniers-daubagne/2028-11-19/
LOCATION:Aubagne\, Aubagne\, 13005\, France
CATEGORIES:Vide-greniers
GEO:43.2926781;5.5676425
END:VEVENT
BEGIN:VEVENT
DTSTART;TZID=Europe/Paris:20281126T060000
DTEND;TZID=Europe/Paris:20281126T140000
DTSTAMP:20260423T084916
CREATED:20260329T162731Z
LAST-MODIFIED:20260329T162731Z
UID:10019317-1858831200-1858860000@www.calendrierdesbrocantes.fr
SUMMARY:Vide greniers d'Aubagne
DESCRIPTION:Vide greniers d’Aubagne \nRéservation obligatoire par téléphone 06 65 19 70 63\nPlacement de 6h à 7 h \nFin du vide grenier à 14h \n15 € les 6 mètres avec véhicule derrière
URL:https://www.calendrierdesbrocantes.fr/event/vide-greniers-daubagne/2028-11-26/
LOCATION:Aubagne\, Aubagne\, 13005\, France
CATEGORIES:Vide-greniers
GEO:43.2926781;5.5676425
END:VEVENT
BEGIN:VEVENT
DTSTART;TZID=Europe/Paris:20281203T060000
DTEND;TZID=Europe/Paris:20281203T140000
DTSTAMP:20260423T084916
CREATED:20260329T162731Z
LAST-MODIFIED:20260329T162731Z
UID:10019318-1859436000-1859464800@www.calendrierdesbrocantes.fr
SUMMARY:Vide greniers d'Aubagne
DESCRIPTION:Vide greniers d’Aubagne \nRéservation obligatoire par téléphone 06 65 19 70 63\nPlacement de 6h à 7 h \nFin du vide grenier à 14h \n15 € les 6 mètres avec véhicule derrière
URL:https://www.calendrierdesbrocantes.fr/event/vide-greniers-daubagne/2028-12-03/
LOCATION:Aubagne\, Aubagne\, 13005\, France
CATEGORIES:Vide-greniers
GEO:43.2926781;5.5676425
END:VEVENT
BEGIN:VEVENT
DTSTART;TZID=Europe/Paris:20281210T060000
DTEND;TZID=Europe/Paris:20281210T140000
DTSTAMP:20260423T084916
CREATED:20260329T162731Z
LAST-MODIFIED:20260329T162731Z
UID:10019319-1860040800-1860069600@www.calendrierdesbrocantes.fr
SUMMARY:Vide greniers d'Aubagne
DESCRIPTION:Vide greniers d’Aubagne \nRéservation obligatoire par téléphone 06 65 19 70 63\nPlacement de 6h à 7 h \nFin du vide grenier à 14h \n15 € les 6 mètres avec véhicule derrière
URL:https://www.calendrierdesbrocantes.fr/event/vide-greniers-daubagne/2028-12-10/
LOCATION:Aubagne\, Aubagne\, 13005\, France
CATEGORIES:Vide-greniers
GEO:43.2926781;5.5676425
END:VEVENT
BEGIN:VEVENT
DTSTART;TZID=Europe/Paris:20281217T060000
DTEND;TZID=Europe/Paris:20281217T140000
DTSTAMP:20260423T084916
CREATED:20260329T162731Z
LAST-MODIFIED:20260329T162731Z
UID:10019320-1860645600-1860674400@www.calendrierdesbrocantes.fr
SUMMARY:Vide greniers d'Aubagne
DESCRIPTION:Vide greniers d’Aubagne \nRéservation obligatoire par téléphone 06 65 19 70 63\nPlacement de 6h à 7 h \nFin du vide grenier à 14h \n15 € les 6 mètres avec véhicule derrière
URL:https://www.calendrierdesbrocantes.fr/event/vide-greniers-daubagne/2028-12-17/
LOCATION:Aubagne\, Aubagne\, 13005\, France
CATEGORIES:Vide-greniers
GEO:43.2926781;5.5676425
END:VEVENT
BEGIN:VEVENT
DTSTART;TZID=Europe/Paris:20281224T060000
DTEND;TZID=Europe/Paris:20281224T140000
DTSTAMP:20260423T084916
CREATED:20260329T162731Z
LAST-MODIFIED:20260329T162731Z
UID:10019321-1861250400-1861279200@www.calendrierdesbrocantes.fr
SUMMARY:Vide greniers d'Aubagne
DESCRIPTION:Vide greniers d’Aubagne \nRéservation obligatoire par téléphone 06 65 19 70 63\nPlacement de 6h à 7 h \nFin du vide grenier à 14h \n15 € les 6 mètres avec véhicule derrière
URL:https://www.calendrierdesbrocantes.fr/event/vide-greniers-daubagne/2028-12-24/
LOCATION:Aubagne\, Aubagne\, 13005\, France
CATEGORIES:Vide-greniers
GEO:43.2926781;5.5676425
END:VEVENT
BEGIN:VEVENT
DTSTART;TZID=Europe/Paris:20281231T060000
DTEND;TZID=Europe/Paris:20281231T140000
DTSTAMP:20260423T084916
CREATED:20260329T162731Z
LAST-MODIFIED:20260329T162731Z
UID:10019322-1861855200-1861884000@www.calendrierdesbrocantes.fr
SUMMARY:Vide greniers d'Aubagne
DESCRIPTION:Vide greniers d’Aubagne \nRéservation obligatoire par téléphone 06 65 19 70 63\nPlacement de 6h à 7 h \nFin du vide grenier à 14h \n15 € les 6 mètres avec véhicule derrière
URL:https://www.calendrierdesbrocantes.fr/event/vide-greniers-daubagne/2028-12-31/
LOCATION:Aubagne\, Aubagne\, 13005\, France
CATEGORIES:Vide-greniers
GEO:43.2926781;5.5676425
END:VEVENT
BEGIN:VEVENT
DTSTART;TZID=Europe/Paris:20290107T060000
DTEND;TZID=Europe/Paris:20290107T140000
DTSTAMP:20260423T084916
CREATED:20260329T162731Z
LAST-MODIFIED:20260329T162731Z
UID:10019323-1862460000-1862488800@www.calendrierdesbrocantes.fr
SUMMARY:Vide greniers d'Aubagne
DESCRIPTION:Vide greniers d’Aubagne \nRéservation obligatoire par téléphone 06 65 19 70 63\nPlacement de 6h à 7 h \nFin du vide grenier à 14h \n15 € les 6 mètres avec véhicule derrière
URL:https://www.calendrierdesbrocantes.fr/event/vide-greniers-daubagne/2029-01-07/
LOCATION:Aubagne\, Aubagne\, 13005\, France
CATEGORIES:Vide-greniers
GEO:43.2926781;5.5676425
END:VEVENT
BEGIN:VEVENT
DTSTART;TZID=Europe/Paris:20290114T060000
DTEND;TZID=Europe/Paris:20290114T140000
DTSTAMP:20260423T084916
CREATED:20260329T162731Z
LAST-MODIFIED:20260329T162731Z
UID:10019324-1863064800-1863093600@www.calendrierdesbrocantes.fr
SUMMARY:Vide greniers d'Aubagne
DESCRIPTION:Vide greniers d’Aubagne \nRéservation obligatoire par téléphone 06 65 19 70 63\nPlacement de 6h à 7 h \nFin du vide grenier à 14h \n15 € les 6 mètres avec véhicule derrière
URL:https://www.calendrierdesbrocantes.fr/event/vide-greniers-daubagne/2029-01-14/
LOCATION:Aubagne\, Aubagne\, 13005\, France
CATEGORIES:Vide-greniers
GEO:43.2926781;5.5676425
END:VEVENT
BEGIN:VEVENT
DTSTART;TZID=Europe/Paris:20290121T060000
DTEND;TZID=Europe/Paris:20290121T140000
DTSTAMP:20260423T084916
CREATED:20260329T162731Z
LAST-MODIFIED:20260329T162731Z
UID:10019325-1863669600-1863698400@www.calendrierdesbrocantes.fr
SUMMARY:Vide greniers d'Aubagne
DESCRIPTION:Vide greniers d’Aubagne \nRéservation obligatoire par téléphone 06 65 19 70 63\nPlacement de 6h à 7 h \nFin du vide grenier à 14h \n15 € les 6 mètres avec véhicule derrière
URL:https://www.calendrierdesbrocantes.fr/event/vide-greniers-daubagne/2029-01-21/
LOCATION:Aubagne\, Aubagne\, 13005\, France
CATEGORIES:Vide-greniers
GEO:43.2926781;5.5676425
END:VEVENT
BEGIN:VEVENT
DTSTART;TZID=Europe/Paris:20290128T060000
DTEND;TZID=Europe/Paris:20290128T140000
DTSTAMP:20260423T084916
CREATED:20260329T162731Z
LAST-MODIFIED:20260329T162731Z
UID:10019326-1864274400-1864303200@www.calendrierdesbrocantes.fr
SUMMARY:Vide greniers d'Aubagne
DESCRIPTION:Vide greniers d’Aubagne \nRéservation obligatoire par téléphone 06 65 19 70 63\nPlacement de 6h à 7 h \nFin du vide grenier à 14h \n15 € les 6 mètres avec véhicule derrière
URL:https://www.calendrierdesbrocantes.fr/event/vide-greniers-daubagne/2029-01-28/
LOCATION:Aubagne\, Aubagne\, 13005\, France
CATEGORIES:Vide-greniers
GEO:43.2926781;5.5676425
END:VEVENT
BEGIN:VEVENT
DTSTART;TZID=Europe/Paris:20290204T060000
DTEND;TZID=Europe/Paris:20290204T140000
DTSTAMP:20260423T084916
CREATED:20260329T162731Z
LAST-MODIFIED:20260329T162731Z
UID:10019327-1864879200-1864908000@www.calendrierdesbrocantes.fr
SUMMARY:Vide greniers d'Aubagne
DESCRIPTION:Vide greniers d’Aubagne \nRéservation obligatoire par téléphone 06 65 19 70 63\nPlacement de 6h à 7 h \nFin du vide grenier à 14h \n15 € les 6 mètres avec véhicule derrière
URL:https://www.calendrierdesbrocantes.fr/event/vide-greniers-daubagne/2029-02-04/
LOCATION:Aubagne\, Aubagne\, 13005\, France
CATEGORIES:Vide-greniers
GEO:43.2926781;5.5676425
END:VEVENT
BEGIN:VEVENT
DTSTART;TZID=Europe/Paris:20290211T060000
DTEND;TZID=Europe/Paris:20290211T140000
DTSTAMP:20260423T084916
CREATED:20260329T162731Z
LAST-MODIFIED:20260329T162731Z
UID:10019328-1865484000-1865512800@www.calendrierdesbrocantes.fr
SUMMARY:Vide greniers d'Aubagne
DESCRIPTION:Vide greniers d’Aubagne \nRéservation obligatoire par téléphone 06 65 19 70 63\nPlacement de 6h à 7 h \nFin du vide grenier à 14h \n15 € les 6 mètres avec véhicule derrière
URL:https://www.calendrierdesbrocantes.fr/event/vide-greniers-daubagne/2029-02-11/
LOCATION:Aubagne\, Aubagne\, 13005\, France
CATEGORIES:Vide-greniers
GEO:43.2926781;5.5676425
END:VEVENT
BEGIN:VEVENT
DTSTART;TZID=Europe/Paris:20290218T060000
DTEND;TZID=Europe/Paris:20290218T140000
DTSTAMP:20260423T084916
CREATED:20260329T162731Z
LAST-MODIFIED:20260329T162731Z
UID:10019329-1866088800-1866117600@www.calendrierdesbrocantes.fr
SUMMARY:Vide greniers d'Aubagne
DESCRIPTION:Vide greniers d’Aubagne \nRéservation obligatoire par téléphone 06 65 19 70 63\nPlacement de 6h à 7 h \nFin du vide grenier à 14h \n15 € les 6 mètres avec véhicule derrière
URL:https://www.calendrierdesbrocantes.fr/event/vide-greniers-daubagne/2029-02-18/
LOCATION:Aubagne\, Aubagne\, 13005\, France
CATEGORIES:Vide-greniers
GEO:43.2926781;5.5676425
END:VEVENT
BEGIN:VEVENT
DTSTART;TZID=Europe/Paris:20290225T060000
DTEND;TZID=Europe/Paris:20290225T140000
DTSTAMP:20260423T084916
CREATED:20260329T162731Z
LAST-MODIFIED:20260329T162731Z
UID:10019330-1866693600-1866722400@www.calendrierdesbrocantes.fr
SUMMARY:Vide greniers d'Aubagne
DESCRIPTION:Vide greniers d’Aubagne \nRéservation obligatoire par téléphone 06 65 19 70 63\nPlacement de 6h à 7 h \nFin du vide grenier à 14h \n15 € les 6 mètres avec véhicule derrière
URL:https://www.calendrierdesbrocantes.fr/event/vide-greniers-daubagne/2029-02-25/
LOCATION:Aubagne\, Aubagne\, 13005\, France
CATEGORIES:Vide-greniers
GEO:43.2926781;5.5676425
END:VEVENT
BEGIN:VEVENT
DTSTART;TZID=Europe/Paris:20290304T060000
DTEND;TZID=Europe/Paris:20290304T140000
DTSTAMP:20260423T084916
CREATED:20260329T162731Z
LAST-MODIFIED:20260329T162731Z
UID:10019331-1867298400-1867327200@www.calendrierdesbrocantes.fr
SUMMARY:Vide greniers d'Aubagne
DESCRIPTION:Vide greniers d’Aubagne \nRéservation obligatoire par téléphone 06 65 19 70 63\nPlacement de 6h à 7 h \nFin du vide grenier à 14h \n15 € les 6 mètres avec véhicule derrière
URL:https://www.calendrierdesbrocantes.fr/event/vide-greniers-daubagne/2029-03-04/
LOCATION:Aubagne\, Aubagne\, 13005\, France
CATEGORIES:Vide-greniers
GEO:43.2926781;5.5676425
END:VEVENT
END:VCALENDAR