BEGIN:VCALENDAR
VERSION:2.0
PRODID:-//Calendrier des brocantes - ECPv6.15.20//NONSGML v1.0//EN
CALSCALE:GREGORIAN
METHOD:PUBLISH
X-WR-CALNAME:Calendrier des brocantes
X-ORIGINAL-URL:https://www.calendrierdesbrocantes.fr
X-WR-CALDESC:Évènements pour Calendrier des brocantes
REFRESH-INTERVAL;VALUE=DURATION:PT1H
X-Robots-Tag:noindex
X-PUBLISHED-TTL:PT1H
BEGIN:VTIMEZONE
TZID:Europe/Paris
BEGIN:DAYLIGHT
TZOFFSETFROM:+0100
TZOFFSETTO:+0200
TZNAME:CEST
DTSTART:20280326T010000
END:DAYLIGHT
BEGIN:STANDARD
TZOFFSETFROM:+0200
TZOFFSETTO:+0100
TZNAME:CET
DTSTART:20281029T010000
END:STANDARD
BEGIN:DAYLIGHT
TZOFFSETFROM:+0100
TZOFFSETTO:+0200
TZNAME:CEST
DTSTART:20290325T010000
END:DAYLIGHT
BEGIN:STANDARD
TZOFFSETFROM:+0200
TZOFFSETTO:+0100
TZNAME:CET
DTSTART:20291028T010000
END:STANDARD
BEGIN:DAYLIGHT
TZOFFSETFROM:+0100
TZOFFSETTO:+0200
TZNAME:CEST
DTSTART:20300331T010000
END:DAYLIGHT
BEGIN:STANDARD
TZOFFSETFROM:+0200
TZOFFSETTO:+0100
TZNAME:CET
DTSTART:20301027T010000
END:STANDARD
BEGIN:DAYLIGHT
TZOFFSETFROM:+0100
TZOFFSETTO:+0200
TZNAME:CEST
DTSTART:20310330T010000
END:DAYLIGHT
BEGIN:STANDARD
TZOFFSETFROM:+0200
TZOFFSETTO:+0100
TZNAME:CET
DTSTART:20311026T010000
END:STANDARD
END:VTIMEZONE
BEGIN:VEVENT
DTSTART;TZID=Europe/Paris:20291007T060000
DTEND;TZID=Europe/Paris:20291007T140000
DTSTAMP:20260423T175231
CREATED:20260329T162731Z
LAST-MODIFIED:20260329T162731Z
UID:10019362-1886047200-1886076000@www.calendrierdesbrocantes.fr
SUMMARY:Vide greniers d'Aubagne
DESCRIPTION:Vide greniers d’Aubagne \nRéservation obligatoire par téléphone 06 65 19 70 63\nPlacement de 6h à 7 h \nFin du vide grenier à 14h \n15 € les 6 mètres avec véhicule derrière
URL:https://www.calendrierdesbrocantes.fr/event/vide-greniers-daubagne/2029-10-07/
LOCATION:Aubagne\, Aubagne\, 13005\, France
CATEGORIES:Vide-greniers
GEO:43.2926781;5.5676425
END:VEVENT
BEGIN:VEVENT
DTSTART;TZID=Europe/Paris:20291014T060000
DTEND;TZID=Europe/Paris:20291014T140000
DTSTAMP:20260423T175231
CREATED:20260329T162731Z
LAST-MODIFIED:20260329T162731Z
UID:10019363-1886652000-1886680800@www.calendrierdesbrocantes.fr
SUMMARY:Vide greniers d'Aubagne
DESCRIPTION:Vide greniers d’Aubagne \nRéservation obligatoire par téléphone 06 65 19 70 63\nPlacement de 6h à 7 h \nFin du vide grenier à 14h \n15 € les 6 mètres avec véhicule derrière
URL:https://www.calendrierdesbrocantes.fr/event/vide-greniers-daubagne/2029-10-14/
LOCATION:Aubagne\, Aubagne\, 13005\, France
CATEGORIES:Vide-greniers
GEO:43.2926781;5.5676425
END:VEVENT
BEGIN:VEVENT
DTSTART;TZID=Europe/Paris:20291021T060000
DTEND;TZID=Europe/Paris:20291021T140000
DTSTAMP:20260423T175231
CREATED:20260329T162731Z
LAST-MODIFIED:20260329T162731Z
UID:10019364-1887256800-1887285600@www.calendrierdesbrocantes.fr
SUMMARY:Vide greniers d'Aubagne
DESCRIPTION:Vide greniers d’Aubagne \nRéservation obligatoire par téléphone 06 65 19 70 63\nPlacement de 6h à 7 h \nFin du vide grenier à 14h \n15 € les 6 mètres avec véhicule derrière
URL:https://www.calendrierdesbrocantes.fr/event/vide-greniers-daubagne/2029-10-21/
LOCATION:Aubagne\, Aubagne\, 13005\, France
CATEGORIES:Vide-greniers
GEO:43.2926781;5.5676425
END:VEVENT
BEGIN:VEVENT
DTSTART;TZID=Europe/Paris:20291028T060000
DTEND;TZID=Europe/Paris:20291028T140000
DTSTAMP:20260423T175231
CREATED:20260329T162731Z
LAST-MODIFIED:20260329T162731Z
UID:10019365-1887861600-1887890400@www.calendrierdesbrocantes.fr
SUMMARY:Vide greniers d'Aubagne
DESCRIPTION:Vide greniers d’Aubagne \nRéservation obligatoire par téléphone 06 65 19 70 63\nPlacement de 6h à 7 h \nFin du vide grenier à 14h \n15 € les 6 mètres avec véhicule derrière
URL:https://www.calendrierdesbrocantes.fr/event/vide-greniers-daubagne/2029-10-28/
LOCATION:Aubagne\, Aubagne\, 13005\, France
CATEGORIES:Vide-greniers
GEO:43.2926781;5.5676425
END:VEVENT
BEGIN:VEVENT
DTSTART;TZID=Europe/Paris:20291104T060000
DTEND;TZID=Europe/Paris:20291104T140000
DTSTAMP:20260423T175231
CREATED:20260329T162731Z
LAST-MODIFIED:20260329T162731Z
UID:10019366-1888466400-1888495200@www.calendrierdesbrocantes.fr
SUMMARY:Vide greniers d'Aubagne
DESCRIPTION:Vide greniers d’Aubagne \nRéservation obligatoire par téléphone 06 65 19 70 63\nPlacement de 6h à 7 h \nFin du vide grenier à 14h \n15 € les 6 mètres avec véhicule derrière
URL:https://www.calendrierdesbrocantes.fr/event/vide-greniers-daubagne/2029-11-04/
LOCATION:Aubagne\, Aubagne\, 13005\, France
CATEGORIES:Vide-greniers
GEO:43.2926781;5.5676425
END:VEVENT
BEGIN:VEVENT
DTSTART;TZID=Europe/Paris:20291111T060000
DTEND;TZID=Europe/Paris:20291111T140000
DTSTAMP:20260423T175231
CREATED:20260329T162731Z
LAST-MODIFIED:20260329T162731Z
UID:10019367-1889071200-1889100000@www.calendrierdesbrocantes.fr
SUMMARY:Vide greniers d'Aubagne
DESCRIPTION:Vide greniers d’Aubagne \nRéservation obligatoire par téléphone 06 65 19 70 63\nPlacement de 6h à 7 h \nFin du vide grenier à 14h \n15 € les 6 mètres avec véhicule derrière
URL:https://www.calendrierdesbrocantes.fr/event/vide-greniers-daubagne/2029-11-11/
LOCATION:Aubagne\, Aubagne\, 13005\, France
CATEGORIES:Vide-greniers
GEO:43.2926781;5.5676425
END:VEVENT
BEGIN:VEVENT
DTSTART;TZID=Europe/Paris:20291118T060000
DTEND;TZID=Europe/Paris:20291118T140000
DTSTAMP:20260423T175231
CREATED:20260329T162731Z
LAST-MODIFIED:20260329T162731Z
UID:10019368-1889676000-1889704800@www.calendrierdesbrocantes.fr
SUMMARY:Vide greniers d'Aubagne
DESCRIPTION:Vide greniers d’Aubagne \nRéservation obligatoire par téléphone 06 65 19 70 63\nPlacement de 6h à 7 h \nFin du vide grenier à 14h \n15 € les 6 mètres avec véhicule derrière
URL:https://www.calendrierdesbrocantes.fr/event/vide-greniers-daubagne/2029-11-18/
LOCATION:Aubagne\, Aubagne\, 13005\, France
CATEGORIES:Vide-greniers
GEO:43.2926781;5.5676425
END:VEVENT
BEGIN:VEVENT
DTSTART;TZID=Europe/Paris:20291125T060000
DTEND;TZID=Europe/Paris:20291125T140000
DTSTAMP:20260423T175231
CREATED:20260329T162731Z
LAST-MODIFIED:20260329T162731Z
UID:10019369-1890280800-1890309600@www.calendrierdesbrocantes.fr
SUMMARY:Vide greniers d'Aubagne
DESCRIPTION:Vide greniers d’Aubagne \nRéservation obligatoire par téléphone 06 65 19 70 63\nPlacement de 6h à 7 h \nFin du vide grenier à 14h \n15 € les 6 mètres avec véhicule derrière
URL:https://www.calendrierdesbrocantes.fr/event/vide-greniers-daubagne/2029-11-25/
LOCATION:Aubagne\, Aubagne\, 13005\, France
CATEGORIES:Vide-greniers
GEO:43.2926781;5.5676425
END:VEVENT
BEGIN:VEVENT
DTSTART;TZID=Europe/Paris:20291202T060000
DTEND;TZID=Europe/Paris:20291202T140000
DTSTAMP:20260423T175231
CREATED:20260329T162731Z
LAST-MODIFIED:20260329T162731Z
UID:10019370-1890885600-1890914400@www.calendrierdesbrocantes.fr
SUMMARY:Vide greniers d'Aubagne
DESCRIPTION:Vide greniers d’Aubagne \nRéservation obligatoire par téléphone 06 65 19 70 63\nPlacement de 6h à 7 h \nFin du vide grenier à 14h \n15 € les 6 mètres avec véhicule derrière
URL:https://www.calendrierdesbrocantes.fr/event/vide-greniers-daubagne/2029-12-02/
LOCATION:Aubagne\, Aubagne\, 13005\, France
CATEGORIES:Vide-greniers
GEO:43.2926781;5.5676425
END:VEVENT
BEGIN:VEVENT
DTSTART;TZID=Europe/Paris:20291209T060000
DTEND;TZID=Europe/Paris:20291209T140000
DTSTAMP:20260423T175231
CREATED:20260329T162731Z
LAST-MODIFIED:20260329T162731Z
UID:10019371-1891490400-1891519200@www.calendrierdesbrocantes.fr
SUMMARY:Vide greniers d'Aubagne
DESCRIPTION:Vide greniers d’Aubagne \nRéservation obligatoire par téléphone 06 65 19 70 63\nPlacement de 6h à 7 h \nFin du vide grenier à 14h \n15 € les 6 mètres avec véhicule derrière
URL:https://www.calendrierdesbrocantes.fr/event/vide-greniers-daubagne/2029-12-09/
LOCATION:Aubagne\, Aubagne\, 13005\, France
CATEGORIES:Vide-greniers
GEO:43.2926781;5.5676425
END:VEVENT
BEGIN:VEVENT
DTSTART;TZID=Europe/Paris:20291216T060000
DTEND;TZID=Europe/Paris:20291216T140000
DTSTAMP:20260423T175231
CREATED:20260329T162731Z
LAST-MODIFIED:20260329T162731Z
UID:10019372-1892095200-1892124000@www.calendrierdesbrocantes.fr
SUMMARY:Vide greniers d'Aubagne
DESCRIPTION:Vide greniers d’Aubagne \nRéservation obligatoire par téléphone 06 65 19 70 63\nPlacement de 6h à 7 h \nFin du vide grenier à 14h \n15 € les 6 mètres avec véhicule derrière
URL:https://www.calendrierdesbrocantes.fr/event/vide-greniers-daubagne/2029-12-16/
LOCATION:Aubagne\, Aubagne\, 13005\, France
CATEGORIES:Vide-greniers
GEO:43.2926781;5.5676425
END:VEVENT
BEGIN:VEVENT
DTSTART;TZID=Europe/Paris:20291223T060000
DTEND;TZID=Europe/Paris:20291223T140000
DTSTAMP:20260423T175231
CREATED:20260329T162731Z
LAST-MODIFIED:20260329T162731Z
UID:10019373-1892700000-1892728800@www.calendrierdesbrocantes.fr
SUMMARY:Vide greniers d'Aubagne
DESCRIPTION:Vide greniers d’Aubagne \nRéservation obligatoire par téléphone 06 65 19 70 63\nPlacement de 6h à 7 h \nFin du vide grenier à 14h \n15 € les 6 mètres avec véhicule derrière
URL:https://www.calendrierdesbrocantes.fr/event/vide-greniers-daubagne/2029-12-23/
LOCATION:Aubagne\, Aubagne\, 13005\, France
CATEGORIES:Vide-greniers
GEO:43.2926781;5.5676425
END:VEVENT
BEGIN:VEVENT
DTSTART;TZID=Europe/Paris:20291230T060000
DTEND;TZID=Europe/Paris:20291230T140000
DTSTAMP:20260423T175231
CREATED:20260329T162731Z
LAST-MODIFIED:20260329T162731Z
UID:10019374-1893304800-1893333600@www.calendrierdesbrocantes.fr
SUMMARY:Vide greniers d'Aubagne
DESCRIPTION:Vide greniers d’Aubagne \nRéservation obligatoire par téléphone 06 65 19 70 63\nPlacement de 6h à 7 h \nFin du vide grenier à 14h \n15 € les 6 mètres avec véhicule derrière
URL:https://www.calendrierdesbrocantes.fr/event/vide-greniers-daubagne/2029-12-30/
LOCATION:Aubagne\, Aubagne\, 13005\, France
CATEGORIES:Vide-greniers
GEO:43.2926781;5.5676425
END:VEVENT
BEGIN:VEVENT
DTSTART;TZID=Europe/Paris:20300106T060000
DTEND;TZID=Europe/Paris:20300106T140000
DTSTAMP:20260423T175231
CREATED:20260329T162731Z
LAST-MODIFIED:20260329T162731Z
UID:10019375-1893909600-1893938400@www.calendrierdesbrocantes.fr
SUMMARY:Vide greniers d'Aubagne
DESCRIPTION:Vide greniers d’Aubagne \nRéservation obligatoire par téléphone 06 65 19 70 63\nPlacement de 6h à 7 h \nFin du vide grenier à 14h \n15 € les 6 mètres avec véhicule derrière
URL:https://www.calendrierdesbrocantes.fr/event/vide-greniers-daubagne/2030-01-06/
LOCATION:Aubagne\, Aubagne\, 13005\, France
CATEGORIES:Vide-greniers
GEO:43.2926781;5.5676425
END:VEVENT
BEGIN:VEVENT
DTSTART;TZID=Europe/Paris:20300113T060000
DTEND;TZID=Europe/Paris:20300113T140000
DTSTAMP:20260423T175231
CREATED:20260329T162731Z
LAST-MODIFIED:20260329T162731Z
UID:10019376-1894514400-1894543200@www.calendrierdesbrocantes.fr
SUMMARY:Vide greniers d'Aubagne
DESCRIPTION:Vide greniers d’Aubagne \nRéservation obligatoire par téléphone 06 65 19 70 63\nPlacement de 6h à 7 h \nFin du vide grenier à 14h \n15 € les 6 mètres avec véhicule derrière
URL:https://www.calendrierdesbrocantes.fr/event/vide-greniers-daubagne/2030-01-13/
LOCATION:Aubagne\, Aubagne\, 13005\, France
CATEGORIES:Vide-greniers
GEO:43.2926781;5.5676425
END:VEVENT
BEGIN:VEVENT
DTSTART;TZID=Europe/Paris:20300120T060000
DTEND;TZID=Europe/Paris:20300120T140000
DTSTAMP:20260423T175231
CREATED:20260329T162731Z
LAST-MODIFIED:20260329T162731Z
UID:10019377-1895119200-1895148000@www.calendrierdesbrocantes.fr
SUMMARY:Vide greniers d'Aubagne
DESCRIPTION:Vide greniers d’Aubagne \nRéservation obligatoire par téléphone 06 65 19 70 63\nPlacement de 6h à 7 h \nFin du vide grenier à 14h \n15 € les 6 mètres avec véhicule derrière
URL:https://www.calendrierdesbrocantes.fr/event/vide-greniers-daubagne/2030-01-20/
LOCATION:Aubagne\, Aubagne\, 13005\, France
CATEGORIES:Vide-greniers
GEO:43.2926781;5.5676425
END:VEVENT
BEGIN:VEVENT
DTSTART;TZID=Europe/Paris:20300127T060000
DTEND;TZID=Europe/Paris:20300127T140000
DTSTAMP:20260423T175231
CREATED:20260329T162731Z
LAST-MODIFIED:20260329T162731Z
UID:10019378-1895724000-1895752800@www.calendrierdesbrocantes.fr
SUMMARY:Vide greniers d'Aubagne
DESCRIPTION:Vide greniers d’Aubagne \nRéservation obligatoire par téléphone 06 65 19 70 63\nPlacement de 6h à 7 h \nFin du vide grenier à 14h \n15 € les 6 mètres avec véhicule derrière
URL:https://www.calendrierdesbrocantes.fr/event/vide-greniers-daubagne/2030-01-27/
LOCATION:Aubagne\, Aubagne\, 13005\, France
CATEGORIES:Vide-greniers
GEO:43.2926781;5.5676425
END:VEVENT
BEGIN:VEVENT
DTSTART;TZID=Europe/Paris:20300203T060000
DTEND;TZID=Europe/Paris:20300203T140000
DTSTAMP:20260423T175231
CREATED:20260329T162731Z
LAST-MODIFIED:20260329T162731Z
UID:10019379-1896328800-1896357600@www.calendrierdesbrocantes.fr
SUMMARY:Vide greniers d'Aubagne
DESCRIPTION:Vide greniers d’Aubagne \nRéservation obligatoire par téléphone 06 65 19 70 63\nPlacement de 6h à 7 h \nFin du vide grenier à 14h \n15 € les 6 mètres avec véhicule derrière
URL:https://www.calendrierdesbrocantes.fr/event/vide-greniers-daubagne/2030-02-03/
LOCATION:Aubagne\, Aubagne\, 13005\, France
CATEGORIES:Vide-greniers
GEO:43.2926781;5.5676425
END:VEVENT
BEGIN:VEVENT
DTSTART;TZID=Europe/Paris:20300210T060000
DTEND;TZID=Europe/Paris:20300210T140000
DTSTAMP:20260423T175231
CREATED:20260329T162731Z
LAST-MODIFIED:20260329T162731Z
UID:10019380-1896933600-1896962400@www.calendrierdesbrocantes.fr
SUMMARY:Vide greniers d'Aubagne
DESCRIPTION:Vide greniers d’Aubagne \nRéservation obligatoire par téléphone 06 65 19 70 63\nPlacement de 6h à 7 h \nFin du vide grenier à 14h \n15 € les 6 mètres avec véhicule derrière
URL:https://www.calendrierdesbrocantes.fr/event/vide-greniers-daubagne/2030-02-10/
LOCATION:Aubagne\, Aubagne\, 13005\, France
CATEGORIES:Vide-greniers
GEO:43.2926781;5.5676425
END:VEVENT
BEGIN:VEVENT
DTSTART;TZID=Europe/Paris:20300217T060000
DTEND;TZID=Europe/Paris:20300217T140000
DTSTAMP:20260423T175231
CREATED:20260329T162731Z
LAST-MODIFIED:20260329T162731Z
UID:10019381-1897538400-1897567200@www.calendrierdesbrocantes.fr
SUMMARY:Vide greniers d'Aubagne
DESCRIPTION:Vide greniers d’Aubagne \nRéservation obligatoire par téléphone 06 65 19 70 63\nPlacement de 6h à 7 h \nFin du vide grenier à 14h \n15 € les 6 mètres avec véhicule derrière
URL:https://www.calendrierdesbrocantes.fr/event/vide-greniers-daubagne/2030-02-17/
LOCATION:Aubagne\, Aubagne\, 13005\, France
CATEGORIES:Vide-greniers
GEO:43.2926781;5.5676425
END:VEVENT
BEGIN:VEVENT
DTSTART;TZID=Europe/Paris:20300224T060000
DTEND;TZID=Europe/Paris:20300224T140000
DTSTAMP:20260423T175231
CREATED:20260329T162731Z
LAST-MODIFIED:20260329T162731Z
UID:10019382-1898143200-1898172000@www.calendrierdesbrocantes.fr
SUMMARY:Vide greniers d'Aubagne
DESCRIPTION:Vide greniers d’Aubagne \nRéservation obligatoire par téléphone 06 65 19 70 63\nPlacement de 6h à 7 h \nFin du vide grenier à 14h \n15 € les 6 mètres avec véhicule derrière
URL:https://www.calendrierdesbrocantes.fr/event/vide-greniers-daubagne/2030-02-24/
LOCATION:Aubagne\, Aubagne\, 13005\, France
CATEGORIES:Vide-greniers
GEO:43.2926781;5.5676425
END:VEVENT
BEGIN:VEVENT
DTSTART;TZID=Europe/Paris:20300303T060000
DTEND;TZID=Europe/Paris:20300303T140000
DTSTAMP:20260423T175231
CREATED:20260329T162731Z
LAST-MODIFIED:20260329T162731Z
UID:10019383-1898748000-1898776800@www.calendrierdesbrocantes.fr
SUMMARY:Vide greniers d'Aubagne
DESCRIPTION:Vide greniers d’Aubagne \nRéservation obligatoire par téléphone 06 65 19 70 63\nPlacement de 6h à 7 h \nFin du vide grenier à 14h \n15 € les 6 mètres avec véhicule derrière
URL:https://www.calendrierdesbrocantes.fr/event/vide-greniers-daubagne/2030-03-03/
LOCATION:Aubagne\, Aubagne\, 13005\, France
CATEGORIES:Vide-greniers
GEO:43.2926781;5.5676425
END:VEVENT
BEGIN:VEVENT
DTSTART;TZID=Europe/Paris:20300310T060000
DTEND;TZID=Europe/Paris:20300310T140000
DTSTAMP:20260423T175231
CREATED:20260329T162731Z
LAST-MODIFIED:20260329T162731Z
UID:10019384-1899352800-1899381600@www.calendrierdesbrocantes.fr
SUMMARY:Vide greniers d'Aubagne
DESCRIPTION:Vide greniers d’Aubagne \nRéservation obligatoire par téléphone 06 65 19 70 63\nPlacement de 6h à 7 h \nFin du vide grenier à 14h \n15 € les 6 mètres avec véhicule derrière
URL:https://www.calendrierdesbrocantes.fr/event/vide-greniers-daubagne/2030-03-10/
LOCATION:Aubagne\, Aubagne\, 13005\, France
CATEGORIES:Vide-greniers
GEO:43.2926781;5.5676425
END:VEVENT
BEGIN:VEVENT
DTSTART;TZID=Europe/Paris:20300317T060000
DTEND;TZID=Europe/Paris:20300317T140000
DTSTAMP:20260423T175231
CREATED:20260329T162731Z
LAST-MODIFIED:20260329T162731Z
UID:10019385-1899957600-1899986400@www.calendrierdesbrocantes.fr
SUMMARY:Vide greniers d'Aubagne
DESCRIPTION:Vide greniers d’Aubagne \nRéservation obligatoire par téléphone 06 65 19 70 63\nPlacement de 6h à 7 h \nFin du vide grenier à 14h \n15 € les 6 mètres avec véhicule derrière
URL:https://www.calendrierdesbrocantes.fr/event/vide-greniers-daubagne/2030-03-17/
LOCATION:Aubagne\, Aubagne\, 13005\, France
CATEGORIES:Vide-greniers
GEO:43.2926781;5.5676425
END:VEVENT
BEGIN:VEVENT
DTSTART;TZID=Europe/Paris:20300324T060000
DTEND;TZID=Europe/Paris:20300324T140000
DTSTAMP:20260423T175231
CREATED:20260329T162731Z
LAST-MODIFIED:20260329T162731Z
UID:10019386-1900562400-1900591200@www.calendrierdesbrocantes.fr
SUMMARY:Vide greniers d'Aubagne
DESCRIPTION:Vide greniers d’Aubagne \nRéservation obligatoire par téléphone 06 65 19 70 63\nPlacement de 6h à 7 h \nFin du vide grenier à 14h \n15 € les 6 mètres avec véhicule derrière
URL:https://www.calendrierdesbrocantes.fr/event/vide-greniers-daubagne/2030-03-24/
LOCATION:Aubagne\, Aubagne\, 13005\, France
CATEGORIES:Vide-greniers
GEO:43.2926781;5.5676425
END:VEVENT
BEGIN:VEVENT
DTSTART;TZID=Europe/Paris:20300331T060000
DTEND;TZID=Europe/Paris:20300331T140000
DTSTAMP:20260423T175231
CREATED:20260329T162731Z
LAST-MODIFIED:20260329T162731Z
UID:10019387-1901167200-1901196000@www.calendrierdesbrocantes.fr
SUMMARY:Vide greniers d'Aubagne
DESCRIPTION:Vide greniers d’Aubagne \nRéservation obligatoire par téléphone 06 65 19 70 63\nPlacement de 6h à 7 h \nFin du vide grenier à 14h \n15 € les 6 mètres avec véhicule derrière
URL:https://www.calendrierdesbrocantes.fr/event/vide-greniers-daubagne/2030-03-31/
LOCATION:Aubagne\, Aubagne\, 13005\, France
CATEGORIES:Vide-greniers
GEO:43.2926781;5.5676425
END:VEVENT
BEGIN:VEVENT
DTSTART;TZID=Europe/Paris:20300407T060000
DTEND;TZID=Europe/Paris:20300407T140000
DTSTAMP:20260423T175231
CREATED:20260329T162731Z
LAST-MODIFIED:20260329T162731Z
UID:10019388-1901772000-1901800800@www.calendrierdesbrocantes.fr
SUMMARY:Vide greniers d'Aubagne
DESCRIPTION:Vide greniers d’Aubagne \nRéservation obligatoire par téléphone 06 65 19 70 63\nPlacement de 6h à 7 h \nFin du vide grenier à 14h \n15 € les 6 mètres avec véhicule derrière
URL:https://www.calendrierdesbrocantes.fr/event/vide-greniers-daubagne/2030-04-07/
LOCATION:Aubagne\, Aubagne\, 13005\, France
CATEGORIES:Vide-greniers
GEO:43.2926781;5.5676425
END:VEVENT
BEGIN:VEVENT
DTSTART;TZID=Europe/Paris:20300414T060000
DTEND;TZID=Europe/Paris:20300414T140000
DTSTAMP:20260423T175231
CREATED:20260329T162731Z
LAST-MODIFIED:20260329T162731Z
UID:10019389-1902376800-1902405600@www.calendrierdesbrocantes.fr
SUMMARY:Vide greniers d'Aubagne
DESCRIPTION:Vide greniers d’Aubagne \nRéservation obligatoire par téléphone 06 65 19 70 63\nPlacement de 6h à 7 h \nFin du vide grenier à 14h \n15 € les 6 mètres avec véhicule derrière
URL:https://www.calendrierdesbrocantes.fr/event/vide-greniers-daubagne/2030-04-14/
LOCATION:Aubagne\, Aubagne\, 13005\, France
CATEGORIES:Vide-greniers
GEO:43.2926781;5.5676425
END:VEVENT
BEGIN:VEVENT
DTSTART;TZID=Europe/Paris:20300421T060000
DTEND;TZID=Europe/Paris:20300421T140000
DTSTAMP:20260423T175231
CREATED:20260329T162731Z
LAST-MODIFIED:20260329T162731Z
UID:10019390-1902981600-1903010400@www.calendrierdesbrocantes.fr
SUMMARY:Vide greniers d'Aubagne
DESCRIPTION:Vide greniers d’Aubagne \nRéservation obligatoire par téléphone 06 65 19 70 63\nPlacement de 6h à 7 h \nFin du vide grenier à 14h \n15 € les 6 mètres avec véhicule derrière
URL:https://www.calendrierdesbrocantes.fr/event/vide-greniers-daubagne/2030-04-21/
LOCATION:Aubagne\, Aubagne\, 13005\, France
CATEGORIES:Vide-greniers
GEO:43.2926781;5.5676425
END:VEVENT
BEGIN:VEVENT
DTSTART;TZID=Europe/Paris:20300428T060000
DTEND;TZID=Europe/Paris:20300428T140000
DTSTAMP:20260423T175231
CREATED:20260329T162731Z
LAST-MODIFIED:20260329T162731Z
UID:10019391-1903586400-1903615200@www.calendrierdesbrocantes.fr
SUMMARY:Vide greniers d'Aubagne
DESCRIPTION:Vide greniers d’Aubagne \nRéservation obligatoire par téléphone 06 65 19 70 63\nPlacement de 6h à 7 h \nFin du vide grenier à 14h \n15 € les 6 mètres avec véhicule derrière
URL:https://www.calendrierdesbrocantes.fr/event/vide-greniers-daubagne/2030-04-28/
LOCATION:Aubagne\, Aubagne\, 13005\, France
CATEGORIES:Vide-greniers
GEO:43.2926781;5.5676425
END:VEVENT
END:VCALENDAR