BEGIN:VCALENDAR
VERSION:2.0
PRODID:-//Calendrier des brocantes - ECPv6.15.20//NONSGML v1.0//EN
CALSCALE:GREGORIAN
METHOD:PUBLISH
X-ORIGINAL-URL:https://www.calendrierdesbrocantes.fr
X-WR-CALDESC:Évènements pour Calendrier des brocantes
REFRESH-INTERVAL;VALUE=DURATION:PT1H
X-Robots-Tag:noindex
X-PUBLISHED-TTL:PT1H
BEGIN:VTIMEZONE
TZID:Europe/Paris
BEGIN:DAYLIGHT
TZOFFSETFROM:+0100
TZOFFSETTO:+0200
TZNAME:CEST
DTSTART:20290325T010000
END:DAYLIGHT
BEGIN:STANDARD
TZOFFSETFROM:+0200
TZOFFSETTO:+0100
TZNAME:CET
DTSTART:20291028T010000
END:STANDARD
BEGIN:DAYLIGHT
TZOFFSETFROM:+0100
TZOFFSETTO:+0200
TZNAME:CEST
DTSTART:20300331T010000
END:DAYLIGHT
BEGIN:STANDARD
TZOFFSETFROM:+0200
TZOFFSETTO:+0100
TZNAME:CET
DTSTART:20301027T010000
END:STANDARD
BEGIN:DAYLIGHT
TZOFFSETFROM:+0100
TZOFFSETTO:+0200
TZNAME:CEST
DTSTART:20310330T010000
END:DAYLIGHT
BEGIN:STANDARD
TZOFFSETFROM:+0200
TZOFFSETTO:+0100
TZNAME:CET
DTSTART:20311026T010000
END:STANDARD
END:VTIMEZONE
BEGIN:VEVENT
DTSTART;TZID=Europe/Paris:20300505T060000
DTEND;TZID=Europe/Paris:20300505T140000
DTSTAMP:20260423T223713
CREATED:20260329T162731Z
LAST-MODIFIED:20260329T162731Z
UID:10019392-1904191200-1904220000@www.calendrierdesbrocantes.fr
SUMMARY:Vide greniers d'Aubagne
DESCRIPTION:Vide greniers d’Aubagne \nRéservation obligatoire par téléphone 06 65 19 70 63\nPlacement de 6h à 7 h \nFin du vide grenier à 14h \n15 € les 6 mètres avec véhicule derrière
URL:https://www.calendrierdesbrocantes.fr/event/vide-greniers-daubagne/2030-05-05/
LOCATION:Aubagne\, Aubagne\, 13005\, France
CATEGORIES:Vide-greniers
GEO:43.2926781;5.5676425
END:VEVENT
BEGIN:VEVENT
DTSTART;TZID=Europe/Paris:20300512T060000
DTEND;TZID=Europe/Paris:20300512T140000
DTSTAMP:20260423T223713
CREATED:20260329T162731Z
LAST-MODIFIED:20260329T162731Z
UID:10019393-1904796000-1904824800@www.calendrierdesbrocantes.fr
SUMMARY:Vide greniers d'Aubagne
DESCRIPTION:Vide greniers d’Aubagne \nRéservation obligatoire par téléphone 06 65 19 70 63\nPlacement de 6h à 7 h \nFin du vide grenier à 14h \n15 € les 6 mètres avec véhicule derrière
URL:https://www.calendrierdesbrocantes.fr/event/vide-greniers-daubagne/2030-05-12/
LOCATION:Aubagne\, Aubagne\, 13005\, France
CATEGORIES:Vide-greniers
GEO:43.2926781;5.5676425
END:VEVENT
BEGIN:VEVENT
DTSTART;TZID=Europe/Paris:20300519T060000
DTEND;TZID=Europe/Paris:20300519T140000
DTSTAMP:20260423T223713
CREATED:20260329T162731Z
LAST-MODIFIED:20260329T162731Z
UID:10019394-1905400800-1905429600@www.calendrierdesbrocantes.fr
SUMMARY:Vide greniers d'Aubagne
DESCRIPTION:Vide greniers d’Aubagne \nRéservation obligatoire par téléphone 06 65 19 70 63\nPlacement de 6h à 7 h \nFin du vide grenier à 14h \n15 € les 6 mètres avec véhicule derrière
URL:https://www.calendrierdesbrocantes.fr/event/vide-greniers-daubagne/2030-05-19/
LOCATION:Aubagne\, Aubagne\, 13005\, France
CATEGORIES:Vide-greniers
GEO:43.2926781;5.5676425
END:VEVENT
BEGIN:VEVENT
DTSTART;TZID=Europe/Paris:20300526T060000
DTEND;TZID=Europe/Paris:20300526T140000
DTSTAMP:20260423T223713
CREATED:20260329T162731Z
LAST-MODIFIED:20260329T162731Z
UID:10019395-1906005600-1906034400@www.calendrierdesbrocantes.fr
SUMMARY:Vide greniers d'Aubagne
DESCRIPTION:Vide greniers d’Aubagne \nRéservation obligatoire par téléphone 06 65 19 70 63\nPlacement de 6h à 7 h \nFin du vide grenier à 14h \n15 € les 6 mètres avec véhicule derrière
URL:https://www.calendrierdesbrocantes.fr/event/vide-greniers-daubagne/2030-05-26/
LOCATION:Aubagne\, Aubagne\, 13005\, France
CATEGORIES:Vide-greniers
GEO:43.2926781;5.5676425
END:VEVENT
BEGIN:VEVENT
DTSTART;TZID=Europe/Paris:20300602T060000
DTEND;TZID=Europe/Paris:20300602T140000
DTSTAMP:20260423T223713
CREATED:20260329T162731Z
LAST-MODIFIED:20260329T162731Z
UID:10019396-1906610400-1906639200@www.calendrierdesbrocantes.fr
SUMMARY:Vide greniers d'Aubagne
DESCRIPTION:Vide greniers d’Aubagne \nRéservation obligatoire par téléphone 06 65 19 70 63\nPlacement de 6h à 7 h \nFin du vide grenier à 14h \n15 € les 6 mètres avec véhicule derrière
URL:https://www.calendrierdesbrocantes.fr/event/vide-greniers-daubagne/2030-06-02/
LOCATION:Aubagne\, Aubagne\, 13005\, France
CATEGORIES:Vide-greniers
GEO:43.2926781;5.5676425
END:VEVENT
BEGIN:VEVENT
DTSTART;TZID=Europe/Paris:20300609T060000
DTEND;TZID=Europe/Paris:20300609T140000
DTSTAMP:20260423T223713
CREATED:20260329T162731Z
LAST-MODIFIED:20260329T162731Z
UID:10019397-1907215200-1907244000@www.calendrierdesbrocantes.fr
SUMMARY:Vide greniers d'Aubagne
DESCRIPTION:Vide greniers d’Aubagne \nRéservation obligatoire par téléphone 06 65 19 70 63\nPlacement de 6h à 7 h \nFin du vide grenier à 14h \n15 € les 6 mètres avec véhicule derrière
URL:https://www.calendrierdesbrocantes.fr/event/vide-greniers-daubagne/2030-06-09/
LOCATION:Aubagne\, Aubagne\, 13005\, France
CATEGORIES:Vide-greniers
GEO:43.2926781;5.5676425
END:VEVENT
BEGIN:VEVENT
DTSTART;TZID=Europe/Paris:20300616T060000
DTEND;TZID=Europe/Paris:20300616T140000
DTSTAMP:20260423T223713
CREATED:20260329T162731Z
LAST-MODIFIED:20260329T162731Z
UID:10019398-1907820000-1907848800@www.calendrierdesbrocantes.fr
SUMMARY:Vide greniers d'Aubagne
DESCRIPTION:Vide greniers d’Aubagne \nRéservation obligatoire par téléphone 06 65 19 70 63\nPlacement de 6h à 7 h \nFin du vide grenier à 14h \n15 € les 6 mètres avec véhicule derrière
URL:https://www.calendrierdesbrocantes.fr/event/vide-greniers-daubagne/2030-06-16/
LOCATION:Aubagne\, Aubagne\, 13005\, France
CATEGORIES:Vide-greniers
GEO:43.2926781;5.5676425
END:VEVENT
BEGIN:VEVENT
DTSTART;TZID=Europe/Paris:20300623T060000
DTEND;TZID=Europe/Paris:20300623T140000
DTSTAMP:20260423T223713
CREATED:20260329T162731Z
LAST-MODIFIED:20260329T162731Z
UID:10019399-1908424800-1908453600@www.calendrierdesbrocantes.fr
SUMMARY:Vide greniers d'Aubagne
DESCRIPTION:Vide greniers d’Aubagne \nRéservation obligatoire par téléphone 06 65 19 70 63\nPlacement de 6h à 7 h \nFin du vide grenier à 14h \n15 € les 6 mètres avec véhicule derrière
URL:https://www.calendrierdesbrocantes.fr/event/vide-greniers-daubagne/2030-06-23/
LOCATION:Aubagne\, Aubagne\, 13005\, France
CATEGORIES:Vide-greniers
GEO:43.2926781;5.5676425
END:VEVENT
BEGIN:VEVENT
DTSTART;TZID=Europe/Paris:20300630T060000
DTEND;TZID=Europe/Paris:20300630T140000
DTSTAMP:20260423T223713
CREATED:20260329T162731Z
LAST-MODIFIED:20260329T162731Z
UID:10019400-1909029600-1909058400@www.calendrierdesbrocantes.fr
SUMMARY:Vide greniers d'Aubagne
DESCRIPTION:Vide greniers d’Aubagne \nRéservation obligatoire par téléphone 06 65 19 70 63\nPlacement de 6h à 7 h \nFin du vide grenier à 14h \n15 € les 6 mètres avec véhicule derrière
URL:https://www.calendrierdesbrocantes.fr/event/vide-greniers-daubagne/2030-06-30/
LOCATION:Aubagne\, Aubagne\, 13005\, France
CATEGORIES:Vide-greniers
GEO:43.2926781;5.5676425
END:VEVENT
BEGIN:VEVENT
DTSTART;TZID=Europe/Paris:20300707T060000
DTEND;TZID=Europe/Paris:20300707T140000
DTSTAMP:20260423T223713
CREATED:20260329T162731Z
LAST-MODIFIED:20260329T162731Z
UID:10019401-1909634400-1909663200@www.calendrierdesbrocantes.fr
SUMMARY:Vide greniers d'Aubagne
DESCRIPTION:Vide greniers d’Aubagne \nRéservation obligatoire par téléphone 06 65 19 70 63\nPlacement de 6h à 7 h \nFin du vide grenier à 14h \n15 € les 6 mètres avec véhicule derrière
URL:https://www.calendrierdesbrocantes.fr/event/vide-greniers-daubagne/2030-07-07/
LOCATION:Aubagne\, Aubagne\, 13005\, France
CATEGORIES:Vide-greniers
GEO:43.2926781;5.5676425
END:VEVENT
BEGIN:VEVENT
DTSTART;TZID=Europe/Paris:20300714T060000
DTEND;TZID=Europe/Paris:20300714T140000
DTSTAMP:20260423T223713
CREATED:20260329T162731Z
LAST-MODIFIED:20260329T162731Z
UID:10019402-1910239200-1910268000@www.calendrierdesbrocantes.fr
SUMMARY:Vide greniers d'Aubagne
DESCRIPTION:Vide greniers d’Aubagne \nRéservation obligatoire par téléphone 06 65 19 70 63\nPlacement de 6h à 7 h \nFin du vide grenier à 14h \n15 € les 6 mètres avec véhicule derrière
URL:https://www.calendrierdesbrocantes.fr/event/vide-greniers-daubagne/2030-07-14/
LOCATION:Aubagne\, Aubagne\, 13005\, France
CATEGORIES:Vide-greniers
GEO:43.2926781;5.5676425
END:VEVENT
BEGIN:VEVENT
DTSTART;TZID=Europe/Paris:20300721T060000
DTEND;TZID=Europe/Paris:20300721T140000
DTSTAMP:20260423T223713
CREATED:20260329T162731Z
LAST-MODIFIED:20260329T162731Z
UID:10019403-1910844000-1910872800@www.calendrierdesbrocantes.fr
SUMMARY:Vide greniers d'Aubagne
DESCRIPTION:Vide greniers d’Aubagne \nRéservation obligatoire par téléphone 06 65 19 70 63\nPlacement de 6h à 7 h \nFin du vide grenier à 14h \n15 € les 6 mètres avec véhicule derrière
URL:https://www.calendrierdesbrocantes.fr/event/vide-greniers-daubagne/2030-07-21/
LOCATION:Aubagne\, Aubagne\, 13005\, France
CATEGORIES:Vide-greniers
GEO:43.2926781;5.5676425
END:VEVENT
BEGIN:VEVENT
DTSTART;TZID=Europe/Paris:20300728T060000
DTEND;TZID=Europe/Paris:20300728T140000
DTSTAMP:20260423T223713
CREATED:20260329T162731Z
LAST-MODIFIED:20260329T162731Z
UID:10019404-1911448800-1911477600@www.calendrierdesbrocantes.fr
SUMMARY:Vide greniers d'Aubagne
DESCRIPTION:Vide greniers d’Aubagne \nRéservation obligatoire par téléphone 06 65 19 70 63\nPlacement de 6h à 7 h \nFin du vide grenier à 14h \n15 € les 6 mètres avec véhicule derrière
URL:https://www.calendrierdesbrocantes.fr/event/vide-greniers-daubagne/2030-07-28/
LOCATION:Aubagne\, Aubagne\, 13005\, France
CATEGORIES:Vide-greniers
GEO:43.2926781;5.5676425
END:VEVENT
BEGIN:VEVENT
DTSTART;TZID=Europe/Paris:20300804T060000
DTEND;TZID=Europe/Paris:20300804T140000
DTSTAMP:20260423T223713
CREATED:20260329T162731Z
LAST-MODIFIED:20260329T162731Z
UID:10019405-1912053600-1912082400@www.calendrierdesbrocantes.fr
SUMMARY:Vide greniers d'Aubagne
DESCRIPTION:Vide greniers d’Aubagne \nRéservation obligatoire par téléphone 06 65 19 70 63\nPlacement de 6h à 7 h \nFin du vide grenier à 14h \n15 € les 6 mètres avec véhicule derrière
URL:https://www.calendrierdesbrocantes.fr/event/vide-greniers-daubagne/2030-08-04/
LOCATION:Aubagne\, Aubagne\, 13005\, France
CATEGORIES:Vide-greniers
GEO:43.2926781;5.5676425
END:VEVENT
BEGIN:VEVENT
DTSTART;TZID=Europe/Paris:20300811T060000
DTEND;TZID=Europe/Paris:20300811T140000
DTSTAMP:20260423T223713
CREATED:20260329T162731Z
LAST-MODIFIED:20260329T162731Z
UID:10019406-1912658400-1912687200@www.calendrierdesbrocantes.fr
SUMMARY:Vide greniers d'Aubagne
DESCRIPTION:Vide greniers d’Aubagne \nRéservation obligatoire par téléphone 06 65 19 70 63\nPlacement de 6h à 7 h \nFin du vide grenier à 14h \n15 € les 6 mètres avec véhicule derrière
URL:https://www.calendrierdesbrocantes.fr/event/vide-greniers-daubagne/2030-08-11/
LOCATION:Aubagne\, Aubagne\, 13005\, France
CATEGORIES:Vide-greniers
GEO:43.2926781;5.5676425
END:VEVENT
BEGIN:VEVENT
DTSTART;TZID=Europe/Paris:20300818T060000
DTEND;TZID=Europe/Paris:20300818T140000
DTSTAMP:20260423T223713
CREATED:20260329T162731Z
LAST-MODIFIED:20260329T162731Z
UID:10019407-1913263200-1913292000@www.calendrierdesbrocantes.fr
SUMMARY:Vide greniers d'Aubagne
DESCRIPTION:Vide greniers d’Aubagne \nRéservation obligatoire par téléphone 06 65 19 70 63\nPlacement de 6h à 7 h \nFin du vide grenier à 14h \n15 € les 6 mètres avec véhicule derrière
URL:https://www.calendrierdesbrocantes.fr/event/vide-greniers-daubagne/2030-08-18/
LOCATION:Aubagne\, Aubagne\, 13005\, France
CATEGORIES:Vide-greniers
GEO:43.2926781;5.5676425
END:VEVENT
BEGIN:VEVENT
DTSTART;TZID=Europe/Paris:20300825T060000
DTEND;TZID=Europe/Paris:20300825T140000
DTSTAMP:20260423T223713
CREATED:20260329T162731Z
LAST-MODIFIED:20260329T162731Z
UID:10019408-1913868000-1913896800@www.calendrierdesbrocantes.fr
SUMMARY:Vide greniers d'Aubagne
DESCRIPTION:Vide greniers d’Aubagne \nRéservation obligatoire par téléphone 06 65 19 70 63\nPlacement de 6h à 7 h \nFin du vide grenier à 14h \n15 € les 6 mètres avec véhicule derrière
URL:https://www.calendrierdesbrocantes.fr/event/vide-greniers-daubagne/2030-08-25/
LOCATION:Aubagne\, Aubagne\, 13005\, France
CATEGORIES:Vide-greniers
GEO:43.2926781;5.5676425
END:VEVENT
BEGIN:VEVENT
DTSTART;TZID=Europe/Paris:20300901T060000
DTEND;TZID=Europe/Paris:20300901T140000
DTSTAMP:20260423T223713
CREATED:20260329T162731Z
LAST-MODIFIED:20260329T162731Z
UID:10019409-1914472800-1914501600@www.calendrierdesbrocantes.fr
SUMMARY:Vide greniers d'Aubagne
DESCRIPTION:Vide greniers d’Aubagne \nRéservation obligatoire par téléphone 06 65 19 70 63\nPlacement de 6h à 7 h \nFin du vide grenier à 14h \n15 € les 6 mètres avec véhicule derrière
URL:https://www.calendrierdesbrocantes.fr/event/vide-greniers-daubagne/2030-09-01/
LOCATION:Aubagne\, Aubagne\, 13005\, France
CATEGORIES:Vide-greniers
GEO:43.2926781;5.5676425
END:VEVENT
BEGIN:VEVENT
DTSTART;TZID=Europe/Paris:20300908T060000
DTEND;TZID=Europe/Paris:20300908T140000
DTSTAMP:20260423T223713
CREATED:20260329T162731Z
LAST-MODIFIED:20260329T162731Z
UID:10019410-1915077600-1915106400@www.calendrierdesbrocantes.fr
SUMMARY:Vide greniers d'Aubagne
DESCRIPTION:Vide greniers d’Aubagne \nRéservation obligatoire par téléphone 06 65 19 70 63\nPlacement de 6h à 7 h \nFin du vide grenier à 14h \n15 € les 6 mètres avec véhicule derrière
URL:https://www.calendrierdesbrocantes.fr/event/vide-greniers-daubagne/2030-09-08/
LOCATION:Aubagne\, Aubagne\, 13005\, France
CATEGORIES:Vide-greniers
GEO:43.2926781;5.5676425
END:VEVENT
BEGIN:VEVENT
DTSTART;TZID=Europe/Paris:20300915T060000
DTEND;TZID=Europe/Paris:20300915T140000
DTSTAMP:20260423T223713
CREATED:20260329T162731Z
LAST-MODIFIED:20260329T162731Z
UID:10019411-1915682400-1915711200@www.calendrierdesbrocantes.fr
SUMMARY:Vide greniers d'Aubagne
DESCRIPTION:Vide greniers d’Aubagne \nRéservation obligatoire par téléphone 06 65 19 70 63\nPlacement de 6h à 7 h \nFin du vide grenier à 14h \n15 € les 6 mètres avec véhicule derrière
URL:https://www.calendrierdesbrocantes.fr/event/vide-greniers-daubagne/2030-09-15/
LOCATION:Aubagne\, Aubagne\, 13005\, France
CATEGORIES:Vide-greniers
GEO:43.2926781;5.5676425
END:VEVENT
BEGIN:VEVENT
DTSTART;TZID=Europe/Paris:20300922T060000
DTEND;TZID=Europe/Paris:20300922T140000
DTSTAMP:20260423T223713
CREATED:20260329T162731Z
LAST-MODIFIED:20260329T162731Z
UID:10019412-1916287200-1916316000@www.calendrierdesbrocantes.fr
SUMMARY:Vide greniers d'Aubagne
DESCRIPTION:Vide greniers d’Aubagne \nRéservation obligatoire par téléphone 06 65 19 70 63\nPlacement de 6h à 7 h \nFin du vide grenier à 14h \n15 € les 6 mètres avec véhicule derrière
URL:https://www.calendrierdesbrocantes.fr/event/vide-greniers-daubagne/2030-09-22/
LOCATION:Aubagne\, Aubagne\, 13005\, France
CATEGORIES:Vide-greniers
GEO:43.2926781;5.5676425
END:VEVENT
BEGIN:VEVENT
DTSTART;TZID=Europe/Paris:20300929T060000
DTEND;TZID=Europe/Paris:20300929T140000
DTSTAMP:20260423T223713
CREATED:20260329T162731Z
LAST-MODIFIED:20260329T162731Z
UID:10019413-1916892000-1916920800@www.calendrierdesbrocantes.fr
SUMMARY:Vide greniers d'Aubagne
DESCRIPTION:Vide greniers d’Aubagne \nRéservation obligatoire par téléphone 06 65 19 70 63\nPlacement de 6h à 7 h \nFin du vide grenier à 14h \n15 € les 6 mètres avec véhicule derrière
URL:https://www.calendrierdesbrocantes.fr/event/vide-greniers-daubagne/2030-09-29/
LOCATION:Aubagne\, Aubagne\, 13005\, France
CATEGORIES:Vide-greniers
GEO:43.2926781;5.5676425
END:VEVENT
BEGIN:VEVENT
DTSTART;TZID=Europe/Paris:20301006T060000
DTEND;TZID=Europe/Paris:20301006T140000
DTSTAMP:20260423T223713
CREATED:20260329T162731Z
LAST-MODIFIED:20260329T162731Z
UID:10019414-1917496800-1917525600@www.calendrierdesbrocantes.fr
SUMMARY:Vide greniers d'Aubagne
DESCRIPTION:Vide greniers d’Aubagne \nRéservation obligatoire par téléphone 06 65 19 70 63\nPlacement de 6h à 7 h \nFin du vide grenier à 14h \n15 € les 6 mètres avec véhicule derrière
URL:https://www.calendrierdesbrocantes.fr/event/vide-greniers-daubagne/2030-10-06/
LOCATION:Aubagne\, Aubagne\, 13005\, France
CATEGORIES:Vide-greniers
GEO:43.2926781;5.5676425
END:VEVENT
BEGIN:VEVENT
DTSTART;TZID=Europe/Paris:20301013T060000
DTEND;TZID=Europe/Paris:20301013T140000
DTSTAMP:20260423T223713
CREATED:20260329T162731Z
LAST-MODIFIED:20260329T162731Z
UID:10019415-1918101600-1918130400@www.calendrierdesbrocantes.fr
SUMMARY:Vide greniers d'Aubagne
DESCRIPTION:Vide greniers d’Aubagne \nRéservation obligatoire par téléphone 06 65 19 70 63\nPlacement de 6h à 7 h \nFin du vide grenier à 14h \n15 € les 6 mètres avec véhicule derrière
URL:https://www.calendrierdesbrocantes.fr/event/vide-greniers-daubagne/2030-10-13/
LOCATION:Aubagne\, Aubagne\, 13005\, France
CATEGORIES:Vide-greniers
GEO:43.2926781;5.5676425
END:VEVENT
BEGIN:VEVENT
DTSTART;TZID=Europe/Paris:20301020T060000
DTEND;TZID=Europe/Paris:20301020T140000
DTSTAMP:20260423T223713
CREATED:20260329T162731Z
LAST-MODIFIED:20260329T162731Z
UID:10019416-1918706400-1918735200@www.calendrierdesbrocantes.fr
SUMMARY:Vide greniers d'Aubagne
DESCRIPTION:Vide greniers d’Aubagne \nRéservation obligatoire par téléphone 06 65 19 70 63\nPlacement de 6h à 7 h \nFin du vide grenier à 14h \n15 € les 6 mètres avec véhicule derrière
URL:https://www.calendrierdesbrocantes.fr/event/vide-greniers-daubagne/2030-10-20/
LOCATION:Aubagne\, Aubagne\, 13005\, France
CATEGORIES:Vide-greniers
GEO:43.2926781;5.5676425
END:VEVENT
BEGIN:VEVENT
DTSTART;TZID=Europe/Paris:20301027T060000
DTEND;TZID=Europe/Paris:20301027T140000
DTSTAMP:20260423T223713
CREATED:20260329T162731Z
LAST-MODIFIED:20260329T162731Z
UID:10019417-1919311200-1919340000@www.calendrierdesbrocantes.fr
SUMMARY:Vide greniers d'Aubagne
DESCRIPTION:Vide greniers d’Aubagne \nRéservation obligatoire par téléphone 06 65 19 70 63\nPlacement de 6h à 7 h \nFin du vide grenier à 14h \n15 € les 6 mètres avec véhicule derrière
URL:https://www.calendrierdesbrocantes.fr/event/vide-greniers-daubagne/2030-10-27/
LOCATION:Aubagne\, Aubagne\, 13005\, France
CATEGORIES:Vide-greniers
GEO:43.2926781;5.5676425
END:VEVENT
BEGIN:VEVENT
DTSTART;TZID=Europe/Paris:20301103T060000
DTEND;TZID=Europe/Paris:20301103T140000
DTSTAMP:20260423T223713
CREATED:20260329T162731Z
LAST-MODIFIED:20260329T162731Z
UID:10019418-1919916000-1919944800@www.calendrierdesbrocantes.fr
SUMMARY:Vide greniers d'Aubagne
DESCRIPTION:Vide greniers d’Aubagne \nRéservation obligatoire par téléphone 06 65 19 70 63\nPlacement de 6h à 7 h \nFin du vide grenier à 14h \n15 € les 6 mètres avec véhicule derrière
URL:https://www.calendrierdesbrocantes.fr/event/vide-greniers-daubagne/2030-11-03/
LOCATION:Aubagne\, Aubagne\, 13005\, France
CATEGORIES:Vide-greniers
GEO:43.2926781;5.5676425
END:VEVENT
BEGIN:VEVENT
DTSTART;TZID=Europe/Paris:20301110T060000
DTEND;TZID=Europe/Paris:20301110T140000
DTSTAMP:20260423T223713
CREATED:20260329T162731Z
LAST-MODIFIED:20260329T162731Z
UID:10019419-1920520800-1920549600@www.calendrierdesbrocantes.fr
SUMMARY:Vide greniers d'Aubagne
DESCRIPTION:Vide greniers d’Aubagne \nRéservation obligatoire par téléphone 06 65 19 70 63\nPlacement de 6h à 7 h \nFin du vide grenier à 14h \n15 € les 6 mètres avec véhicule derrière
URL:https://www.calendrierdesbrocantes.fr/event/vide-greniers-daubagne/2030-11-10/
LOCATION:Aubagne\, Aubagne\, 13005\, France
CATEGORIES:Vide-greniers
GEO:43.2926781;5.5676425
END:VEVENT
BEGIN:VEVENT
DTSTART;TZID=Europe/Paris:20301117T060000
DTEND;TZID=Europe/Paris:20301117T140000
DTSTAMP:20260423T223713
CREATED:20260329T162731Z
LAST-MODIFIED:20260329T162731Z
UID:10019420-1921125600-1921154400@www.calendrierdesbrocantes.fr
SUMMARY:Vide greniers d'Aubagne
DESCRIPTION:Vide greniers d’Aubagne \nRéservation obligatoire par téléphone 06 65 19 70 63\nPlacement de 6h à 7 h \nFin du vide grenier à 14h \n15 € les 6 mètres avec véhicule derrière
URL:https://www.calendrierdesbrocantes.fr/event/vide-greniers-daubagne/2030-11-17/
LOCATION:Aubagne\, Aubagne\, 13005\, France
CATEGORIES:Vide-greniers
GEO:43.2926781;5.5676425
END:VEVENT
BEGIN:VEVENT
DTSTART;TZID=Europe/Paris:20301124T060000
DTEND;TZID=Europe/Paris:20301124T140000
DTSTAMP:20260423T223713
CREATED:20260329T162731Z
LAST-MODIFIED:20260329T162731Z
UID:10019421-1921730400-1921759200@www.calendrierdesbrocantes.fr
SUMMARY:Vide greniers d'Aubagne
DESCRIPTION:Vide greniers d’Aubagne \nRéservation obligatoire par téléphone 06 65 19 70 63\nPlacement de 6h à 7 h \nFin du vide grenier à 14h \n15 € les 6 mètres avec véhicule derrière
URL:https://www.calendrierdesbrocantes.fr/event/vide-greniers-daubagne/2030-11-24/
LOCATION:Aubagne\, Aubagne\, 13005\, France
CATEGORIES:Vide-greniers
GEO:43.2926781;5.5676425
END:VEVENT
END:VCALENDAR