BEGIN:VCALENDAR
VERSION:2.0
PRODID:-//Calendrier des brocantes - ECPv6.15.20//NONSGML v1.0//EN
CALSCALE:GREGORIAN
METHOD:PUBLISH
X-ORIGINAL-URL:https://www.calendrierdesbrocantes.fr
X-WR-CALDESC:Évènements pour Calendrier des brocantes
REFRESH-INTERVAL;VALUE=DURATION:PT1H
X-Robots-Tag:noindex
X-PUBLISHED-TTL:PT1H
BEGIN:VTIMEZONE
TZID:Europe/Paris
BEGIN:DAYLIGHT
TZOFFSETFROM:+0100
TZOFFSETTO:+0200
TZNAME:CEST
DTSTART:20260329T010000
END:DAYLIGHT
BEGIN:STANDARD
TZOFFSETFROM:+0200
TZOFFSETTO:+0100
TZNAME:CET
DTSTART:20261025T010000
END:STANDARD
BEGIN:DAYLIGHT
TZOFFSETFROM:+0100
TZOFFSETTO:+0200
TZNAME:CEST
DTSTART:20270328T010000
END:DAYLIGHT
BEGIN:STANDARD
TZOFFSETFROM:+0200
TZOFFSETTO:+0100
TZNAME:CET
DTSTART:20271031T010000
END:STANDARD
BEGIN:DAYLIGHT
TZOFFSETFROM:+0100
TZOFFSETTO:+0200
TZNAME:CEST
DTSTART:20280326T010000
END:DAYLIGHT
BEGIN:STANDARD
TZOFFSETFROM:+0200
TZOFFSETTO:+0100
TZNAME:CET
DTSTART:20281029T010000
END:STANDARD
END:VTIMEZONE
BEGIN:VEVENT
DTSTART;TZID=Europe/Paris:20270131T060000
DTEND;TZID=Europe/Paris:20270131T140000
DTSTAMP:20260422T193050
CREATED:20260329T162731Z
LAST-MODIFIED:20260329T162731Z
UID:10019222-1801375200-1801404000@www.calendrierdesbrocantes.fr
SUMMARY:Vide greniers d'Aubagne
DESCRIPTION:Vide greniers d’Aubagne \nRéservation obligatoire par téléphone 06 65 19 70 63\nPlacement de 6h à 7 h \nFin du vide grenier à 14h \n15 € les 6 mètres avec véhicule derrière
URL:https://www.calendrierdesbrocantes.fr/event/vide-greniers-daubagne/2027-01-31/
LOCATION:Aubagne\, Aubagne\, 13005\, France
CATEGORIES:Vide-greniers
GEO:43.2926781;5.5676425
END:VEVENT
BEGIN:VEVENT
DTSTART;TZID=Europe/Paris:20270207T060000
DTEND;TZID=Europe/Paris:20270207T140000
DTSTAMP:20260422T193050
CREATED:20260329T162731Z
LAST-MODIFIED:20260329T162731Z
UID:10019223-1801980000-1802008800@www.calendrierdesbrocantes.fr
SUMMARY:Vide greniers d'Aubagne
DESCRIPTION:Vide greniers d’Aubagne \nRéservation obligatoire par téléphone 06 65 19 70 63\nPlacement de 6h à 7 h \nFin du vide grenier à 14h \n15 € les 6 mètres avec véhicule derrière
URL:https://www.calendrierdesbrocantes.fr/event/vide-greniers-daubagne/2027-02-07/
LOCATION:Aubagne\, Aubagne\, 13005\, France
CATEGORIES:Vide-greniers
GEO:43.2926781;5.5676425
END:VEVENT
BEGIN:VEVENT
DTSTART;TZID=Europe/Paris:20270214T060000
DTEND;TZID=Europe/Paris:20270214T140000
DTSTAMP:20260422T193050
CREATED:20260329T162731Z
LAST-MODIFIED:20260329T162731Z
UID:10019224-1802584800-1802613600@www.calendrierdesbrocantes.fr
SUMMARY:Vide greniers d'Aubagne
DESCRIPTION:Vide greniers d’Aubagne \nRéservation obligatoire par téléphone 06 65 19 70 63\nPlacement de 6h à 7 h \nFin du vide grenier à 14h \n15 € les 6 mètres avec véhicule derrière
URL:https://www.calendrierdesbrocantes.fr/event/vide-greniers-daubagne/2027-02-14/
LOCATION:Aubagne\, Aubagne\, 13005\, France
CATEGORIES:Vide-greniers
GEO:43.2926781;5.5676425
END:VEVENT
BEGIN:VEVENT
DTSTART;TZID=Europe/Paris:20270221T060000
DTEND;TZID=Europe/Paris:20270221T140000
DTSTAMP:20260422T193050
CREATED:20260329T162731Z
LAST-MODIFIED:20260329T162731Z
UID:10019225-1803189600-1803218400@www.calendrierdesbrocantes.fr
SUMMARY:Vide greniers d'Aubagne
DESCRIPTION:Vide greniers d’Aubagne \nRéservation obligatoire par téléphone 06 65 19 70 63\nPlacement de 6h à 7 h \nFin du vide grenier à 14h \n15 € les 6 mètres avec véhicule derrière
URL:https://www.calendrierdesbrocantes.fr/event/vide-greniers-daubagne/2027-02-21/
LOCATION:Aubagne\, Aubagne\, 13005\, France
CATEGORIES:Vide-greniers
GEO:43.2926781;5.5676425
END:VEVENT
BEGIN:VEVENT
DTSTART;TZID=Europe/Paris:20270228T060000
DTEND;TZID=Europe/Paris:20270228T140000
DTSTAMP:20260422T193050
CREATED:20260329T162731Z
LAST-MODIFIED:20260329T162731Z
UID:10019226-1803794400-1803823200@www.calendrierdesbrocantes.fr
SUMMARY:Vide greniers d'Aubagne
DESCRIPTION:Vide greniers d’Aubagne \nRéservation obligatoire par téléphone 06 65 19 70 63\nPlacement de 6h à 7 h \nFin du vide grenier à 14h \n15 € les 6 mètres avec véhicule derrière
URL:https://www.calendrierdesbrocantes.fr/event/vide-greniers-daubagne/2027-02-28/
LOCATION:Aubagne\, Aubagne\, 13005\, France
CATEGORIES:Vide-greniers
GEO:43.2926781;5.5676425
END:VEVENT
BEGIN:VEVENT
DTSTART;TZID=Europe/Paris:20270307T060000
DTEND;TZID=Europe/Paris:20270307T140000
DTSTAMP:20260422T193050
CREATED:20260329T162731Z
LAST-MODIFIED:20260329T162731Z
UID:10019227-1804399200-1804428000@www.calendrierdesbrocantes.fr
SUMMARY:Vide greniers d'Aubagne
DESCRIPTION:Vide greniers d’Aubagne \nRéservation obligatoire par téléphone 06 65 19 70 63\nPlacement de 6h à 7 h \nFin du vide grenier à 14h \n15 € les 6 mètres avec véhicule derrière
URL:https://www.calendrierdesbrocantes.fr/event/vide-greniers-daubagne/2027-03-07/
LOCATION:Aubagne\, Aubagne\, 13005\, France
CATEGORIES:Vide-greniers
GEO:43.2926781;5.5676425
END:VEVENT
BEGIN:VEVENT
DTSTART;TZID=Europe/Paris:20270314T060000
DTEND;TZID=Europe/Paris:20270314T140000
DTSTAMP:20260422T193050
CREATED:20260329T162731Z
LAST-MODIFIED:20260329T162731Z
UID:10019228-1805004000-1805032800@www.calendrierdesbrocantes.fr
SUMMARY:Vide greniers d'Aubagne
DESCRIPTION:Vide greniers d’Aubagne \nRéservation obligatoire par téléphone 06 65 19 70 63\nPlacement de 6h à 7 h \nFin du vide grenier à 14h \n15 € les 6 mètres avec véhicule derrière
URL:https://www.calendrierdesbrocantes.fr/event/vide-greniers-daubagne/2027-03-14/
LOCATION:Aubagne\, Aubagne\, 13005\, France
CATEGORIES:Vide-greniers
GEO:43.2926781;5.5676425
END:VEVENT
BEGIN:VEVENT
DTSTART;TZID=Europe/Paris:20270321T060000
DTEND;TZID=Europe/Paris:20270321T140000
DTSTAMP:20260422T193050
CREATED:20260329T162731Z
LAST-MODIFIED:20260329T162731Z
UID:10019229-1805608800-1805637600@www.calendrierdesbrocantes.fr
SUMMARY:Vide greniers d'Aubagne
DESCRIPTION:Vide greniers d’Aubagne \nRéservation obligatoire par téléphone 06 65 19 70 63\nPlacement de 6h à 7 h \nFin du vide grenier à 14h \n15 € les 6 mètres avec véhicule derrière
URL:https://www.calendrierdesbrocantes.fr/event/vide-greniers-daubagne/2027-03-21/
LOCATION:Aubagne\, Aubagne\, 13005\, France
CATEGORIES:Vide-greniers
GEO:43.2926781;5.5676425
END:VEVENT
BEGIN:VEVENT
DTSTART;TZID=Europe/Paris:20270328T060000
DTEND;TZID=Europe/Paris:20270328T140000
DTSTAMP:20260422T193050
CREATED:20260329T162731Z
LAST-MODIFIED:20260329T162731Z
UID:10019230-1806213600-1806242400@www.calendrierdesbrocantes.fr
SUMMARY:Vide greniers d'Aubagne
DESCRIPTION:Vide greniers d’Aubagne \nRéservation obligatoire par téléphone 06 65 19 70 63\nPlacement de 6h à 7 h \nFin du vide grenier à 14h \n15 € les 6 mètres avec véhicule derrière
URL:https://www.calendrierdesbrocantes.fr/event/vide-greniers-daubagne/2027-03-28/
LOCATION:Aubagne\, Aubagne\, 13005\, France
CATEGORIES:Vide-greniers
GEO:43.2926781;5.5676425
END:VEVENT
BEGIN:VEVENT
DTSTART;TZID=Europe/Paris:20270404T060000
DTEND;TZID=Europe/Paris:20270404T140000
DTSTAMP:20260422T193050
CREATED:20260329T162731Z
LAST-MODIFIED:20260329T162731Z
UID:10019231-1806818400-1806847200@www.calendrierdesbrocantes.fr
SUMMARY:Vide greniers d'Aubagne
DESCRIPTION:Vide greniers d’Aubagne \nRéservation obligatoire par téléphone 06 65 19 70 63\nPlacement de 6h à 7 h \nFin du vide grenier à 14h \n15 € les 6 mètres avec véhicule derrière
URL:https://www.calendrierdesbrocantes.fr/event/vide-greniers-daubagne/2027-04-04/
LOCATION:Aubagne\, Aubagne\, 13005\, France
CATEGORIES:Vide-greniers
GEO:43.2926781;5.5676425
END:VEVENT
BEGIN:VEVENT
DTSTART;TZID=Europe/Paris:20270411T060000
DTEND;TZID=Europe/Paris:20270411T140000
DTSTAMP:20260422T193050
CREATED:20260329T162731Z
LAST-MODIFIED:20260329T162731Z
UID:10019232-1807423200-1807452000@www.calendrierdesbrocantes.fr
SUMMARY:Vide greniers d'Aubagne
DESCRIPTION:Vide greniers d’Aubagne \nRéservation obligatoire par téléphone 06 65 19 70 63\nPlacement de 6h à 7 h \nFin du vide grenier à 14h \n15 € les 6 mètres avec véhicule derrière
URL:https://www.calendrierdesbrocantes.fr/event/vide-greniers-daubagne/2027-04-11/
LOCATION:Aubagne\, Aubagne\, 13005\, France
CATEGORIES:Vide-greniers
GEO:43.2926781;5.5676425
END:VEVENT
BEGIN:VEVENT
DTSTART;TZID=Europe/Paris:20270418T060000
DTEND;TZID=Europe/Paris:20270418T140000
DTSTAMP:20260422T193050
CREATED:20260329T162731Z
LAST-MODIFIED:20260329T162731Z
UID:10019233-1808028000-1808056800@www.calendrierdesbrocantes.fr
SUMMARY:Vide greniers d'Aubagne
DESCRIPTION:Vide greniers d’Aubagne \nRéservation obligatoire par téléphone 06 65 19 70 63\nPlacement de 6h à 7 h \nFin du vide grenier à 14h \n15 € les 6 mètres avec véhicule derrière
URL:https://www.calendrierdesbrocantes.fr/event/vide-greniers-daubagne/2027-04-18/
LOCATION:Aubagne\, Aubagne\, 13005\, France
CATEGORIES:Vide-greniers
GEO:43.2926781;5.5676425
END:VEVENT
BEGIN:VEVENT
DTSTART;TZID=Europe/Paris:20270425T060000
DTEND;TZID=Europe/Paris:20270425T140000
DTSTAMP:20260422T193050
CREATED:20260329T162731Z
LAST-MODIFIED:20260329T162731Z
UID:10019234-1808632800-1808661600@www.calendrierdesbrocantes.fr
SUMMARY:Vide greniers d'Aubagne
DESCRIPTION:Vide greniers d’Aubagne \nRéservation obligatoire par téléphone 06 65 19 70 63\nPlacement de 6h à 7 h \nFin du vide grenier à 14h \n15 € les 6 mètres avec véhicule derrière
URL:https://www.calendrierdesbrocantes.fr/event/vide-greniers-daubagne/2027-04-25/
LOCATION:Aubagne\, Aubagne\, 13005\, France
CATEGORIES:Vide-greniers
GEO:43.2926781;5.5676425
END:VEVENT
BEGIN:VEVENT
DTSTART;TZID=Europe/Paris:20270502T060000
DTEND;TZID=Europe/Paris:20270502T140000
DTSTAMP:20260422T193050
CREATED:20260329T162731Z
LAST-MODIFIED:20260329T162731Z
UID:10019235-1809237600-1809266400@www.calendrierdesbrocantes.fr
SUMMARY:Vide greniers d'Aubagne
DESCRIPTION:Vide greniers d’Aubagne \nRéservation obligatoire par téléphone 06 65 19 70 63\nPlacement de 6h à 7 h \nFin du vide grenier à 14h \n15 € les 6 mètres avec véhicule derrière
URL:https://www.calendrierdesbrocantes.fr/event/vide-greniers-daubagne/2027-05-02/
LOCATION:Aubagne\, Aubagne\, 13005\, France
CATEGORIES:Vide-greniers
GEO:43.2926781;5.5676425
END:VEVENT
BEGIN:VEVENT
DTSTART;TZID=Europe/Paris:20270509T060000
DTEND;TZID=Europe/Paris:20270509T140000
DTSTAMP:20260422T193050
CREATED:20260329T162731Z
LAST-MODIFIED:20260329T162731Z
UID:10019236-1809842400-1809871200@www.calendrierdesbrocantes.fr
SUMMARY:Vide greniers d'Aubagne
DESCRIPTION:Vide greniers d’Aubagne \nRéservation obligatoire par téléphone 06 65 19 70 63\nPlacement de 6h à 7 h \nFin du vide grenier à 14h \n15 € les 6 mètres avec véhicule derrière
URL:https://www.calendrierdesbrocantes.fr/event/vide-greniers-daubagne/2027-05-09/
LOCATION:Aubagne\, Aubagne\, 13005\, France
CATEGORIES:Vide-greniers
GEO:43.2926781;5.5676425
END:VEVENT
BEGIN:VEVENT
DTSTART;TZID=Europe/Paris:20270516T060000
DTEND;TZID=Europe/Paris:20270516T140000
DTSTAMP:20260422T193050
CREATED:20260329T162731Z
LAST-MODIFIED:20260329T162731Z
UID:10019237-1810447200-1810476000@www.calendrierdesbrocantes.fr
SUMMARY:Vide greniers d'Aubagne
DESCRIPTION:Vide greniers d’Aubagne \nRéservation obligatoire par téléphone 06 65 19 70 63\nPlacement de 6h à 7 h \nFin du vide grenier à 14h \n15 € les 6 mètres avec véhicule derrière
URL:https://www.calendrierdesbrocantes.fr/event/vide-greniers-daubagne/2027-05-16/
LOCATION:Aubagne\, Aubagne\, 13005\, France
CATEGORIES:Vide-greniers
GEO:43.2926781;5.5676425
END:VEVENT
BEGIN:VEVENT
DTSTART;TZID=Europe/Paris:20270523T060000
DTEND;TZID=Europe/Paris:20270523T140000
DTSTAMP:20260422T193050
CREATED:20260329T162731Z
LAST-MODIFIED:20260329T162731Z
UID:10019238-1811052000-1811080800@www.calendrierdesbrocantes.fr
SUMMARY:Vide greniers d'Aubagne
DESCRIPTION:Vide greniers d’Aubagne \nRéservation obligatoire par téléphone 06 65 19 70 63\nPlacement de 6h à 7 h \nFin du vide grenier à 14h \n15 € les 6 mètres avec véhicule derrière
URL:https://www.calendrierdesbrocantes.fr/event/vide-greniers-daubagne/2027-05-23/
LOCATION:Aubagne\, Aubagne\, 13005\, France
CATEGORIES:Vide-greniers
GEO:43.2926781;5.5676425
END:VEVENT
BEGIN:VEVENT
DTSTART;TZID=Europe/Paris:20270530T060000
DTEND;TZID=Europe/Paris:20270530T140000
DTSTAMP:20260422T193050
CREATED:20260329T162731Z
LAST-MODIFIED:20260329T162731Z
UID:10019239-1811656800-1811685600@www.calendrierdesbrocantes.fr
SUMMARY:Vide greniers d'Aubagne
DESCRIPTION:Vide greniers d’Aubagne \nRéservation obligatoire par téléphone 06 65 19 70 63\nPlacement de 6h à 7 h \nFin du vide grenier à 14h \n15 € les 6 mètres avec véhicule derrière
URL:https://www.calendrierdesbrocantes.fr/event/vide-greniers-daubagne/2027-05-30/
LOCATION:Aubagne\, Aubagne\, 13005\, France
CATEGORIES:Vide-greniers
GEO:43.2926781;5.5676425
END:VEVENT
BEGIN:VEVENT
DTSTART;TZID=Europe/Paris:20270606T060000
DTEND;TZID=Europe/Paris:20270606T140000
DTSTAMP:20260422T193050
CREATED:20260329T162731Z
LAST-MODIFIED:20260329T162731Z
UID:10019240-1812261600-1812290400@www.calendrierdesbrocantes.fr
SUMMARY:Vide greniers d'Aubagne
DESCRIPTION:Vide greniers d’Aubagne \nRéservation obligatoire par téléphone 06 65 19 70 63\nPlacement de 6h à 7 h \nFin du vide grenier à 14h \n15 € les 6 mètres avec véhicule derrière
URL:https://www.calendrierdesbrocantes.fr/event/vide-greniers-daubagne/2027-06-06/
LOCATION:Aubagne\, Aubagne\, 13005\, France
CATEGORIES:Vide-greniers
GEO:43.2926781;5.5676425
END:VEVENT
BEGIN:VEVENT
DTSTART;TZID=Europe/Paris:20270613T060000
DTEND;TZID=Europe/Paris:20270613T140000
DTSTAMP:20260422T193050
CREATED:20260329T162731Z
LAST-MODIFIED:20260329T162731Z
UID:10019241-1812866400-1812895200@www.calendrierdesbrocantes.fr
SUMMARY:Vide greniers d'Aubagne
DESCRIPTION:Vide greniers d’Aubagne \nRéservation obligatoire par téléphone 06 65 19 70 63\nPlacement de 6h à 7 h \nFin du vide grenier à 14h \n15 € les 6 mètres avec véhicule derrière
URL:https://www.calendrierdesbrocantes.fr/event/vide-greniers-daubagne/2027-06-13/
LOCATION:Aubagne\, Aubagne\, 13005\, France
CATEGORIES:Vide-greniers
GEO:43.2926781;5.5676425
END:VEVENT
BEGIN:VEVENT
DTSTART;TZID=Europe/Paris:20270620T060000
DTEND;TZID=Europe/Paris:20270620T140000
DTSTAMP:20260422T193050
CREATED:20260329T162731Z
LAST-MODIFIED:20260329T162731Z
UID:10019242-1813471200-1813500000@www.calendrierdesbrocantes.fr
SUMMARY:Vide greniers d'Aubagne
DESCRIPTION:Vide greniers d’Aubagne \nRéservation obligatoire par téléphone 06 65 19 70 63\nPlacement de 6h à 7 h \nFin du vide grenier à 14h \n15 € les 6 mètres avec véhicule derrière
URL:https://www.calendrierdesbrocantes.fr/event/vide-greniers-daubagne/2027-06-20/
LOCATION:Aubagne\, Aubagne\, 13005\, France
CATEGORIES:Vide-greniers
GEO:43.2926781;5.5676425
END:VEVENT
BEGIN:VEVENT
DTSTART;TZID=Europe/Paris:20270627T060000
DTEND;TZID=Europe/Paris:20270627T140000
DTSTAMP:20260422T193050
CREATED:20260329T162731Z
LAST-MODIFIED:20260329T162731Z
UID:10019243-1814076000-1814104800@www.calendrierdesbrocantes.fr
SUMMARY:Vide greniers d'Aubagne
DESCRIPTION:Vide greniers d’Aubagne \nRéservation obligatoire par téléphone 06 65 19 70 63\nPlacement de 6h à 7 h \nFin du vide grenier à 14h \n15 € les 6 mètres avec véhicule derrière
URL:https://www.calendrierdesbrocantes.fr/event/vide-greniers-daubagne/2027-06-27/
LOCATION:Aubagne\, Aubagne\, 13005\, France
CATEGORIES:Vide-greniers
GEO:43.2926781;5.5676425
END:VEVENT
BEGIN:VEVENT
DTSTART;TZID=Europe/Paris:20270704T060000
DTEND;TZID=Europe/Paris:20270704T140000
DTSTAMP:20260422T193050
CREATED:20260329T162731Z
LAST-MODIFIED:20260329T162731Z
UID:10019244-1814680800-1814709600@www.calendrierdesbrocantes.fr
SUMMARY:Vide greniers d'Aubagne
DESCRIPTION:Vide greniers d’Aubagne \nRéservation obligatoire par téléphone 06 65 19 70 63\nPlacement de 6h à 7 h \nFin du vide grenier à 14h \n15 € les 6 mètres avec véhicule derrière
URL:https://www.calendrierdesbrocantes.fr/event/vide-greniers-daubagne/2027-07-04/
LOCATION:Aubagne\, Aubagne\, 13005\, France
CATEGORIES:Vide-greniers
GEO:43.2926781;5.5676425
END:VEVENT
BEGIN:VEVENT
DTSTART;TZID=Europe/Paris:20270711T060000
DTEND;TZID=Europe/Paris:20270711T140000
DTSTAMP:20260422T193050
CREATED:20260329T162731Z
LAST-MODIFIED:20260329T162731Z
UID:10019245-1815285600-1815314400@www.calendrierdesbrocantes.fr
SUMMARY:Vide greniers d'Aubagne
DESCRIPTION:Vide greniers d’Aubagne \nRéservation obligatoire par téléphone 06 65 19 70 63\nPlacement de 6h à 7 h \nFin du vide grenier à 14h \n15 € les 6 mètres avec véhicule derrière
URL:https://www.calendrierdesbrocantes.fr/event/vide-greniers-daubagne/2027-07-11/
LOCATION:Aubagne\, Aubagne\, 13005\, France
CATEGORIES:Vide-greniers
GEO:43.2926781;5.5676425
END:VEVENT
BEGIN:VEVENT
DTSTART;TZID=Europe/Paris:20270718T060000
DTEND;TZID=Europe/Paris:20270718T140000
DTSTAMP:20260422T193050
CREATED:20260329T162731Z
LAST-MODIFIED:20260329T162731Z
UID:10019246-1815890400-1815919200@www.calendrierdesbrocantes.fr
SUMMARY:Vide greniers d'Aubagne
DESCRIPTION:Vide greniers d’Aubagne \nRéservation obligatoire par téléphone 06 65 19 70 63\nPlacement de 6h à 7 h \nFin du vide grenier à 14h \n15 € les 6 mètres avec véhicule derrière
URL:https://www.calendrierdesbrocantes.fr/event/vide-greniers-daubagne/2027-07-18/
LOCATION:Aubagne\, Aubagne\, 13005\, France
CATEGORIES:Vide-greniers
GEO:43.2926781;5.5676425
END:VEVENT
BEGIN:VEVENT
DTSTART;TZID=Europe/Paris:20270725T060000
DTEND;TZID=Europe/Paris:20270725T140000
DTSTAMP:20260422T193050
CREATED:20260329T162731Z
LAST-MODIFIED:20260329T162731Z
UID:10019247-1816495200-1816524000@www.calendrierdesbrocantes.fr
SUMMARY:Vide greniers d'Aubagne
DESCRIPTION:Vide greniers d’Aubagne \nRéservation obligatoire par téléphone 06 65 19 70 63\nPlacement de 6h à 7 h \nFin du vide grenier à 14h \n15 € les 6 mètres avec véhicule derrière
URL:https://www.calendrierdesbrocantes.fr/event/vide-greniers-daubagne/2027-07-25/
LOCATION:Aubagne\, Aubagne\, 13005\, France
CATEGORIES:Vide-greniers
GEO:43.2926781;5.5676425
END:VEVENT
BEGIN:VEVENT
DTSTART;TZID=Europe/Paris:20270801T060000
DTEND;TZID=Europe/Paris:20270801T140000
DTSTAMP:20260422T193050
CREATED:20260329T162731Z
LAST-MODIFIED:20260329T162731Z
UID:10019248-1817100000-1817128800@www.calendrierdesbrocantes.fr
SUMMARY:Vide greniers d'Aubagne
DESCRIPTION:Vide greniers d’Aubagne \nRéservation obligatoire par téléphone 06 65 19 70 63\nPlacement de 6h à 7 h \nFin du vide grenier à 14h \n15 € les 6 mètres avec véhicule derrière
URL:https://www.calendrierdesbrocantes.fr/event/vide-greniers-daubagne/2027-08-01/
LOCATION:Aubagne\, Aubagne\, 13005\, France
CATEGORIES:Vide-greniers
GEO:43.2926781;5.5676425
END:VEVENT
BEGIN:VEVENT
DTSTART;TZID=Europe/Paris:20270808T060000
DTEND;TZID=Europe/Paris:20270808T140000
DTSTAMP:20260422T193050
CREATED:20260329T162731Z
LAST-MODIFIED:20260329T162731Z
UID:10019249-1817704800-1817733600@www.calendrierdesbrocantes.fr
SUMMARY:Vide greniers d'Aubagne
DESCRIPTION:Vide greniers d’Aubagne \nRéservation obligatoire par téléphone 06 65 19 70 63\nPlacement de 6h à 7 h \nFin du vide grenier à 14h \n15 € les 6 mètres avec véhicule derrière
URL:https://www.calendrierdesbrocantes.fr/event/vide-greniers-daubagne/2027-08-08/
LOCATION:Aubagne\, Aubagne\, 13005\, France
CATEGORIES:Vide-greniers
GEO:43.2926781;5.5676425
END:VEVENT
BEGIN:VEVENT
DTSTART;TZID=Europe/Paris:20270815T060000
DTEND;TZID=Europe/Paris:20270815T140000
DTSTAMP:20260422T193050
CREATED:20260329T162731Z
LAST-MODIFIED:20260329T162731Z
UID:10019250-1818309600-1818338400@www.calendrierdesbrocantes.fr
SUMMARY:Vide greniers d'Aubagne
DESCRIPTION:Vide greniers d’Aubagne \nRéservation obligatoire par téléphone 06 65 19 70 63\nPlacement de 6h à 7 h \nFin du vide grenier à 14h \n15 € les 6 mètres avec véhicule derrière
URL:https://www.calendrierdesbrocantes.fr/event/vide-greniers-daubagne/2027-08-15/
LOCATION:Aubagne\, Aubagne\, 13005\, France
CATEGORIES:Vide-greniers
GEO:43.2926781;5.5676425
END:VEVENT
BEGIN:VEVENT
DTSTART;TZID=Europe/Paris:20270822T060000
DTEND;TZID=Europe/Paris:20270822T140000
DTSTAMP:20260422T193050
CREATED:20260329T162731Z
LAST-MODIFIED:20260329T162731Z
UID:10019251-1818914400-1818943200@www.calendrierdesbrocantes.fr
SUMMARY:Vide greniers d'Aubagne
DESCRIPTION:Vide greniers d’Aubagne \nRéservation obligatoire par téléphone 06 65 19 70 63\nPlacement de 6h à 7 h \nFin du vide grenier à 14h \n15 € les 6 mètres avec véhicule derrière
URL:https://www.calendrierdesbrocantes.fr/event/vide-greniers-daubagne/2027-08-22/
LOCATION:Aubagne\, Aubagne\, 13005\, France
CATEGORIES:Vide-greniers
GEO:43.2926781;5.5676425
END:VEVENT
END:VCALENDAR