BEGIN:VCALENDAR
VERSION:2.0
PRODID:-//Calendrier des brocantes - ECPv6.15.20//NONSGML v1.0//EN
CALSCALE:GREGORIAN
METHOD:PUBLISH
X-WR-CALNAME:Calendrier des brocantes
X-ORIGINAL-URL:https://www.calendrierdesbrocantes.fr
X-WR-CALDESC:Évènements pour Calendrier des brocantes
REFRESH-INTERVAL;VALUE=DURATION:PT1H
X-Robots-Tag:noindex
X-PUBLISHED-TTL:PT1H
BEGIN:VTIMEZONE
TZID:Europe/Paris
BEGIN:DAYLIGHT
TZOFFSETFROM:+0100
TZOFFSETTO:+0200
TZNAME:CEST
DTSTART:20300331T010000
END:DAYLIGHT
BEGIN:STANDARD
TZOFFSETFROM:+0200
TZOFFSETTO:+0100
TZNAME:CET
DTSTART:20301027T010000
END:STANDARD
BEGIN:DAYLIGHT
TZOFFSETFROM:+0100
TZOFFSETTO:+0200
TZNAME:CEST
DTSTART:20310330T010000
END:DAYLIGHT
BEGIN:STANDARD
TZOFFSETFROM:+0200
TZOFFSETTO:+0100
TZNAME:CET
DTSTART:20311026T010000
END:STANDARD
BEGIN:DAYLIGHT
TZOFFSETFROM:+0100
TZOFFSETTO:+0200
TZNAME:CEST
DTSTART:20320328T010000
END:DAYLIGHT
BEGIN:STANDARD
TZOFFSETFROM:+0200
TZOFFSETTO:+0100
TZNAME:CET
DTSTART:20321031T010000
END:STANDARD
END:VTIMEZONE
BEGIN:VEVENT
DTSTART;TZID=Europe/Paris:20310209T063000
DTEND;TZID=Europe/Paris:20310209T140000
DTSTAMP:20260425T145352
CREATED:20260423T173348Z
LAST-MODIFIED:20260423T173348Z
UID:10026874-1928385000-1928412000@www.calendrierdesbrocantes.fr
SUMMARY:Vide greniers de Carcassonne
DESCRIPTION:Vide grenier de Carcassonne \nRoute de Limoux\, parking situé en face l’ancienne discothèque le Black \nInscription : Par téléphone et de préférence par SMS : Fournir son nom\, prénom\, téléphone et numéro de pièce d identité. Dès réception des renseignements\, on vous confirme la réservation par SMS et on vous envoie le règlement intérieur. \nAccueil installation exposant : A partir de 6 h 30 jusqu’à 8 h \nFin du vide grenier à 14 h. \nLes exposants doivent laisser l emplacement propre et emporter leurs déchets\, pas de container poubelle sur place. Les exposants doivent quitter le site au plus tard à 14 h. \nPour des raisons de sécurité\, aucun véhicule à moteur n est autorisé à entrer sur le site pendant le vide grenier.
URL:https://www.calendrierdesbrocantes.fr/event/vide-greniers-de-carcassonne/2031-02-09/
LOCATION:Carcassonne\, route de Limoux\, Carcassonne\, 11000\, France
CATEGORIES:Vide-greniers
ATTACH;FMTTYPE=image/png:https://www.calendrierdesbrocantes.fr/wp-content/uploads/2026/04/carcassonne.png
GEO:43.1981487;2.3249216
X-APPLE-STRUCTURED-LOCATION;VALUE=URI;X-ADDRESS=Carcassonne route de Limoux Carcassonne 11000 France;X-APPLE-RADIUS=500;X-TITLE=route de Limoux:geo:2.3249216,43.1981487
END:VEVENT
BEGIN:VEVENT
DTSTART;TZID=Europe/Paris:20310216T063000
DTEND;TZID=Europe/Paris:20310216T140000
DTSTAMP:20260425T145352
CREATED:20260423T173348Z
LAST-MODIFIED:20260423T173348Z
UID:10026875-1928989800-1929016800@www.calendrierdesbrocantes.fr
SUMMARY:Vide greniers de Carcassonne
DESCRIPTION:Vide grenier de Carcassonne \nRoute de Limoux\, parking situé en face l’ancienne discothèque le Black \nInscription : Par téléphone et de préférence par SMS : Fournir son nom\, prénom\, téléphone et numéro de pièce d identité. Dès réception des renseignements\, on vous confirme la réservation par SMS et on vous envoie le règlement intérieur. \nAccueil installation exposant : A partir de 6 h 30 jusqu’à 8 h \nFin du vide grenier à 14 h. \nLes exposants doivent laisser l emplacement propre et emporter leurs déchets\, pas de container poubelle sur place. Les exposants doivent quitter le site au plus tard à 14 h. \nPour des raisons de sécurité\, aucun véhicule à moteur n est autorisé à entrer sur le site pendant le vide grenier.
URL:https://www.calendrierdesbrocantes.fr/event/vide-greniers-de-carcassonne/2031-02-16/
LOCATION:Carcassonne\, route de Limoux\, Carcassonne\, 11000\, France
CATEGORIES:Vide-greniers
ATTACH;FMTTYPE=image/png:https://www.calendrierdesbrocantes.fr/wp-content/uploads/2026/04/carcassonne.png
GEO:43.1981487;2.3249216
X-APPLE-STRUCTURED-LOCATION;VALUE=URI;X-ADDRESS=Carcassonne route de Limoux Carcassonne 11000 France;X-APPLE-RADIUS=500;X-TITLE=route de Limoux:geo:2.3249216,43.1981487
END:VEVENT
BEGIN:VEVENT
DTSTART;TZID=Europe/Paris:20310223T063000
DTEND;TZID=Europe/Paris:20310223T140000
DTSTAMP:20260425T145352
CREATED:20260423T173348Z
LAST-MODIFIED:20260423T173348Z
UID:10026876-1929594600-1929621600@www.calendrierdesbrocantes.fr
SUMMARY:Vide greniers de Carcassonne
DESCRIPTION:Vide grenier de Carcassonne \nRoute de Limoux\, parking situé en face l’ancienne discothèque le Black \nInscription : Par téléphone et de préférence par SMS : Fournir son nom\, prénom\, téléphone et numéro de pièce d identité. Dès réception des renseignements\, on vous confirme la réservation par SMS et on vous envoie le règlement intérieur. \nAccueil installation exposant : A partir de 6 h 30 jusqu’à 8 h \nFin du vide grenier à 14 h. \nLes exposants doivent laisser l emplacement propre et emporter leurs déchets\, pas de container poubelle sur place. Les exposants doivent quitter le site au plus tard à 14 h. \nPour des raisons de sécurité\, aucun véhicule à moteur n est autorisé à entrer sur le site pendant le vide grenier.
URL:https://www.calendrierdesbrocantes.fr/event/vide-greniers-de-carcassonne/2031-02-23/
LOCATION:Carcassonne\, route de Limoux\, Carcassonne\, 11000\, France
CATEGORIES:Vide-greniers
ATTACH;FMTTYPE=image/png:https://www.calendrierdesbrocantes.fr/wp-content/uploads/2026/04/carcassonne.png
GEO:43.1981487;2.3249216
X-APPLE-STRUCTURED-LOCATION;VALUE=URI;X-ADDRESS=Carcassonne route de Limoux Carcassonne 11000 France;X-APPLE-RADIUS=500;X-TITLE=route de Limoux:geo:2.3249216,43.1981487
END:VEVENT
BEGIN:VEVENT
DTSTART;TZID=Europe/Paris:20310302T063000
DTEND;TZID=Europe/Paris:20310302T140000
DTSTAMP:20260425T145352
CREATED:20260423T173348Z
LAST-MODIFIED:20260423T173348Z
UID:10026877-1930199400-1930226400@www.calendrierdesbrocantes.fr
SUMMARY:Vide greniers de Carcassonne
DESCRIPTION:Vide grenier de Carcassonne \nRoute de Limoux\, parking situé en face l’ancienne discothèque le Black \nInscription : Par téléphone et de préférence par SMS : Fournir son nom\, prénom\, téléphone et numéro de pièce d identité. Dès réception des renseignements\, on vous confirme la réservation par SMS et on vous envoie le règlement intérieur. \nAccueil installation exposant : A partir de 6 h 30 jusqu’à 8 h \nFin du vide grenier à 14 h. \nLes exposants doivent laisser l emplacement propre et emporter leurs déchets\, pas de container poubelle sur place. Les exposants doivent quitter le site au plus tard à 14 h. \nPour des raisons de sécurité\, aucun véhicule à moteur n est autorisé à entrer sur le site pendant le vide grenier.
URL:https://www.calendrierdesbrocantes.fr/event/vide-greniers-de-carcassonne/2031-03-02/
LOCATION:Carcassonne\, route de Limoux\, Carcassonne\, 11000\, France
CATEGORIES:Vide-greniers
ATTACH;FMTTYPE=image/png:https://www.calendrierdesbrocantes.fr/wp-content/uploads/2026/04/carcassonne.png
GEO:43.1981487;2.3249216
X-APPLE-STRUCTURED-LOCATION;VALUE=URI;X-ADDRESS=Carcassonne route de Limoux Carcassonne 11000 France;X-APPLE-RADIUS=500;X-TITLE=route de Limoux:geo:2.3249216,43.1981487
END:VEVENT
BEGIN:VEVENT
DTSTART;TZID=Europe/Paris:20310309T063000
DTEND;TZID=Europe/Paris:20310309T140000
DTSTAMP:20260425T145352
CREATED:20260423T173348Z
LAST-MODIFIED:20260423T173348Z
UID:10026878-1930804200-1930831200@www.calendrierdesbrocantes.fr
SUMMARY:Vide greniers de Carcassonne
DESCRIPTION:Vide grenier de Carcassonne \nRoute de Limoux\, parking situé en face l’ancienne discothèque le Black \nInscription : Par téléphone et de préférence par SMS : Fournir son nom\, prénom\, téléphone et numéro de pièce d identité. Dès réception des renseignements\, on vous confirme la réservation par SMS et on vous envoie le règlement intérieur. \nAccueil installation exposant : A partir de 6 h 30 jusqu’à 8 h \nFin du vide grenier à 14 h. \nLes exposants doivent laisser l emplacement propre et emporter leurs déchets\, pas de container poubelle sur place. Les exposants doivent quitter le site au plus tard à 14 h. \nPour des raisons de sécurité\, aucun véhicule à moteur n est autorisé à entrer sur le site pendant le vide grenier.
URL:https://www.calendrierdesbrocantes.fr/event/vide-greniers-de-carcassonne/2031-03-09/
LOCATION:Carcassonne\, route de Limoux\, Carcassonne\, 11000\, France
CATEGORIES:Vide-greniers
ATTACH;FMTTYPE=image/png:https://www.calendrierdesbrocantes.fr/wp-content/uploads/2026/04/carcassonne.png
GEO:43.1981487;2.3249216
X-APPLE-STRUCTURED-LOCATION;VALUE=URI;X-ADDRESS=Carcassonne route de Limoux Carcassonne 11000 France;X-APPLE-RADIUS=500;X-TITLE=route de Limoux:geo:2.3249216,43.1981487
END:VEVENT
BEGIN:VEVENT
DTSTART;TZID=Europe/Paris:20310316T063000
DTEND;TZID=Europe/Paris:20310316T140000
DTSTAMP:20260425T145352
CREATED:20260423T173348Z
LAST-MODIFIED:20260423T173348Z
UID:10026879-1931409000-1931436000@www.calendrierdesbrocantes.fr
SUMMARY:Vide greniers de Carcassonne
DESCRIPTION:Vide grenier de Carcassonne \nRoute de Limoux\, parking situé en face l’ancienne discothèque le Black \nInscription : Par téléphone et de préférence par SMS : Fournir son nom\, prénom\, téléphone et numéro de pièce d identité. Dès réception des renseignements\, on vous confirme la réservation par SMS et on vous envoie le règlement intérieur. \nAccueil installation exposant : A partir de 6 h 30 jusqu’à 8 h \nFin du vide grenier à 14 h. \nLes exposants doivent laisser l emplacement propre et emporter leurs déchets\, pas de container poubelle sur place. Les exposants doivent quitter le site au plus tard à 14 h. \nPour des raisons de sécurité\, aucun véhicule à moteur n est autorisé à entrer sur le site pendant le vide grenier.
URL:https://www.calendrierdesbrocantes.fr/event/vide-greniers-de-carcassonne/2031-03-16/
LOCATION:Carcassonne\, route de Limoux\, Carcassonne\, 11000\, France
CATEGORIES:Vide-greniers
ATTACH;FMTTYPE=image/png:https://www.calendrierdesbrocantes.fr/wp-content/uploads/2026/04/carcassonne.png
GEO:43.1981487;2.3249216
X-APPLE-STRUCTURED-LOCATION;VALUE=URI;X-ADDRESS=Carcassonne route de Limoux Carcassonne 11000 France;X-APPLE-RADIUS=500;X-TITLE=route de Limoux:geo:2.3249216,43.1981487
END:VEVENT
BEGIN:VEVENT
DTSTART;TZID=Europe/Paris:20310323T063000
DTEND;TZID=Europe/Paris:20310323T140000
DTSTAMP:20260425T145352
CREATED:20260423T173348Z
LAST-MODIFIED:20260423T173348Z
UID:10026880-1932013800-1932040800@www.calendrierdesbrocantes.fr
SUMMARY:Vide greniers de Carcassonne
DESCRIPTION:Vide grenier de Carcassonne \nRoute de Limoux\, parking situé en face l’ancienne discothèque le Black \nInscription : Par téléphone et de préférence par SMS : Fournir son nom\, prénom\, téléphone et numéro de pièce d identité. Dès réception des renseignements\, on vous confirme la réservation par SMS et on vous envoie le règlement intérieur. \nAccueil installation exposant : A partir de 6 h 30 jusqu’à 8 h \nFin du vide grenier à 14 h. \nLes exposants doivent laisser l emplacement propre et emporter leurs déchets\, pas de container poubelle sur place. Les exposants doivent quitter le site au plus tard à 14 h. \nPour des raisons de sécurité\, aucun véhicule à moteur n est autorisé à entrer sur le site pendant le vide grenier.
URL:https://www.calendrierdesbrocantes.fr/event/vide-greniers-de-carcassonne/2031-03-23/
LOCATION:Carcassonne\, route de Limoux\, Carcassonne\, 11000\, France
CATEGORIES:Vide-greniers
ATTACH;FMTTYPE=image/png:https://www.calendrierdesbrocantes.fr/wp-content/uploads/2026/04/carcassonne.png
GEO:43.1981487;2.3249216
X-APPLE-STRUCTURED-LOCATION;VALUE=URI;X-ADDRESS=Carcassonne route de Limoux Carcassonne 11000 France;X-APPLE-RADIUS=500;X-TITLE=route de Limoux:geo:2.3249216,43.1981487
END:VEVENT
BEGIN:VEVENT
DTSTART;TZID=Europe/Paris:20310330T063000
DTEND;TZID=Europe/Paris:20310330T140000
DTSTAMP:20260425T145352
CREATED:20260423T173348Z
LAST-MODIFIED:20260423T173348Z
UID:10026881-1932618600-1932645600@www.calendrierdesbrocantes.fr
SUMMARY:Vide greniers de Carcassonne
DESCRIPTION:Vide grenier de Carcassonne \nRoute de Limoux\, parking situé en face l’ancienne discothèque le Black \nInscription : Par téléphone et de préférence par SMS : Fournir son nom\, prénom\, téléphone et numéro de pièce d identité. Dès réception des renseignements\, on vous confirme la réservation par SMS et on vous envoie le règlement intérieur. \nAccueil installation exposant : A partir de 6 h 30 jusqu’à 8 h \nFin du vide grenier à 14 h. \nLes exposants doivent laisser l emplacement propre et emporter leurs déchets\, pas de container poubelle sur place. Les exposants doivent quitter le site au plus tard à 14 h. \nPour des raisons de sécurité\, aucun véhicule à moteur n est autorisé à entrer sur le site pendant le vide grenier.
URL:https://www.calendrierdesbrocantes.fr/event/vide-greniers-de-carcassonne/2031-03-30/
LOCATION:Carcassonne\, route de Limoux\, Carcassonne\, 11000\, France
CATEGORIES:Vide-greniers
ATTACH;FMTTYPE=image/png:https://www.calendrierdesbrocantes.fr/wp-content/uploads/2026/04/carcassonne.png
GEO:43.1981487;2.3249216
X-APPLE-STRUCTURED-LOCATION;VALUE=URI;X-ADDRESS=Carcassonne route de Limoux Carcassonne 11000 France;X-APPLE-RADIUS=500;X-TITLE=route de Limoux:geo:2.3249216,43.1981487
END:VEVENT
BEGIN:VEVENT
DTSTART;TZID=Europe/Paris:20310406T063000
DTEND;TZID=Europe/Paris:20310406T140000
DTSTAMP:20260425T145352
CREATED:20260423T173348Z
LAST-MODIFIED:20260423T173348Z
UID:10026882-1933223400-1933250400@www.calendrierdesbrocantes.fr
SUMMARY:Vide greniers de Carcassonne
DESCRIPTION:Vide grenier de Carcassonne \nRoute de Limoux\, parking situé en face l’ancienne discothèque le Black \nInscription : Par téléphone et de préférence par SMS : Fournir son nom\, prénom\, téléphone et numéro de pièce d identité. Dès réception des renseignements\, on vous confirme la réservation par SMS et on vous envoie le règlement intérieur. \nAccueil installation exposant : A partir de 6 h 30 jusqu’à 8 h \nFin du vide grenier à 14 h. \nLes exposants doivent laisser l emplacement propre et emporter leurs déchets\, pas de container poubelle sur place. Les exposants doivent quitter le site au plus tard à 14 h. \nPour des raisons de sécurité\, aucun véhicule à moteur n est autorisé à entrer sur le site pendant le vide grenier.
URL:https://www.calendrierdesbrocantes.fr/event/vide-greniers-de-carcassonne/2031-04-06/
LOCATION:Carcassonne\, route de Limoux\, Carcassonne\, 11000\, France
CATEGORIES:Vide-greniers
ATTACH;FMTTYPE=image/png:https://www.calendrierdesbrocantes.fr/wp-content/uploads/2026/04/carcassonne.png
GEO:43.1981487;2.3249216
X-APPLE-STRUCTURED-LOCATION;VALUE=URI;X-ADDRESS=Carcassonne route de Limoux Carcassonne 11000 France;X-APPLE-RADIUS=500;X-TITLE=route de Limoux:geo:2.3249216,43.1981487
END:VEVENT
BEGIN:VEVENT
DTSTART;TZID=Europe/Paris:20310413T063000
DTEND;TZID=Europe/Paris:20310413T140000
DTSTAMP:20260425T145352
CREATED:20260423T173348Z
LAST-MODIFIED:20260423T173348Z
UID:10026883-1933828200-1933855200@www.calendrierdesbrocantes.fr
SUMMARY:Vide greniers de Carcassonne
DESCRIPTION:Vide grenier de Carcassonne \nRoute de Limoux\, parking situé en face l’ancienne discothèque le Black \nInscription : Par téléphone et de préférence par SMS : Fournir son nom\, prénom\, téléphone et numéro de pièce d identité. Dès réception des renseignements\, on vous confirme la réservation par SMS et on vous envoie le règlement intérieur. \nAccueil installation exposant : A partir de 6 h 30 jusqu’à 8 h \nFin du vide grenier à 14 h. \nLes exposants doivent laisser l emplacement propre et emporter leurs déchets\, pas de container poubelle sur place. Les exposants doivent quitter le site au plus tard à 14 h. \nPour des raisons de sécurité\, aucun véhicule à moteur n est autorisé à entrer sur le site pendant le vide grenier.
URL:https://www.calendrierdesbrocantes.fr/event/vide-greniers-de-carcassonne/2031-04-13/
LOCATION:Carcassonne\, route de Limoux\, Carcassonne\, 11000\, France
CATEGORIES:Vide-greniers
ATTACH;FMTTYPE=image/png:https://www.calendrierdesbrocantes.fr/wp-content/uploads/2026/04/carcassonne.png
GEO:43.1981487;2.3249216
X-APPLE-STRUCTURED-LOCATION;VALUE=URI;X-ADDRESS=Carcassonne route de Limoux Carcassonne 11000 France;X-APPLE-RADIUS=500;X-TITLE=route de Limoux:geo:2.3249216,43.1981487
END:VEVENT
BEGIN:VEVENT
DTSTART;TZID=Europe/Paris:20310420T063000
DTEND;TZID=Europe/Paris:20310420T140000
DTSTAMP:20260425T145352
CREATED:20260423T173348Z
LAST-MODIFIED:20260423T173348Z
UID:10026884-1934433000-1934460000@www.calendrierdesbrocantes.fr
SUMMARY:Vide greniers de Carcassonne
DESCRIPTION:Vide grenier de Carcassonne \nRoute de Limoux\, parking situé en face l’ancienne discothèque le Black \nInscription : Par téléphone et de préférence par SMS : Fournir son nom\, prénom\, téléphone et numéro de pièce d identité. Dès réception des renseignements\, on vous confirme la réservation par SMS et on vous envoie le règlement intérieur. \nAccueil installation exposant : A partir de 6 h 30 jusqu’à 8 h \nFin du vide grenier à 14 h. \nLes exposants doivent laisser l emplacement propre et emporter leurs déchets\, pas de container poubelle sur place. Les exposants doivent quitter le site au plus tard à 14 h. \nPour des raisons de sécurité\, aucun véhicule à moteur n est autorisé à entrer sur le site pendant le vide grenier.
URL:https://www.calendrierdesbrocantes.fr/event/vide-greniers-de-carcassonne/2031-04-20/
LOCATION:Carcassonne\, route de Limoux\, Carcassonne\, 11000\, France
CATEGORIES:Vide-greniers
ATTACH;FMTTYPE=image/png:https://www.calendrierdesbrocantes.fr/wp-content/uploads/2026/04/carcassonne.png
GEO:43.1981487;2.3249216
X-APPLE-STRUCTURED-LOCATION;VALUE=URI;X-ADDRESS=Carcassonne route de Limoux Carcassonne 11000 France;X-APPLE-RADIUS=500;X-TITLE=route de Limoux:geo:2.3249216,43.1981487
END:VEVENT
END:VCALENDAR