BEGIN:VCALENDAR
VERSION:2.0
PRODID:-//Calendrier des brocantes - ECPv6.15.20//NONSGML v1.0//EN
CALSCALE:GREGORIAN
METHOD:PUBLISH
X-ORIGINAL-URL:https://www.calendrierdesbrocantes.fr
X-WR-CALDESC:Évènements pour Calendrier des brocantes
REFRESH-INTERVAL;VALUE=DURATION:PT1H
X-Robots-Tag:noindex
X-PUBLISHED-TTL:PT1H
BEGIN:VTIMEZONE
TZID:Europe/Paris
BEGIN:DAYLIGHT
TZOFFSETFROM:+0100
TZOFFSETTO:+0200
TZNAME:CEST
DTSTART:20260329T010000
END:DAYLIGHT
BEGIN:STANDARD
TZOFFSETFROM:+0200
TZOFFSETTO:+0100
TZNAME:CET
DTSTART:20261025T010000
END:STANDARD
BEGIN:DAYLIGHT
TZOFFSETFROM:+0100
TZOFFSETTO:+0200
TZNAME:CEST
DTSTART:20270328T010000
END:DAYLIGHT
BEGIN:STANDARD
TZOFFSETFROM:+0200
TZOFFSETTO:+0100
TZNAME:CET
DTSTART:20271031T010000
END:STANDARD
BEGIN:DAYLIGHT
TZOFFSETFROM:+0100
TZOFFSETTO:+0200
TZNAME:CEST
DTSTART:20280326T010000
END:DAYLIGHT
BEGIN:STANDARD
TZOFFSETFROM:+0200
TZOFFSETTO:+0100
TZNAME:CET
DTSTART:20281029T010000
END:STANDARD
BEGIN:DAYLIGHT
TZOFFSETFROM:+0100
TZOFFSETTO:+0200
TZNAME:CEST
DTSTART:20290325T010000
END:DAYLIGHT
BEGIN:STANDARD
TZOFFSETFROM:+0200
TZOFFSETTO:+0100
TZNAME:CET
DTSTART:20291028T010000
END:STANDARD
END:VTIMEZONE
BEGIN:VEVENT
DTSTART;TZID=Europe/Paris:20270829T080000
DTEND;TZID=Europe/Paris:20270829T173000
DTSTAMP:20260422T171459
CREATED:20260421T220111Z
LAST-MODIFIED:20260421T220149Z
UID:10026145-1819526400-1819560600@www.calendrierdesbrocantes.fr
SUMMARY:Brocante de Foix
DESCRIPTION:La brocante du carrefour contact de Foix \n4\, Rue Des Bruilhols\, carrefour contact parking
URL:https://www.calendrierdesbrocantes.fr/event/brocante-de-foix/2027-08-29/
LOCATION:Foix\, 4\, Rue Des Bruilhols\, carrefour contact parking\, Foix\, 09000\, France
CATEGORIES:Brocante
ATTACH;FMTTYPE=image/png:https://www.calendrierdesbrocantes.fr/wp-content/uploads/2026/04/foix.png
GEO:42.975703;1.60806
X-APPLE-STRUCTURED-LOCATION;VALUE=URI;X-ADDRESS=Foix 4 Rue Des Bruilhols carrefour contact parking Foix 09000 France;X-APPLE-RADIUS=500;X-TITLE=4\, Rue Des Bruilhols\, carrefour contact parking:geo:1.60806,42.975703
END:VEVENT
BEGIN:VEVENT
DTSTART;TZID=Europe/Paris:20270905T080000
DTEND;TZID=Europe/Paris:20270905T173000
DTSTAMP:20260422T171459
CREATED:20260421T220111Z
LAST-MODIFIED:20260421T220149Z
UID:10026146-1820131200-1820165400@www.calendrierdesbrocantes.fr
SUMMARY:Brocante de Foix
DESCRIPTION:La brocante du carrefour contact de Foix \n4\, Rue Des Bruilhols\, carrefour contact parking
URL:https://www.calendrierdesbrocantes.fr/event/brocante-de-foix/2027-09-05/
LOCATION:Foix\, 4\, Rue Des Bruilhols\, carrefour contact parking\, Foix\, 09000\, France
CATEGORIES:Brocante
ATTACH;FMTTYPE=image/png:https://www.calendrierdesbrocantes.fr/wp-content/uploads/2026/04/foix.png
GEO:42.975703;1.60806
X-APPLE-STRUCTURED-LOCATION;VALUE=URI;X-ADDRESS=Foix 4 Rue Des Bruilhols carrefour contact parking Foix 09000 France;X-APPLE-RADIUS=500;X-TITLE=4\, Rue Des Bruilhols\, carrefour contact parking:geo:1.60806,42.975703
END:VEVENT
BEGIN:VEVENT
DTSTART;TZID=Europe/Paris:20270912T080000
DTEND;TZID=Europe/Paris:20270912T173000
DTSTAMP:20260422T171459
CREATED:20260421T220111Z
LAST-MODIFIED:20260421T220149Z
UID:10026147-1820736000-1820770200@www.calendrierdesbrocantes.fr
SUMMARY:Brocante de Foix
DESCRIPTION:La brocante du carrefour contact de Foix \n4\, Rue Des Bruilhols\, carrefour contact parking
URL:https://www.calendrierdesbrocantes.fr/event/brocante-de-foix/2027-09-12/
LOCATION:Foix\, 4\, Rue Des Bruilhols\, carrefour contact parking\, Foix\, 09000\, France
CATEGORIES:Brocante
ATTACH;FMTTYPE=image/png:https://www.calendrierdesbrocantes.fr/wp-content/uploads/2026/04/foix.png
GEO:42.975703;1.60806
X-APPLE-STRUCTURED-LOCATION;VALUE=URI;X-ADDRESS=Foix 4 Rue Des Bruilhols carrefour contact parking Foix 09000 France;X-APPLE-RADIUS=500;X-TITLE=4\, Rue Des Bruilhols\, carrefour contact parking:geo:1.60806,42.975703
END:VEVENT
BEGIN:VEVENT
DTSTART;TZID=Europe/Paris:20270919T080000
DTEND;TZID=Europe/Paris:20270919T173000
DTSTAMP:20260422T171459
CREATED:20260421T220111Z
LAST-MODIFIED:20260421T220149Z
UID:10026148-1821340800-1821375000@www.calendrierdesbrocantes.fr
SUMMARY:Brocante de Foix
DESCRIPTION:La brocante du carrefour contact de Foix \n4\, Rue Des Bruilhols\, carrefour contact parking
URL:https://www.calendrierdesbrocantes.fr/event/brocante-de-foix/2027-09-19/
LOCATION:Foix\, 4\, Rue Des Bruilhols\, carrefour contact parking\, Foix\, 09000\, France
CATEGORIES:Brocante
ATTACH;FMTTYPE=image/png:https://www.calendrierdesbrocantes.fr/wp-content/uploads/2026/04/foix.png
GEO:42.975703;1.60806
X-APPLE-STRUCTURED-LOCATION;VALUE=URI;X-ADDRESS=Foix 4 Rue Des Bruilhols carrefour contact parking Foix 09000 France;X-APPLE-RADIUS=500;X-TITLE=4\, Rue Des Bruilhols\, carrefour contact parking:geo:1.60806,42.975703
END:VEVENT
BEGIN:VEVENT
DTSTART;TZID=Europe/Paris:20270926T080000
DTEND;TZID=Europe/Paris:20270926T173000
DTSTAMP:20260422T171459
CREATED:20260421T220111Z
LAST-MODIFIED:20260421T220149Z
UID:10026149-1821945600-1821979800@www.calendrierdesbrocantes.fr
SUMMARY:Brocante de Foix
DESCRIPTION:La brocante du carrefour contact de Foix \n4\, Rue Des Bruilhols\, carrefour contact parking
URL:https://www.calendrierdesbrocantes.fr/event/brocante-de-foix/2027-09-26/
LOCATION:Foix\, 4\, Rue Des Bruilhols\, carrefour contact parking\, Foix\, 09000\, France
CATEGORIES:Brocante
ATTACH;FMTTYPE=image/png:https://www.calendrierdesbrocantes.fr/wp-content/uploads/2026/04/foix.png
GEO:42.975703;1.60806
X-APPLE-STRUCTURED-LOCATION;VALUE=URI;X-ADDRESS=Foix 4 Rue Des Bruilhols carrefour contact parking Foix 09000 France;X-APPLE-RADIUS=500;X-TITLE=4\, Rue Des Bruilhols\, carrefour contact parking:geo:1.60806,42.975703
END:VEVENT
BEGIN:VEVENT
DTSTART;TZID=Europe/Paris:20271003T080000
DTEND;TZID=Europe/Paris:20271003T173000
DTSTAMP:20260422T171459
CREATED:20260421T220111Z
LAST-MODIFIED:20260421T220149Z
UID:10026150-1822550400-1822584600@www.calendrierdesbrocantes.fr
SUMMARY:Brocante de Foix
DESCRIPTION:La brocante du carrefour contact de Foix \n4\, Rue Des Bruilhols\, carrefour contact parking
URL:https://www.calendrierdesbrocantes.fr/event/brocante-de-foix/2027-10-03/
LOCATION:Foix\, 4\, Rue Des Bruilhols\, carrefour contact parking\, Foix\, 09000\, France
CATEGORIES:Brocante
ATTACH;FMTTYPE=image/png:https://www.calendrierdesbrocantes.fr/wp-content/uploads/2026/04/foix.png
GEO:42.975703;1.60806
X-APPLE-STRUCTURED-LOCATION;VALUE=URI;X-ADDRESS=Foix 4 Rue Des Bruilhols carrefour contact parking Foix 09000 France;X-APPLE-RADIUS=500;X-TITLE=4\, Rue Des Bruilhols\, carrefour contact parking:geo:1.60806,42.975703
END:VEVENT
BEGIN:VEVENT
DTSTART;TZID=Europe/Paris:20271010T080000
DTEND;TZID=Europe/Paris:20271010T173000
DTSTAMP:20260422T171459
CREATED:20260421T220111Z
LAST-MODIFIED:20260421T220149Z
UID:10026151-1823155200-1823189400@www.calendrierdesbrocantes.fr
SUMMARY:Brocante de Foix
DESCRIPTION:La brocante du carrefour contact de Foix \n4\, Rue Des Bruilhols\, carrefour contact parking
URL:https://www.calendrierdesbrocantes.fr/event/brocante-de-foix/2027-10-10/
LOCATION:Foix\, 4\, Rue Des Bruilhols\, carrefour contact parking\, Foix\, 09000\, France
CATEGORIES:Brocante
ATTACH;FMTTYPE=image/png:https://www.calendrierdesbrocantes.fr/wp-content/uploads/2026/04/foix.png
GEO:42.975703;1.60806
X-APPLE-STRUCTURED-LOCATION;VALUE=URI;X-ADDRESS=Foix 4 Rue Des Bruilhols carrefour contact parking Foix 09000 France;X-APPLE-RADIUS=500;X-TITLE=4\, Rue Des Bruilhols\, carrefour contact parking:geo:1.60806,42.975703
END:VEVENT
BEGIN:VEVENT
DTSTART;TZID=Europe/Paris:20271017T080000
DTEND;TZID=Europe/Paris:20271017T173000
DTSTAMP:20260422T171459
CREATED:20260421T220111Z
LAST-MODIFIED:20260421T220149Z
UID:10026152-1823760000-1823794200@www.calendrierdesbrocantes.fr
SUMMARY:Brocante de Foix
DESCRIPTION:La brocante du carrefour contact de Foix \n4\, Rue Des Bruilhols\, carrefour contact parking
URL:https://www.calendrierdesbrocantes.fr/event/brocante-de-foix/2027-10-17/
LOCATION:Foix\, 4\, Rue Des Bruilhols\, carrefour contact parking\, Foix\, 09000\, France
CATEGORIES:Brocante
ATTACH;FMTTYPE=image/png:https://www.calendrierdesbrocantes.fr/wp-content/uploads/2026/04/foix.png
GEO:42.975703;1.60806
X-APPLE-STRUCTURED-LOCATION;VALUE=URI;X-ADDRESS=Foix 4 Rue Des Bruilhols carrefour contact parking Foix 09000 France;X-APPLE-RADIUS=500;X-TITLE=4\, Rue Des Bruilhols\, carrefour contact parking:geo:1.60806,42.975703
END:VEVENT
BEGIN:VEVENT
DTSTART;TZID=Europe/Paris:20271024T080000
DTEND;TZID=Europe/Paris:20271024T173000
DTSTAMP:20260422T171459
CREATED:20260421T220111Z
LAST-MODIFIED:20260421T220149Z
UID:10026153-1824364800-1824399000@www.calendrierdesbrocantes.fr
SUMMARY:Brocante de Foix
DESCRIPTION:La brocante du carrefour contact de Foix \n4\, Rue Des Bruilhols\, carrefour contact parking
URL:https://www.calendrierdesbrocantes.fr/event/brocante-de-foix/2027-10-24/
LOCATION:Foix\, 4\, Rue Des Bruilhols\, carrefour contact parking\, Foix\, 09000\, France
CATEGORIES:Brocante
ATTACH;FMTTYPE=image/png:https://www.calendrierdesbrocantes.fr/wp-content/uploads/2026/04/foix.png
GEO:42.975703;1.60806
X-APPLE-STRUCTURED-LOCATION;VALUE=URI;X-ADDRESS=Foix 4 Rue Des Bruilhols carrefour contact parking Foix 09000 France;X-APPLE-RADIUS=500;X-TITLE=4\, Rue Des Bruilhols\, carrefour contact parking:geo:1.60806,42.975703
END:VEVENT
BEGIN:VEVENT
DTSTART;TZID=Europe/Paris:20271031T080000
DTEND;TZID=Europe/Paris:20271031T173000
DTSTAMP:20260422T171459
CREATED:20260421T220111Z
LAST-MODIFIED:20260421T220149Z
UID:10026154-1824969600-1825003800@www.calendrierdesbrocantes.fr
SUMMARY:Brocante de Foix
DESCRIPTION:La brocante du carrefour contact de Foix \n4\, Rue Des Bruilhols\, carrefour contact parking
URL:https://www.calendrierdesbrocantes.fr/event/brocante-de-foix/2027-10-31/
LOCATION:Foix\, 4\, Rue Des Bruilhols\, carrefour contact parking\, Foix\, 09000\, France
CATEGORIES:Brocante
ATTACH;FMTTYPE=image/png:https://www.calendrierdesbrocantes.fr/wp-content/uploads/2026/04/foix.png
GEO:42.975703;1.60806
X-APPLE-STRUCTURED-LOCATION;VALUE=URI;X-ADDRESS=Foix 4 Rue Des Bruilhols carrefour contact parking Foix 09000 France;X-APPLE-RADIUS=500;X-TITLE=4\, Rue Des Bruilhols\, carrefour contact parking:geo:1.60806,42.975703
END:VEVENT
BEGIN:VEVENT
DTSTART;TZID=Europe/Paris:20271107T080000
DTEND;TZID=Europe/Paris:20271107T173000
DTSTAMP:20260422T171459
CREATED:20260421T220111Z
LAST-MODIFIED:20260421T220149Z
UID:10026155-1825574400-1825608600@www.calendrierdesbrocantes.fr
SUMMARY:Brocante de Foix
DESCRIPTION:La brocante du carrefour contact de Foix \n4\, Rue Des Bruilhols\, carrefour contact parking
URL:https://www.calendrierdesbrocantes.fr/event/brocante-de-foix/2027-11-07/
LOCATION:Foix\, 4\, Rue Des Bruilhols\, carrefour contact parking\, Foix\, 09000\, France
CATEGORIES:Brocante
ATTACH;FMTTYPE=image/png:https://www.calendrierdesbrocantes.fr/wp-content/uploads/2026/04/foix.png
GEO:42.975703;1.60806
X-APPLE-STRUCTURED-LOCATION;VALUE=URI;X-ADDRESS=Foix 4 Rue Des Bruilhols carrefour contact parking Foix 09000 France;X-APPLE-RADIUS=500;X-TITLE=4\, Rue Des Bruilhols\, carrefour contact parking:geo:1.60806,42.975703
END:VEVENT
BEGIN:VEVENT
DTSTART;TZID=Europe/Paris:20271114T080000
DTEND;TZID=Europe/Paris:20271114T173000
DTSTAMP:20260422T171459
CREATED:20260421T220111Z
LAST-MODIFIED:20260421T220149Z
UID:10026156-1826179200-1826213400@www.calendrierdesbrocantes.fr
SUMMARY:Brocante de Foix
DESCRIPTION:La brocante du carrefour contact de Foix \n4\, Rue Des Bruilhols\, carrefour contact parking
URL:https://www.calendrierdesbrocantes.fr/event/brocante-de-foix/2027-11-14/
LOCATION:Foix\, 4\, Rue Des Bruilhols\, carrefour contact parking\, Foix\, 09000\, France
CATEGORIES:Brocante
ATTACH;FMTTYPE=image/png:https://www.calendrierdesbrocantes.fr/wp-content/uploads/2026/04/foix.png
GEO:42.975703;1.60806
X-APPLE-STRUCTURED-LOCATION;VALUE=URI;X-ADDRESS=Foix 4 Rue Des Bruilhols carrefour contact parking Foix 09000 France;X-APPLE-RADIUS=500;X-TITLE=4\, Rue Des Bruilhols\, carrefour contact parking:geo:1.60806,42.975703
END:VEVENT
BEGIN:VEVENT
DTSTART;TZID=Europe/Paris:20271121T080000
DTEND;TZID=Europe/Paris:20271121T173000
DTSTAMP:20260422T171459
CREATED:20260421T220111Z
LAST-MODIFIED:20260421T220149Z
UID:10026157-1826784000-1826818200@www.calendrierdesbrocantes.fr
SUMMARY:Brocante de Foix
DESCRIPTION:La brocante du carrefour contact de Foix \n4\, Rue Des Bruilhols\, carrefour contact parking
URL:https://www.calendrierdesbrocantes.fr/event/brocante-de-foix/2027-11-21/
LOCATION:Foix\, 4\, Rue Des Bruilhols\, carrefour contact parking\, Foix\, 09000\, France
CATEGORIES:Brocante
ATTACH;FMTTYPE=image/png:https://www.calendrierdesbrocantes.fr/wp-content/uploads/2026/04/foix.png
GEO:42.975703;1.60806
X-APPLE-STRUCTURED-LOCATION;VALUE=URI;X-ADDRESS=Foix 4 Rue Des Bruilhols carrefour contact parking Foix 09000 France;X-APPLE-RADIUS=500;X-TITLE=4\, Rue Des Bruilhols\, carrefour contact parking:geo:1.60806,42.975703
END:VEVENT
BEGIN:VEVENT
DTSTART;TZID=Europe/Paris:20271128T080000
DTEND;TZID=Europe/Paris:20271128T173000
DTSTAMP:20260422T171459
CREATED:20260421T220111Z
LAST-MODIFIED:20260421T220149Z
UID:10026158-1827388800-1827423000@www.calendrierdesbrocantes.fr
SUMMARY:Brocante de Foix
DESCRIPTION:La brocante du carrefour contact de Foix \n4\, Rue Des Bruilhols\, carrefour contact parking
URL:https://www.calendrierdesbrocantes.fr/event/brocante-de-foix/2027-11-28/
LOCATION:Foix\, 4\, Rue Des Bruilhols\, carrefour contact parking\, Foix\, 09000\, France
CATEGORIES:Brocante
ATTACH;FMTTYPE=image/png:https://www.calendrierdesbrocantes.fr/wp-content/uploads/2026/04/foix.png
GEO:42.975703;1.60806
X-APPLE-STRUCTURED-LOCATION;VALUE=URI;X-ADDRESS=Foix 4 Rue Des Bruilhols carrefour contact parking Foix 09000 France;X-APPLE-RADIUS=500;X-TITLE=4\, Rue Des Bruilhols\, carrefour contact parking:geo:1.60806,42.975703
END:VEVENT
BEGIN:VEVENT
DTSTART;TZID=Europe/Paris:20271205T080000
DTEND;TZID=Europe/Paris:20271205T173000
DTSTAMP:20260422T171459
CREATED:20260421T220111Z
LAST-MODIFIED:20260421T220149Z
UID:10026159-1827993600-1828027800@www.calendrierdesbrocantes.fr
SUMMARY:Brocante de Foix
DESCRIPTION:La brocante du carrefour contact de Foix \n4\, Rue Des Bruilhols\, carrefour contact parking
URL:https://www.calendrierdesbrocantes.fr/event/brocante-de-foix/2027-12-05/
LOCATION:Foix\, 4\, Rue Des Bruilhols\, carrefour contact parking\, Foix\, 09000\, France
CATEGORIES:Brocante
ATTACH;FMTTYPE=image/png:https://www.calendrierdesbrocantes.fr/wp-content/uploads/2026/04/foix.png
GEO:42.975703;1.60806
X-APPLE-STRUCTURED-LOCATION;VALUE=URI;X-ADDRESS=Foix 4 Rue Des Bruilhols carrefour contact parking Foix 09000 France;X-APPLE-RADIUS=500;X-TITLE=4\, Rue Des Bruilhols\, carrefour contact parking:geo:1.60806,42.975703
END:VEVENT
BEGIN:VEVENT
DTSTART;TZID=Europe/Paris:20271212T080000
DTEND;TZID=Europe/Paris:20271212T173000
DTSTAMP:20260422T171459
CREATED:20260421T220111Z
LAST-MODIFIED:20260421T220149Z
UID:10026160-1828598400-1828632600@www.calendrierdesbrocantes.fr
SUMMARY:Brocante de Foix
DESCRIPTION:La brocante du carrefour contact de Foix \n4\, Rue Des Bruilhols\, carrefour contact parking
URL:https://www.calendrierdesbrocantes.fr/event/brocante-de-foix/2027-12-12/
LOCATION:Foix\, 4\, Rue Des Bruilhols\, carrefour contact parking\, Foix\, 09000\, France
CATEGORIES:Brocante
ATTACH;FMTTYPE=image/png:https://www.calendrierdesbrocantes.fr/wp-content/uploads/2026/04/foix.png
GEO:42.975703;1.60806
X-APPLE-STRUCTURED-LOCATION;VALUE=URI;X-ADDRESS=Foix 4 Rue Des Bruilhols carrefour contact parking Foix 09000 France;X-APPLE-RADIUS=500;X-TITLE=4\, Rue Des Bruilhols\, carrefour contact parking:geo:1.60806,42.975703
END:VEVENT
BEGIN:VEVENT
DTSTART;TZID=Europe/Paris:20271219T080000
DTEND;TZID=Europe/Paris:20271219T173000
DTSTAMP:20260422T171459
CREATED:20260421T220111Z
LAST-MODIFIED:20260421T220149Z
UID:10026161-1829203200-1829237400@www.calendrierdesbrocantes.fr
SUMMARY:Brocante de Foix
DESCRIPTION:La brocante du carrefour contact de Foix \n4\, Rue Des Bruilhols\, carrefour contact parking
URL:https://www.calendrierdesbrocantes.fr/event/brocante-de-foix/2027-12-19/
LOCATION:Foix\, 4\, Rue Des Bruilhols\, carrefour contact parking\, Foix\, 09000\, France
CATEGORIES:Brocante
ATTACH;FMTTYPE=image/png:https://www.calendrierdesbrocantes.fr/wp-content/uploads/2026/04/foix.png
GEO:42.975703;1.60806
X-APPLE-STRUCTURED-LOCATION;VALUE=URI;X-ADDRESS=Foix 4 Rue Des Bruilhols carrefour contact parking Foix 09000 France;X-APPLE-RADIUS=500;X-TITLE=4\, Rue Des Bruilhols\, carrefour contact parking:geo:1.60806,42.975703
END:VEVENT
BEGIN:VEVENT
DTSTART;TZID=Europe/Paris:20271226T080000
DTEND;TZID=Europe/Paris:20271226T173000
DTSTAMP:20260422T171459
CREATED:20260421T220111Z
LAST-MODIFIED:20260421T220149Z
UID:10026162-1829808000-1829842200@www.calendrierdesbrocantes.fr
SUMMARY:Brocante de Foix
DESCRIPTION:La brocante du carrefour contact de Foix \n4\, Rue Des Bruilhols\, carrefour contact parking
URL:https://www.calendrierdesbrocantes.fr/event/brocante-de-foix/2027-12-26/
LOCATION:Foix\, 4\, Rue Des Bruilhols\, carrefour contact parking\, Foix\, 09000\, France
CATEGORIES:Brocante
ATTACH;FMTTYPE=image/png:https://www.calendrierdesbrocantes.fr/wp-content/uploads/2026/04/foix.png
GEO:42.975703;1.60806
X-APPLE-STRUCTURED-LOCATION;VALUE=URI;X-ADDRESS=Foix 4 Rue Des Bruilhols carrefour contact parking Foix 09000 France;X-APPLE-RADIUS=500;X-TITLE=4\, Rue Des Bruilhols\, carrefour contact parking:geo:1.60806,42.975703
END:VEVENT
BEGIN:VEVENT
DTSTART;TZID=Europe/Paris:20280102T080000
DTEND;TZID=Europe/Paris:20280102T173000
DTSTAMP:20260422T171459
CREATED:20260421T220111Z
LAST-MODIFIED:20260421T220149Z
UID:10026163-1830412800-1830447000@www.calendrierdesbrocantes.fr
SUMMARY:Brocante de Foix
DESCRIPTION:La brocante du carrefour contact de Foix \n4\, Rue Des Bruilhols\, carrefour contact parking
URL:https://www.calendrierdesbrocantes.fr/event/brocante-de-foix/2028-01-02/
LOCATION:Foix\, 4\, Rue Des Bruilhols\, carrefour contact parking\, Foix\, 09000\, France
CATEGORIES:Brocante
ATTACH;FMTTYPE=image/png:https://www.calendrierdesbrocantes.fr/wp-content/uploads/2026/04/foix.png
GEO:42.975703;1.60806
X-APPLE-STRUCTURED-LOCATION;VALUE=URI;X-ADDRESS=Foix 4 Rue Des Bruilhols carrefour contact parking Foix 09000 France;X-APPLE-RADIUS=500;X-TITLE=4\, Rue Des Bruilhols\, carrefour contact parking:geo:1.60806,42.975703
END:VEVENT
BEGIN:VEVENT
DTSTART;TZID=Europe/Paris:20280109T080000
DTEND;TZID=Europe/Paris:20280109T173000
DTSTAMP:20260422T171459
CREATED:20260421T220111Z
LAST-MODIFIED:20260421T220149Z
UID:10026164-1831017600-1831051800@www.calendrierdesbrocantes.fr
SUMMARY:Brocante de Foix
DESCRIPTION:La brocante du carrefour contact de Foix \n4\, Rue Des Bruilhols\, carrefour contact parking
URL:https://www.calendrierdesbrocantes.fr/event/brocante-de-foix/2028-01-09/
LOCATION:Foix\, 4\, Rue Des Bruilhols\, carrefour contact parking\, Foix\, 09000\, France
CATEGORIES:Brocante
ATTACH;FMTTYPE=image/png:https://www.calendrierdesbrocantes.fr/wp-content/uploads/2026/04/foix.png
GEO:42.975703;1.60806
X-APPLE-STRUCTURED-LOCATION;VALUE=URI;X-ADDRESS=Foix 4 Rue Des Bruilhols carrefour contact parking Foix 09000 France;X-APPLE-RADIUS=500;X-TITLE=4\, Rue Des Bruilhols\, carrefour contact parking:geo:1.60806,42.975703
END:VEVENT
BEGIN:VEVENT
DTSTART;TZID=Europe/Paris:20280116T080000
DTEND;TZID=Europe/Paris:20280116T173000
DTSTAMP:20260422T171459
CREATED:20260421T220111Z
LAST-MODIFIED:20260421T220149Z
UID:10026165-1831622400-1831656600@www.calendrierdesbrocantes.fr
SUMMARY:Brocante de Foix
DESCRIPTION:La brocante du carrefour contact de Foix \n4\, Rue Des Bruilhols\, carrefour contact parking
URL:https://www.calendrierdesbrocantes.fr/event/brocante-de-foix/2028-01-16/
LOCATION:Foix\, 4\, Rue Des Bruilhols\, carrefour contact parking\, Foix\, 09000\, France
CATEGORIES:Brocante
ATTACH;FMTTYPE=image/png:https://www.calendrierdesbrocantes.fr/wp-content/uploads/2026/04/foix.png
GEO:42.975703;1.60806
X-APPLE-STRUCTURED-LOCATION;VALUE=URI;X-ADDRESS=Foix 4 Rue Des Bruilhols carrefour contact parking Foix 09000 France;X-APPLE-RADIUS=500;X-TITLE=4\, Rue Des Bruilhols\, carrefour contact parking:geo:1.60806,42.975703
END:VEVENT
BEGIN:VEVENT
DTSTART;TZID=Europe/Paris:20280123T080000
DTEND;TZID=Europe/Paris:20280123T173000
DTSTAMP:20260422T171459
CREATED:20260421T220111Z
LAST-MODIFIED:20260421T220149Z
UID:10026166-1832227200-1832261400@www.calendrierdesbrocantes.fr
SUMMARY:Brocante de Foix
DESCRIPTION:La brocante du carrefour contact de Foix \n4\, Rue Des Bruilhols\, carrefour contact parking
URL:https://www.calendrierdesbrocantes.fr/event/brocante-de-foix/2028-01-23/
LOCATION:Foix\, 4\, Rue Des Bruilhols\, carrefour contact parking\, Foix\, 09000\, France
CATEGORIES:Brocante
ATTACH;FMTTYPE=image/png:https://www.calendrierdesbrocantes.fr/wp-content/uploads/2026/04/foix.png
GEO:42.975703;1.60806
X-APPLE-STRUCTURED-LOCATION;VALUE=URI;X-ADDRESS=Foix 4 Rue Des Bruilhols carrefour contact parking Foix 09000 France;X-APPLE-RADIUS=500;X-TITLE=4\, Rue Des Bruilhols\, carrefour contact parking:geo:1.60806,42.975703
END:VEVENT
BEGIN:VEVENT
DTSTART;TZID=Europe/Paris:20280130T080000
DTEND;TZID=Europe/Paris:20280130T173000
DTSTAMP:20260422T171459
CREATED:20260421T220111Z
LAST-MODIFIED:20260421T220149Z
UID:10026167-1832832000-1832866200@www.calendrierdesbrocantes.fr
SUMMARY:Brocante de Foix
DESCRIPTION:La brocante du carrefour contact de Foix \n4\, Rue Des Bruilhols\, carrefour contact parking
URL:https://www.calendrierdesbrocantes.fr/event/brocante-de-foix/2028-01-30/
LOCATION:Foix\, 4\, Rue Des Bruilhols\, carrefour contact parking\, Foix\, 09000\, France
CATEGORIES:Brocante
ATTACH;FMTTYPE=image/png:https://www.calendrierdesbrocantes.fr/wp-content/uploads/2026/04/foix.png
GEO:42.975703;1.60806
X-APPLE-STRUCTURED-LOCATION;VALUE=URI;X-ADDRESS=Foix 4 Rue Des Bruilhols carrefour contact parking Foix 09000 France;X-APPLE-RADIUS=500;X-TITLE=4\, Rue Des Bruilhols\, carrefour contact parking:geo:1.60806,42.975703
END:VEVENT
BEGIN:VEVENT
DTSTART;TZID=Europe/Paris:20280206T080000
DTEND;TZID=Europe/Paris:20280206T173000
DTSTAMP:20260422T171459
CREATED:20260421T220111Z
LAST-MODIFIED:20260421T220149Z
UID:10026168-1833436800-1833471000@www.calendrierdesbrocantes.fr
SUMMARY:Brocante de Foix
DESCRIPTION:La brocante du carrefour contact de Foix \n4\, Rue Des Bruilhols\, carrefour contact parking
URL:https://www.calendrierdesbrocantes.fr/event/brocante-de-foix/2028-02-06/
LOCATION:Foix\, 4\, Rue Des Bruilhols\, carrefour contact parking\, Foix\, 09000\, France
CATEGORIES:Brocante
ATTACH;FMTTYPE=image/png:https://www.calendrierdesbrocantes.fr/wp-content/uploads/2026/04/foix.png
GEO:42.975703;1.60806
X-APPLE-STRUCTURED-LOCATION;VALUE=URI;X-ADDRESS=Foix 4 Rue Des Bruilhols carrefour contact parking Foix 09000 France;X-APPLE-RADIUS=500;X-TITLE=4\, Rue Des Bruilhols\, carrefour contact parking:geo:1.60806,42.975703
END:VEVENT
BEGIN:VEVENT
DTSTART;TZID=Europe/Paris:20280213T080000
DTEND;TZID=Europe/Paris:20280213T173000
DTSTAMP:20260422T171459
CREATED:20260421T220111Z
LAST-MODIFIED:20260421T220149Z
UID:10026169-1834041600-1834075800@www.calendrierdesbrocantes.fr
SUMMARY:Brocante de Foix
DESCRIPTION:La brocante du carrefour contact de Foix \n4\, Rue Des Bruilhols\, carrefour contact parking
URL:https://www.calendrierdesbrocantes.fr/event/brocante-de-foix/2028-02-13/
LOCATION:Foix\, 4\, Rue Des Bruilhols\, carrefour contact parking\, Foix\, 09000\, France
CATEGORIES:Brocante
ATTACH;FMTTYPE=image/png:https://www.calendrierdesbrocantes.fr/wp-content/uploads/2026/04/foix.png
GEO:42.975703;1.60806
X-APPLE-STRUCTURED-LOCATION;VALUE=URI;X-ADDRESS=Foix 4 Rue Des Bruilhols carrefour contact parking Foix 09000 France;X-APPLE-RADIUS=500;X-TITLE=4\, Rue Des Bruilhols\, carrefour contact parking:geo:1.60806,42.975703
END:VEVENT
BEGIN:VEVENT
DTSTART;TZID=Europe/Paris:20280220T080000
DTEND;TZID=Europe/Paris:20280220T173000
DTSTAMP:20260422T171459
CREATED:20260421T220111Z
LAST-MODIFIED:20260421T220149Z
UID:10026170-1834646400-1834680600@www.calendrierdesbrocantes.fr
SUMMARY:Brocante de Foix
DESCRIPTION:La brocante du carrefour contact de Foix \n4\, Rue Des Bruilhols\, carrefour contact parking
URL:https://www.calendrierdesbrocantes.fr/event/brocante-de-foix/2028-02-20/
LOCATION:Foix\, 4\, Rue Des Bruilhols\, carrefour contact parking\, Foix\, 09000\, France
CATEGORIES:Brocante
ATTACH;FMTTYPE=image/png:https://www.calendrierdesbrocantes.fr/wp-content/uploads/2026/04/foix.png
GEO:42.975703;1.60806
X-APPLE-STRUCTURED-LOCATION;VALUE=URI;X-ADDRESS=Foix 4 Rue Des Bruilhols carrefour contact parking Foix 09000 France;X-APPLE-RADIUS=500;X-TITLE=4\, Rue Des Bruilhols\, carrefour contact parking:geo:1.60806,42.975703
END:VEVENT
BEGIN:VEVENT
DTSTART;TZID=Europe/Paris:20280227T080000
DTEND;TZID=Europe/Paris:20280227T173000
DTSTAMP:20260422T171459
CREATED:20260421T220111Z
LAST-MODIFIED:20260421T220149Z
UID:10026171-1835251200-1835285400@www.calendrierdesbrocantes.fr
SUMMARY:Brocante de Foix
DESCRIPTION:La brocante du carrefour contact de Foix \n4\, Rue Des Bruilhols\, carrefour contact parking
URL:https://www.calendrierdesbrocantes.fr/event/brocante-de-foix/2028-02-27/
LOCATION:Foix\, 4\, Rue Des Bruilhols\, carrefour contact parking\, Foix\, 09000\, France
CATEGORIES:Brocante
ATTACH;FMTTYPE=image/png:https://www.calendrierdesbrocantes.fr/wp-content/uploads/2026/04/foix.png
GEO:42.975703;1.60806
X-APPLE-STRUCTURED-LOCATION;VALUE=URI;X-ADDRESS=Foix 4 Rue Des Bruilhols carrefour contact parking Foix 09000 France;X-APPLE-RADIUS=500;X-TITLE=4\, Rue Des Bruilhols\, carrefour contact parking:geo:1.60806,42.975703
END:VEVENT
BEGIN:VEVENT
DTSTART;TZID=Europe/Paris:20280305T080000
DTEND;TZID=Europe/Paris:20280305T173000
DTSTAMP:20260422T171459
CREATED:20260421T220111Z
LAST-MODIFIED:20260421T220149Z
UID:10026172-1835856000-1835890200@www.calendrierdesbrocantes.fr
SUMMARY:Brocante de Foix
DESCRIPTION:La brocante du carrefour contact de Foix \n4\, Rue Des Bruilhols\, carrefour contact parking
URL:https://www.calendrierdesbrocantes.fr/event/brocante-de-foix/2028-03-05/
LOCATION:Foix\, 4\, Rue Des Bruilhols\, carrefour contact parking\, Foix\, 09000\, France
CATEGORIES:Brocante
ATTACH;FMTTYPE=image/png:https://www.calendrierdesbrocantes.fr/wp-content/uploads/2026/04/foix.png
GEO:42.975703;1.60806
X-APPLE-STRUCTURED-LOCATION;VALUE=URI;X-ADDRESS=Foix 4 Rue Des Bruilhols carrefour contact parking Foix 09000 France;X-APPLE-RADIUS=500;X-TITLE=4\, Rue Des Bruilhols\, carrefour contact parking:geo:1.60806,42.975703
END:VEVENT
BEGIN:VEVENT
DTSTART;TZID=Europe/Paris:20280312T080000
DTEND;TZID=Europe/Paris:20280312T173000
DTSTAMP:20260422T171459
CREATED:20260421T220111Z
LAST-MODIFIED:20260421T220149Z
UID:10026173-1836460800-1836495000@www.calendrierdesbrocantes.fr
SUMMARY:Brocante de Foix
DESCRIPTION:La brocante du carrefour contact de Foix \n4\, Rue Des Bruilhols\, carrefour contact parking
URL:https://www.calendrierdesbrocantes.fr/event/brocante-de-foix/2028-03-12/
LOCATION:Foix\, 4\, Rue Des Bruilhols\, carrefour contact parking\, Foix\, 09000\, France
CATEGORIES:Brocante
ATTACH;FMTTYPE=image/png:https://www.calendrierdesbrocantes.fr/wp-content/uploads/2026/04/foix.png
GEO:42.975703;1.60806
X-APPLE-STRUCTURED-LOCATION;VALUE=URI;X-ADDRESS=Foix 4 Rue Des Bruilhols carrefour contact parking Foix 09000 France;X-APPLE-RADIUS=500;X-TITLE=4\, Rue Des Bruilhols\, carrefour contact parking:geo:1.60806,42.975703
END:VEVENT
BEGIN:VEVENT
DTSTART;TZID=Europe/Paris:20280319T080000
DTEND;TZID=Europe/Paris:20280319T173000
DTSTAMP:20260422T171459
CREATED:20260421T220111Z
LAST-MODIFIED:20260421T220149Z
UID:10026174-1837065600-1837099800@www.calendrierdesbrocantes.fr
SUMMARY:Brocante de Foix
DESCRIPTION:La brocante du carrefour contact de Foix \n4\, Rue Des Bruilhols\, carrefour contact parking
URL:https://www.calendrierdesbrocantes.fr/event/brocante-de-foix/2028-03-19/
LOCATION:Foix\, 4\, Rue Des Bruilhols\, carrefour contact parking\, Foix\, 09000\, France
CATEGORIES:Brocante
ATTACH;FMTTYPE=image/png:https://www.calendrierdesbrocantes.fr/wp-content/uploads/2026/04/foix.png
GEO:42.975703;1.60806
X-APPLE-STRUCTURED-LOCATION;VALUE=URI;X-ADDRESS=Foix 4 Rue Des Bruilhols carrefour contact parking Foix 09000 France;X-APPLE-RADIUS=500;X-TITLE=4\, Rue Des Bruilhols\, carrefour contact parking:geo:1.60806,42.975703
END:VEVENT
END:VCALENDAR