BEGIN:VCALENDAR
VERSION:2.0
PRODID:-//Calendrier des brocantes - ECPv6.15.20//NONSGML v1.0//EN
CALSCALE:GREGORIAN
METHOD:PUBLISH
X-ORIGINAL-URL:https://www.calendrierdesbrocantes.fr
X-WR-CALDESC:Évènements pour Calendrier des brocantes
REFRESH-INTERVAL;VALUE=DURATION:PT1H
X-Robots-Tag:noindex
X-PUBLISHED-TTL:PT1H
BEGIN:VTIMEZONE
TZID:Europe/Paris
BEGIN:DAYLIGHT
TZOFFSETFROM:+0100
TZOFFSETTO:+0200
TZNAME:CEST
DTSTART:20250330T010000
END:DAYLIGHT
BEGIN:STANDARD
TZOFFSETFROM:+0200
TZOFFSETTO:+0100
TZNAME:CET
DTSTART:20251026T010000
END:STANDARD
BEGIN:DAYLIGHT
TZOFFSETFROM:+0100
TZOFFSETTO:+0200
TZNAME:CEST
DTSTART:20260329T010000
END:DAYLIGHT
BEGIN:STANDARD
TZOFFSETFROM:+0200
TZOFFSETTO:+0100
TZNAME:CET
DTSTART:20261025T010000
END:STANDARD
BEGIN:DAYLIGHT
TZOFFSETFROM:+0100
TZOFFSETTO:+0200
TZNAME:CEST
DTSTART:20270328T010000
END:DAYLIGHT
BEGIN:STANDARD
TZOFFSETFROM:+0200
TZOFFSETTO:+0100
TZNAME:CET
DTSTART:20271031T010000
END:STANDARD
BEGIN:DAYLIGHT
TZOFFSETFROM:+0100
TZOFFSETTO:+0200
TZNAME:CEST
DTSTART:20280326T010000
END:DAYLIGHT
BEGIN:STANDARD
TZOFFSETFROM:+0200
TZOFFSETTO:+0100
TZNAME:CET
DTSTART:20281029T010000
END:STANDARD
END:VTIMEZONE
BEGIN:VEVENT
DTSTART;TZID=Europe/Paris:20261122T080000
DTEND;TZID=Europe/Paris:20261122T170000
DTSTAMP:20260420T032530
CREATED:20260401T215747Z
LAST-MODIFIED:20260401T220556Z
UID:10019477-1795334400-1795366800@www.calendrierdesbrocantes.fr
SUMMARY:Vide greniers de Tarascon-sur-Ariège
DESCRIPTION:Vide greniers de Tarascon-sur-Ariège\, déporté sur la vieille ville (cimetière)
URL:https://www.calendrierdesbrocantes.fr/event/vide-greniers-de-tarascon-sur-ariege/2026-11-22/
LOCATION:Tarascon-sur-Ariège\, Tarascon-sur-Arige\, 09400\, France
CATEGORIES:Vide-greniers
GEO:42.848524;1.604815
END:VEVENT
BEGIN:VEVENT
DTSTART;TZID=Europe/Paris:20261129T080000
DTEND;TZID=Europe/Paris:20261129T170000
DTSTAMP:20260420T032530
CREATED:20260401T215747Z
LAST-MODIFIED:20260401T220556Z
UID:10019478-1795939200-1795971600@www.calendrierdesbrocantes.fr
SUMMARY:Vide greniers de Tarascon-sur-Ariège
DESCRIPTION:Vide greniers de Tarascon-sur-Ariège\, déporté sur la vieille ville (cimetière)
URL:https://www.calendrierdesbrocantes.fr/event/vide-greniers-de-tarascon-sur-ariege/2026-11-29/
LOCATION:Tarascon-sur-Ariège\, Tarascon-sur-Arige\, 09400\, France
CATEGORIES:Vide-greniers
GEO:42.848524;1.604815
END:VEVENT
BEGIN:VEVENT
DTSTART;TZID=Europe/Paris:20261206T080000
DTEND;TZID=Europe/Paris:20261206T170000
DTSTAMP:20260420T032530
CREATED:20260401T215747Z
LAST-MODIFIED:20260401T220556Z
UID:10019479-1796544000-1796576400@www.calendrierdesbrocantes.fr
SUMMARY:Vide greniers de Tarascon-sur-Ariège
DESCRIPTION:Vide greniers de Tarascon-sur-Ariège\, déporté sur la vieille ville (cimetière)
URL:https://www.calendrierdesbrocantes.fr/event/vide-greniers-de-tarascon-sur-ariege/2026-12-06/
LOCATION:Tarascon-sur-Ariège\, Tarascon-sur-Arige\, 09400\, France
CATEGORIES:Vide-greniers
GEO:42.848524;1.604815
END:VEVENT
BEGIN:VEVENT
DTSTART;TZID=Europe/Paris:20261213T080000
DTEND;TZID=Europe/Paris:20261213T170000
DTSTAMP:20260420T032530
CREATED:20260401T215747Z
LAST-MODIFIED:20260401T220556Z
UID:10019480-1797148800-1797181200@www.calendrierdesbrocantes.fr
SUMMARY:Vide greniers de Tarascon-sur-Ariège
DESCRIPTION:Vide greniers de Tarascon-sur-Ariège\, déporté sur la vieille ville (cimetière)
URL:https://www.calendrierdesbrocantes.fr/event/vide-greniers-de-tarascon-sur-ariege/2026-12-13/
LOCATION:Tarascon-sur-Ariège\, Tarascon-sur-Arige\, 09400\, France
CATEGORIES:Vide-greniers
GEO:42.848524;1.604815
END:VEVENT
BEGIN:VEVENT
DTSTART;TZID=Europe/Paris:20261220T080000
DTEND;TZID=Europe/Paris:20261220T170000
DTSTAMP:20260420T032530
CREATED:20260401T215747Z
LAST-MODIFIED:20260401T220556Z
UID:10019481-1797753600-1797786000@www.calendrierdesbrocantes.fr
SUMMARY:Vide greniers de Tarascon-sur-Ariège
DESCRIPTION:Vide greniers de Tarascon-sur-Ariège\, déporté sur la vieille ville (cimetière)
URL:https://www.calendrierdesbrocantes.fr/event/vide-greniers-de-tarascon-sur-ariege/2026-12-20/
LOCATION:Tarascon-sur-Ariège\, Tarascon-sur-Arige\, 09400\, France
CATEGORIES:Vide-greniers
GEO:42.848524;1.604815
END:VEVENT
BEGIN:VEVENT
DTSTART;TZID=Europe/Paris:20261227T080000
DTEND;TZID=Europe/Paris:20261227T170000
DTSTAMP:20260420T032530
CREATED:20260401T215747Z
LAST-MODIFIED:20260401T220556Z
UID:10019482-1798358400-1798390800@www.calendrierdesbrocantes.fr
SUMMARY:Vide greniers de Tarascon-sur-Ariège
DESCRIPTION:Vide greniers de Tarascon-sur-Ariège\, déporté sur la vieille ville (cimetière)
URL:https://www.calendrierdesbrocantes.fr/event/vide-greniers-de-tarascon-sur-ariege/2026-12-27/
LOCATION:Tarascon-sur-Ariège\, Tarascon-sur-Arige\, 09400\, France
CATEGORIES:Vide-greniers
GEO:42.848524;1.604815
END:VEVENT
BEGIN:VEVENT
DTSTART;TZID=Europe/Paris:20270103T080000
DTEND;TZID=Europe/Paris:20270103T170000
DTSTAMP:20260420T032530
CREATED:20260401T215747Z
LAST-MODIFIED:20260401T220556Z
UID:10019483-1798963200-1798995600@www.calendrierdesbrocantes.fr
SUMMARY:Vide greniers de Tarascon-sur-Ariège
DESCRIPTION:Vide greniers de Tarascon-sur-Ariège\, déporté sur la vieille ville (cimetière)
URL:https://www.calendrierdesbrocantes.fr/event/vide-greniers-de-tarascon-sur-ariege/2027-01-03/
LOCATION:Tarascon-sur-Ariège\, Tarascon-sur-Arige\, 09400\, France
CATEGORIES:Vide-greniers
GEO:42.848524;1.604815
END:VEVENT
BEGIN:VEVENT
DTSTART;TZID=Europe/Paris:20270110T080000
DTEND;TZID=Europe/Paris:20270110T170000
DTSTAMP:20260420T032530
CREATED:20260401T215747Z
LAST-MODIFIED:20260401T220556Z
UID:10019484-1799568000-1799600400@www.calendrierdesbrocantes.fr
SUMMARY:Vide greniers de Tarascon-sur-Ariège
DESCRIPTION:Vide greniers de Tarascon-sur-Ariège\, déporté sur la vieille ville (cimetière)
URL:https://www.calendrierdesbrocantes.fr/event/vide-greniers-de-tarascon-sur-ariege/2027-01-10/
LOCATION:Tarascon-sur-Ariège\, Tarascon-sur-Arige\, 09400\, France
CATEGORIES:Vide-greniers
GEO:42.848524;1.604815
END:VEVENT
BEGIN:VEVENT
DTSTART;TZID=Europe/Paris:20270117T080000
DTEND;TZID=Europe/Paris:20270117T170000
DTSTAMP:20260420T032530
CREATED:20260401T215747Z
LAST-MODIFIED:20260401T220556Z
UID:10019485-1800172800-1800205200@www.calendrierdesbrocantes.fr
SUMMARY:Vide greniers de Tarascon-sur-Ariège
DESCRIPTION:Vide greniers de Tarascon-sur-Ariège\, déporté sur la vieille ville (cimetière)
URL:https://www.calendrierdesbrocantes.fr/event/vide-greniers-de-tarascon-sur-ariege/2027-01-17/
LOCATION:Tarascon-sur-Ariège\, Tarascon-sur-Arige\, 09400\, France
CATEGORIES:Vide-greniers
GEO:42.848524;1.604815
END:VEVENT
BEGIN:VEVENT
DTSTART;TZID=Europe/Paris:20270124T080000
DTEND;TZID=Europe/Paris:20270124T170000
DTSTAMP:20260420T032530
CREATED:20260401T215747Z
LAST-MODIFIED:20260401T220556Z
UID:10019486-1800777600-1800810000@www.calendrierdesbrocantes.fr
SUMMARY:Vide greniers de Tarascon-sur-Ariège
DESCRIPTION:Vide greniers de Tarascon-sur-Ariège\, déporté sur la vieille ville (cimetière)
URL:https://www.calendrierdesbrocantes.fr/event/vide-greniers-de-tarascon-sur-ariege/2027-01-24/
LOCATION:Tarascon-sur-Ariège\, Tarascon-sur-Arige\, 09400\, France
CATEGORIES:Vide-greniers
GEO:42.848524;1.604815
END:VEVENT
BEGIN:VEVENT
DTSTART;TZID=Europe/Paris:20270131T080000
DTEND;TZID=Europe/Paris:20270131T170000
DTSTAMP:20260420T032530
CREATED:20260401T215747Z
LAST-MODIFIED:20260401T220556Z
UID:10019487-1801382400-1801414800@www.calendrierdesbrocantes.fr
SUMMARY:Vide greniers de Tarascon-sur-Ariège
DESCRIPTION:Vide greniers de Tarascon-sur-Ariège\, déporté sur la vieille ville (cimetière)
URL:https://www.calendrierdesbrocantes.fr/event/vide-greniers-de-tarascon-sur-ariege/2027-01-31/
LOCATION:Tarascon-sur-Ariège\, Tarascon-sur-Arige\, 09400\, France
CATEGORIES:Vide-greniers
GEO:42.848524;1.604815
END:VEVENT
BEGIN:VEVENT
DTSTART;TZID=Europe/Paris:20270207T080000
DTEND;TZID=Europe/Paris:20270207T170000
DTSTAMP:20260420T032530
CREATED:20260401T215747Z
LAST-MODIFIED:20260401T220556Z
UID:10019488-1801987200-1802019600@www.calendrierdesbrocantes.fr
SUMMARY:Vide greniers de Tarascon-sur-Ariège
DESCRIPTION:Vide greniers de Tarascon-sur-Ariège\, déporté sur la vieille ville (cimetière)
URL:https://www.calendrierdesbrocantes.fr/event/vide-greniers-de-tarascon-sur-ariege/2027-02-07/
LOCATION:Tarascon-sur-Ariège\, Tarascon-sur-Arige\, 09400\, France
CATEGORIES:Vide-greniers
GEO:42.848524;1.604815
END:VEVENT
BEGIN:VEVENT
DTSTART;TZID=Europe/Paris:20270214T080000
DTEND;TZID=Europe/Paris:20270214T170000
DTSTAMP:20260420T032530
CREATED:20260401T215747Z
LAST-MODIFIED:20260401T220556Z
UID:10019489-1802592000-1802624400@www.calendrierdesbrocantes.fr
SUMMARY:Vide greniers de Tarascon-sur-Ariège
DESCRIPTION:Vide greniers de Tarascon-sur-Ariège\, déporté sur la vieille ville (cimetière)
URL:https://www.calendrierdesbrocantes.fr/event/vide-greniers-de-tarascon-sur-ariege/2027-02-14/
LOCATION:Tarascon-sur-Ariège\, Tarascon-sur-Arige\, 09400\, France
CATEGORIES:Vide-greniers
GEO:42.848524;1.604815
END:VEVENT
BEGIN:VEVENT
DTSTART;TZID=Europe/Paris:20270221T080000
DTEND;TZID=Europe/Paris:20270221T170000
DTSTAMP:20260420T032530
CREATED:20260401T215747Z
LAST-MODIFIED:20260401T220556Z
UID:10019490-1803196800-1803229200@www.calendrierdesbrocantes.fr
SUMMARY:Vide greniers de Tarascon-sur-Ariège
DESCRIPTION:Vide greniers de Tarascon-sur-Ariège\, déporté sur la vieille ville (cimetière)
URL:https://www.calendrierdesbrocantes.fr/event/vide-greniers-de-tarascon-sur-ariege/2027-02-21/
LOCATION:Tarascon-sur-Ariège\, Tarascon-sur-Arige\, 09400\, France
CATEGORIES:Vide-greniers
GEO:42.848524;1.604815
END:VEVENT
BEGIN:VEVENT
DTSTART;TZID=Europe/Paris:20270228T080000
DTEND;TZID=Europe/Paris:20270228T170000
DTSTAMP:20260420T032530
CREATED:20260401T215747Z
LAST-MODIFIED:20260401T220556Z
UID:10019491-1803801600-1803834000@www.calendrierdesbrocantes.fr
SUMMARY:Vide greniers de Tarascon-sur-Ariège
DESCRIPTION:Vide greniers de Tarascon-sur-Ariège\, déporté sur la vieille ville (cimetière)
URL:https://www.calendrierdesbrocantes.fr/event/vide-greniers-de-tarascon-sur-ariege/2027-02-28/
LOCATION:Tarascon-sur-Ariège\, Tarascon-sur-Arige\, 09400\, France
CATEGORIES:Vide-greniers
GEO:42.848524;1.604815
END:VEVENT
BEGIN:VEVENT
DTSTART;TZID=Europe/Paris:20270307T080000
DTEND;TZID=Europe/Paris:20270307T170000
DTSTAMP:20260420T032530
CREATED:20260401T215747Z
LAST-MODIFIED:20260401T220556Z
UID:10019492-1804406400-1804438800@www.calendrierdesbrocantes.fr
SUMMARY:Vide greniers de Tarascon-sur-Ariège
DESCRIPTION:Vide greniers de Tarascon-sur-Ariège\, déporté sur la vieille ville (cimetière)
URL:https://www.calendrierdesbrocantes.fr/event/vide-greniers-de-tarascon-sur-ariege/2027-03-07/
LOCATION:Tarascon-sur-Ariège\, Tarascon-sur-Arige\, 09400\, France
CATEGORIES:Vide-greniers
GEO:42.848524;1.604815
END:VEVENT
BEGIN:VEVENT
DTSTART;TZID=Europe/Paris:20270314T080000
DTEND;TZID=Europe/Paris:20270314T170000
DTSTAMP:20260420T032530
CREATED:20260401T215747Z
LAST-MODIFIED:20260401T220556Z
UID:10019493-1805011200-1805043600@www.calendrierdesbrocantes.fr
SUMMARY:Vide greniers de Tarascon-sur-Ariège
DESCRIPTION:Vide greniers de Tarascon-sur-Ariège\, déporté sur la vieille ville (cimetière)
URL:https://www.calendrierdesbrocantes.fr/event/vide-greniers-de-tarascon-sur-ariege/2027-03-14/
LOCATION:Tarascon-sur-Ariège\, Tarascon-sur-Arige\, 09400\, France
CATEGORIES:Vide-greniers
GEO:42.848524;1.604815
END:VEVENT
BEGIN:VEVENT
DTSTART;TZID=Europe/Paris:20270321T080000
DTEND;TZID=Europe/Paris:20270321T170000
DTSTAMP:20260420T032530
CREATED:20260401T215747Z
LAST-MODIFIED:20260401T220556Z
UID:10019494-1805616000-1805648400@www.calendrierdesbrocantes.fr
SUMMARY:Vide greniers de Tarascon-sur-Ariège
DESCRIPTION:Vide greniers de Tarascon-sur-Ariège\, déporté sur la vieille ville (cimetière)
URL:https://www.calendrierdesbrocantes.fr/event/vide-greniers-de-tarascon-sur-ariege/2027-03-21/
LOCATION:Tarascon-sur-Ariège\, Tarascon-sur-Arige\, 09400\, France
CATEGORIES:Vide-greniers
GEO:42.848524;1.604815
END:VEVENT
BEGIN:VEVENT
DTSTART;TZID=Europe/Paris:20270328T080000
DTEND;TZID=Europe/Paris:20270328T170000
DTSTAMP:20260420T032530
CREATED:20260401T215747Z
LAST-MODIFIED:20260401T220556Z
UID:10019495-1806220800-1806253200@www.calendrierdesbrocantes.fr
SUMMARY:Vide greniers de Tarascon-sur-Ariège
DESCRIPTION:Vide greniers de Tarascon-sur-Ariège\, déporté sur la vieille ville (cimetière)
URL:https://www.calendrierdesbrocantes.fr/event/vide-greniers-de-tarascon-sur-ariege/2027-03-28/
LOCATION:Tarascon-sur-Ariège\, Tarascon-sur-Arige\, 09400\, France
CATEGORIES:Vide-greniers
GEO:42.848524;1.604815
END:VEVENT
BEGIN:VEVENT
DTSTART;TZID=Europe/Paris:20270404T080000
DTEND;TZID=Europe/Paris:20270404T170000
DTSTAMP:20260420T032530
CREATED:20260401T215747Z
LAST-MODIFIED:20260401T220556Z
UID:10019496-1806825600-1806858000@www.calendrierdesbrocantes.fr
SUMMARY:Vide greniers de Tarascon-sur-Ariège
DESCRIPTION:Vide greniers de Tarascon-sur-Ariège\, déporté sur la vieille ville (cimetière)
URL:https://www.calendrierdesbrocantes.fr/event/vide-greniers-de-tarascon-sur-ariege/2027-04-04/
LOCATION:Tarascon-sur-Ariège\, Tarascon-sur-Arige\, 09400\, France
CATEGORIES:Vide-greniers
GEO:42.848524;1.604815
END:VEVENT
BEGIN:VEVENT
DTSTART;TZID=Europe/Paris:20270411T080000
DTEND;TZID=Europe/Paris:20270411T170000
DTSTAMP:20260420T032530
CREATED:20260401T215747Z
LAST-MODIFIED:20260401T220556Z
UID:10019497-1807430400-1807462800@www.calendrierdesbrocantes.fr
SUMMARY:Vide greniers de Tarascon-sur-Ariège
DESCRIPTION:Vide greniers de Tarascon-sur-Ariège\, déporté sur la vieille ville (cimetière)
URL:https://www.calendrierdesbrocantes.fr/event/vide-greniers-de-tarascon-sur-ariege/2027-04-11/
LOCATION:Tarascon-sur-Ariège\, Tarascon-sur-Arige\, 09400\, France
CATEGORIES:Vide-greniers
GEO:42.848524;1.604815
END:VEVENT
BEGIN:VEVENT
DTSTART;TZID=Europe/Paris:20270418T080000
DTEND;TZID=Europe/Paris:20270418T170000
DTSTAMP:20260420T032530
CREATED:20260401T215747Z
LAST-MODIFIED:20260401T220556Z
UID:10019498-1808035200-1808067600@www.calendrierdesbrocantes.fr
SUMMARY:Vide greniers de Tarascon-sur-Ariège
DESCRIPTION:Vide greniers de Tarascon-sur-Ariège\, déporté sur la vieille ville (cimetière)
URL:https://www.calendrierdesbrocantes.fr/event/vide-greniers-de-tarascon-sur-ariege/2027-04-18/
LOCATION:Tarascon-sur-Ariège\, Tarascon-sur-Arige\, 09400\, France
CATEGORIES:Vide-greniers
GEO:42.848524;1.604815
END:VEVENT
BEGIN:VEVENT
DTSTART;TZID=Europe/Paris:20270425T080000
DTEND;TZID=Europe/Paris:20270425T170000
DTSTAMP:20260420T032530
CREATED:20260401T215747Z
LAST-MODIFIED:20260401T220556Z
UID:10019499-1808640000-1808672400@www.calendrierdesbrocantes.fr
SUMMARY:Vide greniers de Tarascon-sur-Ariège
DESCRIPTION:Vide greniers de Tarascon-sur-Ariège\, déporté sur la vieille ville (cimetière)
URL:https://www.calendrierdesbrocantes.fr/event/vide-greniers-de-tarascon-sur-ariege/2027-04-25/
LOCATION:Tarascon-sur-Ariège\, Tarascon-sur-Arige\, 09400\, France
CATEGORIES:Vide-greniers
GEO:42.848524;1.604815
END:VEVENT
BEGIN:VEVENT
DTSTART;TZID=Europe/Paris:20270502T080000
DTEND;TZID=Europe/Paris:20270502T170000
DTSTAMP:20260420T032530
CREATED:20260401T215747Z
LAST-MODIFIED:20260401T220556Z
UID:10019500-1809244800-1809277200@www.calendrierdesbrocantes.fr
SUMMARY:Vide greniers de Tarascon-sur-Ariège
DESCRIPTION:Vide greniers de Tarascon-sur-Ariège\, déporté sur la vieille ville (cimetière)
URL:https://www.calendrierdesbrocantes.fr/event/vide-greniers-de-tarascon-sur-ariege/2027-05-02/
LOCATION:Tarascon-sur-Ariège\, Tarascon-sur-Arige\, 09400\, France
CATEGORIES:Vide-greniers
GEO:42.848524;1.604815
END:VEVENT
BEGIN:VEVENT
DTSTART;TZID=Europe/Paris:20270509T080000
DTEND;TZID=Europe/Paris:20270509T170000
DTSTAMP:20260420T032530
CREATED:20260401T215747Z
LAST-MODIFIED:20260401T220556Z
UID:10019501-1809849600-1809882000@www.calendrierdesbrocantes.fr
SUMMARY:Vide greniers de Tarascon-sur-Ariège
DESCRIPTION:Vide greniers de Tarascon-sur-Ariège\, déporté sur la vieille ville (cimetière)
URL:https://www.calendrierdesbrocantes.fr/event/vide-greniers-de-tarascon-sur-ariege/2027-05-09/
LOCATION:Tarascon-sur-Ariège\, Tarascon-sur-Arige\, 09400\, France
CATEGORIES:Vide-greniers
GEO:42.848524;1.604815
END:VEVENT
BEGIN:VEVENT
DTSTART;TZID=Europe/Paris:20270516T080000
DTEND;TZID=Europe/Paris:20270516T170000
DTSTAMP:20260420T032530
CREATED:20260401T215747Z
LAST-MODIFIED:20260401T220556Z
UID:10019502-1810454400-1810486800@www.calendrierdesbrocantes.fr
SUMMARY:Vide greniers de Tarascon-sur-Ariège
DESCRIPTION:Vide greniers de Tarascon-sur-Ariège\, déporté sur la vieille ville (cimetière)
URL:https://www.calendrierdesbrocantes.fr/event/vide-greniers-de-tarascon-sur-ariege/2027-05-16/
LOCATION:Tarascon-sur-Ariège\, Tarascon-sur-Arige\, 09400\, France
CATEGORIES:Vide-greniers
GEO:42.848524;1.604815
END:VEVENT
BEGIN:VEVENT
DTSTART;TZID=Europe/Paris:20270523T080000
DTEND;TZID=Europe/Paris:20270523T170000
DTSTAMP:20260420T032530
CREATED:20260401T215747Z
LAST-MODIFIED:20260401T220556Z
UID:10019503-1811059200-1811091600@www.calendrierdesbrocantes.fr
SUMMARY:Vide greniers de Tarascon-sur-Ariège
DESCRIPTION:Vide greniers de Tarascon-sur-Ariège\, déporté sur la vieille ville (cimetière)
URL:https://www.calendrierdesbrocantes.fr/event/vide-greniers-de-tarascon-sur-ariege/2027-05-23/
LOCATION:Tarascon-sur-Ariège\, Tarascon-sur-Arige\, 09400\, France
CATEGORIES:Vide-greniers
GEO:42.848524;1.604815
END:VEVENT
BEGIN:VEVENT
DTSTART;TZID=Europe/Paris:20270530T080000
DTEND;TZID=Europe/Paris:20270530T170000
DTSTAMP:20260420T032530
CREATED:20260401T215747Z
LAST-MODIFIED:20260401T220556Z
UID:10019504-1811664000-1811696400@www.calendrierdesbrocantes.fr
SUMMARY:Vide greniers de Tarascon-sur-Ariège
DESCRIPTION:Vide greniers de Tarascon-sur-Ariège\, déporté sur la vieille ville (cimetière)
URL:https://www.calendrierdesbrocantes.fr/event/vide-greniers-de-tarascon-sur-ariege/2027-05-30/
LOCATION:Tarascon-sur-Ariège\, Tarascon-sur-Arige\, 09400\, France
CATEGORIES:Vide-greniers
GEO:42.848524;1.604815
END:VEVENT
BEGIN:VEVENT
DTSTART;TZID=Europe/Paris:20270606T080000
DTEND;TZID=Europe/Paris:20270606T170000
DTSTAMP:20260420T032530
CREATED:20260401T215747Z
LAST-MODIFIED:20260401T220556Z
UID:10019505-1812268800-1812301200@www.calendrierdesbrocantes.fr
SUMMARY:Vide greniers de Tarascon-sur-Ariège
DESCRIPTION:Vide greniers de Tarascon-sur-Ariège\, déporté sur la vieille ville (cimetière)
URL:https://www.calendrierdesbrocantes.fr/event/vide-greniers-de-tarascon-sur-ariege/2027-06-06/
LOCATION:Tarascon-sur-Ariège\, Tarascon-sur-Arige\, 09400\, France
CATEGORIES:Vide-greniers
GEO:42.848524;1.604815
END:VEVENT
BEGIN:VEVENT
DTSTART;TZID=Europe/Paris:20270613T080000
DTEND;TZID=Europe/Paris:20270613T170000
DTSTAMP:20260420T032530
CREATED:20260401T215747Z
LAST-MODIFIED:20260401T220556Z
UID:10019506-1812873600-1812906000@www.calendrierdesbrocantes.fr
SUMMARY:Vide greniers de Tarascon-sur-Ariège
DESCRIPTION:Vide greniers de Tarascon-sur-Ariège\, déporté sur la vieille ville (cimetière)
URL:https://www.calendrierdesbrocantes.fr/event/vide-greniers-de-tarascon-sur-ariege/2027-06-13/
LOCATION:Tarascon-sur-Ariège\, Tarascon-sur-Arige\, 09400\, France
CATEGORIES:Vide-greniers
GEO:42.848524;1.604815
END:VEVENT
END:VCALENDAR