BEGIN:VCALENDAR
VERSION:2.0
PRODID:-//Calendrier des brocantes - ECPv6.15.20//NONSGML v1.0//EN
CALSCALE:GREGORIAN
METHOD:PUBLISH
X-ORIGINAL-URL:https://www.calendrierdesbrocantes.fr
X-WR-CALDESC:Évènements pour Calendrier des brocantes
REFRESH-INTERVAL;VALUE=DURATION:PT1H
X-Robots-Tag:noindex
X-PUBLISHED-TTL:PT1H
BEGIN:VTIMEZONE
TZID:Europe/Paris
BEGIN:DAYLIGHT
TZOFFSETFROM:+0100
TZOFFSETTO:+0200
TZNAME:CEST
DTSTART:20300331T010000
END:DAYLIGHT
BEGIN:STANDARD
TZOFFSETFROM:+0200
TZOFFSETTO:+0100
TZNAME:CET
DTSTART:20301027T010000
END:STANDARD
BEGIN:DAYLIGHT
TZOFFSETFROM:+0100
TZOFFSETTO:+0200
TZNAME:CEST
DTSTART:20310330T010000
END:DAYLIGHT
BEGIN:STANDARD
TZOFFSETFROM:+0200
TZOFFSETTO:+0100
TZNAME:CET
DTSTART:20311026T010000
END:STANDARD
BEGIN:DAYLIGHT
TZOFFSETFROM:+0100
TZOFFSETTO:+0200
TZNAME:CEST
DTSTART:20320328T010000
END:DAYLIGHT
BEGIN:STANDARD
TZOFFSETFROM:+0200
TZOFFSETTO:+0100
TZNAME:CET
DTSTART:20321031T010000
END:STANDARD
END:VTIMEZONE
BEGIN:VEVENT
DTSTART;TZID=Europe/Paris:20310420T080000
DTEND;TZID=Europe/Paris:20310420T133000
DTSTAMP:20260424T004509
CREATED:20260421T223432Z
LAST-MODIFIED:20260421T223432Z
UID:10026596-1934438400-1934458200@www.calendrierdesbrocantes.fr
SUMMARY:Brocante de Pamiers
DESCRIPTION:Brocante hebdomadaire de Pamiers \nPlace de la République \nInscriptions obligatoires par téléphone \nTarif : 2€ le mètre linéaire / 3 mètres minimum et 8 mètres maximum \nAfin de garantir le respect et l’hygiène des lieux tous les articles en vente doivent obligatoirement être exposés en hauteur au moyen de tables ou autres dispositifs (portants…). Aucun article ne devra être installé à même le sol à l’exception du mobilier\, des vélos et tout autre objet de hauteur significative \nInstallation des exposants autorisée de 6h00 à 8h00. \nFin de la brocante à 13h00. \nIl est totalement interdit de vendre des articles manufacturés neufs\, toutes armes à en état de marche (couteaux\, poignards\, crans d’arrêt\, baïonnettes\, etc…)\, des produits pouvant se révéler dangereux (alcool\, médicament etc…) ainsi que des liquides et des consommables (alimentation\, parfum\, cosmétique\, produits ménagers…).
URL:https://www.calendrierdesbrocantes.fr/event/brocante-de-pamiers/2031-04-20/
LOCATION:Pamiers\, Place de la République\, Pamiers\, 09100\, France
CATEGORIES:Brocante
ATTACH;FMTTYPE=image/png:https://www.calendrierdesbrocantes.fr/wp-content/uploads/2026/04/pamiers_09100.png
GEO:43.1158257;1.6105641
X-APPLE-STRUCTURED-LOCATION;VALUE=URI;X-ADDRESS=Pamiers Place de la République Pamiers 09100 France;X-APPLE-RADIUS=500;X-TITLE=Place de la République:geo:1.6105641,43.1158257
END:VEVENT
END:VCALENDAR